Workbook

Sheet ①補助金申請
K1: 令和 | U1: 年度 | AA1: 役員名簿
AU2: 色がついているセルが入力箇所です 入力すると白くなります
A3: クラブ名
A4: 役職名 | J4: 氏名 | S4: 任期 | AB4: 住所・連絡先 | AU4: 数式等が入っていない申請書・報告書は末尾にあります。
A5: 会長 | S5: 自 | AB5: 三田市
S6: 至 | AB6: TEL | AU6: ←連絡のつく電話番号を記入ください
A7: 副会長 | S7: 自 | AB7: 三田市
S8: 至 | AB8: TEL
A9: 会計 | S9: 自 | AB9: 三田市
S10: 至 | AB10: TEL
A14: 【年齢別会員数 内訳】
B15: 年齢層 | J15: 男 | N15: 女 | R15: 計 | X15: 年齢層 | AF15: 男 | AJ15: 女 | AN15: 計
A16: 1 | B16: 59歳以下 | L16: 名 | P16: 名 | R16: =J16+N16 -> 0 | T16: 名 | V16: 5 | X16: 75歳～79歳 | AH16: 名 | AL16: 名 | AN16: =AF16+AJ16 -> 0 | AP16: 名
A17: 2 | B17: 60歳～64歳 | L17: 名 | P17: 名 | R17: =J17+N17 -> 0 | T17: 名 | V17: 6 | X17: 80歳～84歳 | AH17: 名 | AL17: 名 | AN17: =AF17+AJ17 -> 0 | AP17: 名
A18: 3 | B18: 65歳～69歳 | L18: 名 | P18: 名 | R18: =J18+N18 -> 0 | T18: 名 | V18: 7 | X18: 85歳以上 | AH18: 名 | AL18: 名 | AN18: =AF18+AJ18 -> 0 | AP18: 名
A19: 4 | B19: 70歳～74歳 | L19: 名 | P19: 名 | R19: =J19+N19 -> 0 | T19: 名 | V19: 合計 | AF19: =SUM(J16:K19,AF16:AG18) -> 0 | AH19: 名 | AJ19: =SUM(N16:O19,AJ16:AK18) -> 0 | AL19: 名 | AN19: =AF19+AJ19 -> 0 | AP19: 名
A21: ※会員数等は、老人クラブ連合会へ提出の会員名簿と必ず一致していること。（4/1現在）
A25: 【口座情報】
A26: 口座名義人 | G26: カナ
G27: 名義
A29: 金融機関名 | M29: □銀行□信用組合 | AB29: □本店□出張所 | AI29: 預金種目 | AM29: □普通 | AT29: ←当てはまるものに☑
M30: □信用金庫□農協 | AB30: □支店 □支所 | AM30: □当座
A31: 金融機関 コード | O31: 店番号 | X31: 口座番号 (右詰め)
A36: 様式第１号（第４条関係）
A38: 補 助 金 等 交 付 申 請 書
AB41: 令和 | AE41: =DBCS(O1) | AG41: 年 | AI41: 4 | AK41: 月 | AM41: 1 | AO41: 日
B43: 三 田 市 長 あて
S44: （申請者） | U44: 住所又は所在地
U46: 〒 | Z46: ‐
V47: 三田市 | Z47: =AF5 -> 0
U49: 団体名または名称
V51: =J3 -> 0
U53: 氏名又は代表者名
V55: =J5 -> 0
S57: （担当者） | U57: 氏名
U59: 電話番号 | AU59: ←連絡のつく電話番号を記入ください
U61: Email
B64: 下記のとおり、補助金等の交付を受けたいので、三田市補助金等交付規則第４条の規定により申請します。
V67: 記
C69: １ 補助金等の名称 | S69: 三田市単位老人クラブ活動事業補助金
C72: ２ 補助事業等の目的 | S72: 単位老人クラブの円滑な事業遂行のため
C75: ３ 補助事業等の内容 | S75: ①社会奉仕活動事業 ②教養講座開催事業 ③健康増進事業
S76: ④ふれあい推進事業 | AC76: （ | AO76: ） | AT76: ←「3 補助事業等の内容」の④、⑤の申請は任意です。 「申請する」・「申請しない」のどちらかを記入してください。
S77: ⑤健康体操活動事業 | AC77: （ | AO77: ）
C79: ４ 補助金等の交付申請額 | S79: 金 | AA79: 円也 | AT79: ←補助金額は会員数及び行う事業によって定められます。
C82: ５ 添付書類
D84: ① 事業計画書
D86: ② 収支予算書
D88: ③ その他（役員名簿）
A91: （市処理欄） | G91: 本人確認 | M91: □ 顔写真付公的証明書 | Y91: □ その他（ | AQ91: ）
G92: 確認担当者 | M92: 所属： | P92: 高齢者支援課 | AD92: 氏名：
A93: ≪事業計画書ＮＯ．１≫ | AQ93: ="[クラブ名："&①補助金申請!$J$3&"]" -> [クラブ名：]
I95: 令和 | L95: =DBCS(O1) | O95: 年度 老人クラブ活動事業 事業計画書
C97: 事業実施期間： 令和 | O97: =DBCS(O1) | R97: 年 ４月 １日 ～ 令和 | AE97: =DBCS(O1)+1 -> #VALUE! | AH97: 年 ３月 ３１日
A98: 【補助対象事業（①社会奉仕活動事業、②教養講座開催事業、③健康増進事業）】
A100: 活動 種別 | E100: 活動内容 | AB100: おもな活動場所 | AM100: 回数
A101: ① 社 会 奉 仕 活 動 事 業
AU102: 色がついているセルが入力箇所です。 文字を入力すると白くなります。 空白がある場合は色つきのままでも問題ございません。
A107: ① 教 養 講 座 開 催 事 業
A113: ① 健 康 増 進 事 業
A119: ≪事業計画書ＮＯ．２≫ | AQ119: ="[クラブ名："&①補助金申請!$J$3&"]" -> [クラブ名：]
A121: 【補助対象事業（④ふれあい推進事業 ⑤健康体操活動事業）】
A123: 活動種別 | K123: 活動内容 | AB123: おもな活動場所 | AL123: 活動回数
A124: ④ふれあい推進事業 | B124: 共生型助け合い（※必須） | D124: (1)体験交流
D127: (2)相談対応等
D128: (3)見守り
D129: (4)友愛訪問
D130: (5)移動支援
D131: (6)買い物支援
D132: (7)ゴミ出し
D133: (8)家事支援
D134: (9)その他
B135: クラブ活動継続の推進(任意) | D135: (1)広報
D136: (2)体験参加
D137: (3)オンライン活動
D138: (4)熱中症対策備品
D139: (5)その他
A140: ⑤健康体操活動事業
A143: 【補助対象外の事業】
A145: 活動内容 | AB145: おもな活動場所 | AL145: 活動回数
A149: 【備考・特記事項（今年度の取り組み予定等）】
M152: 令和 | P152: =O1 -> 0 | S152: 年度 収入支出予算書
A153: 収入 | AQ153: ="[クラブ名："&①補助金申請!$J$3&"]" -> [クラブ名：]
A155: 科 目 | I155: 予算額（円） | Q155: 摘 要
A156: 1 | B156: 前年度繰越金 | AS156: ←前年度の決算書に記載した繰越金と同額にしてください。
A157: 2 | B157: 会費 | AS157: ←会費の内訳もご記入ください。
A158: 3 | B158: 補助金 | I158: =SUM(AH159:AO162) -> 0 | Q158: 市補助金
Q159: ①社会奉仕②教養講座 ③健康増進 | AF159: 計 | AP159: 円
Q160: ④ふれあい推進 | AF160: 計 | AP160: 円
Q161: ⑤健康体操 | AF161: 計 | AP161: 円
Q162: その他補助金 | AF162: 計 | AP162: 円
A163: 4 | B163: 寄付金
A164: 5 | B164: 雑収入
A166: 合計 | I166: =SUM(I156:P164) -> 0
A168: 支出
A170: 事業名 | I170: 予算額（円） | Q170: 摘 要
A171: 1 | B171: ①社会奉仕活動事業 ②教養講座開催事業 ③健康増進事業
A172: 2 | B172: ④ふれあい推進事業
A173: 3 | B173: ⑤健康体操活動事業
A174: 4 | B174: その他事業
...

Sheet ②金銭出納簿
A1: №と同番号が入ります | C1: 令和 | E1: =①補助金申請!O1 -> 0 | G1: 年度 | H1: 金銭出納簿（科目別）
C2: 月 | D2: 日 | E2: № | G2: 区分 | H2: 摘要 | I2: 相手先 | J2: 収入金額 | K2: 支出 | M2: 残額
A3: 入 | B3: 出 | E3: 入 | F3: 出 | K3: 金額 | L3: 補助対象
A4: =E4 -> 1 | B4: =F4 -> 0 | C4: 4 | D4: 1 | E4: 1 | G4: 0 収入 | H4: 前年度繰越金 | I4: 前年度 | M4: =J4 -> 0 | P4: 0 収入
A5: =E5 -> 0 | B5: =F5 -> 0 | M5: =M4+J5-K5 -> 0 | P5: 1 奉仕、教養、健康
A6: =E6 -> 0 | B6: =F6 -> 0 | M6: =M5+J6-K6 -> 0 | P6: 2 ふれあい事業
A7: =E7 -> 0 | B7: =F7 -> 0 | M7: =M6+J7-K7 -> 0 | P7: 3 健康体操
A8: =E8 -> 0 | B8: =F8 -> 0 | M8: =M7+J8-K8 -> 0 | P8: 4 その他事業
A9: =E9 -> 0 | B9: =F9 -> 0 | M9: =M8+J9-K9 -> 0
A10: =E10 -> 0 | B10: =F10 -> 0 | M10: =M9+J10-K10 -> 0
A11: =E11 -> 0 | B11: =F11 -> 0 | M11: =M10+J11-K11 -> 0
A12: =E12 -> 0 | B12: =F12 -> 0 | M12: =M11+J12-K12 -> 0
A13: =E13 -> 0 | B13: =F13 -> 0 | M13: =M12+J13-K13 -> 0
A14: =E14 -> 0 | B14: =F14 -> 0 | M14: =M13+J14-K14 -> 0
A15: =E15 -> 0 | B15: =F15 -> 0 | M15: =M14+J15-K15 -> 0
A16: =E16 -> 0 | B16: =F16 -> 0 | M16: =M15+J16-K16 -> 0
A17: =E17 -> 0 | B17: =F17 -> 0 | M17: =M16+J17-K17 -> 0
A18: =E18 -> 0 | B18: =F18 -> 0 | M18: =M17+J18-K18 -> 0
A19: =E19 -> 0 | B19: =F19 -> 0 | M19: =M18+J19-K19 -> 0
A20: =E20 -> 0 | B20: =F20 -> 0 | M20: =M19+J20-K20 -> 0
... A559: =E559 -> 0 | B559: =F559 -> 0 | M559: =M558+J559-K559 -> 0
H560: 合計 | J560: =SUM(J4:J559) -> 0 | K560: =SUM(K4:K559) -> 0 | L560: =SUM(L4:L559) -> 0 | M560: =J560-K560 -> 0

Sheet ③支出調書
B2: 支出番号 | C2: 1 | D2: ← | E2: 支出番号を入力すると、金銭出納簿の内容が表示されます。
B7: 監査印
B8: 支出番号 | H8: 第 | I8: =VLOOKUP($C$2,②金銭出納簿!$B$4:$L$600,5,FALSE) -> #N/A | L8: 号 | N8: 支出科目
B9: 支出年月日 | F9: 令和 | H9: =IF(J9<=3,②金銭出納簿!$E$1+1,②金銭出納簿!$E$1) -> #N/A | I9: 年 | J9: =VLOOKUP($C$2,②金銭出納簿!$B$4:$L$600,2,FALSE) -> #N/A | K9: 月 | L9: =VLOOKUP($C$2,②金銭出納簿!$B$4:$L$600,3,FALSE) -> #N/A | M9: 日 | N9: =VLOOKUP($C$2,②金銭出納簿!$B$4:$L$600,6,FALSE) -> #N/A
B10: 老人クラブ会長印 | N10: 支出先
C11: 金 | D11: =VLOOKUP($C$2,②金銭出納簿!$B$4:$L$600,10,FALSE) -> #N/A | L11: 円也 | N11: =VLOOKUP($C$2,②金銭出納簿!$B$4:$L$600,8,FALSE) -> #N/A
B12: うち補助対象経費 | G12: 金 | H12: =VLOOKUP($C$2,②金銭出納簿!$B$4:$L$600,11,FALSE) -> #N/A | M12: 円
B13: 支出内訳 | E13: =VLOOKUP($C$2,②金銭出納簿!$B$4:$L$600,7,FALSE) -> #N/A
C16: 上記のとおり支出しました。
D18: =F9&H9&I9&J9&K9&L9&M9 -> #N/A
D20: 老人クラブ会長 様 | N20: 老人クラブ会計
P21: 氏名 | W21: 印
C23: ※領収証等を裏面に添付（関係書類添付 | M23: 葉）

Sheet ④収入調書
B2: 収入番号 | C2: 1 | E2: 収入科目を入れるには、収入のワークシートの収支決算書作成の列を選択してください。
B7: 監査印
B8: 収入番号 | H8: 第 | I8: =VLOOKUP(C2,②金銭出納簿!$A$4:$L$600,5,FALSE) -> 1 | L8: 号 | N8: 収入科目
B9: 収入年月日 | F9: 令和 | H9: =IF($J$9<=3,②金銭出納簿!$E$1+1,②金銭出納簿!$E$1) -> 0 | I9: 年 | J9: =VLOOKUP(C2,②金銭出納簿!$A$4:$L$600,3,FALSE) -> 4 | K9: 月 | L9: =VLOOKUP(C2,②金銭出納簿!$A$4:$L$600,4,FALSE) -> 1 | M9: 日 | N9: =VLOOKUP($C$2,⑤収入!$C$7:$M$600,11,TRUE) -> 0 | Y9: ←収入科目は「⑤収入」のシート で記入したものが反映されます
B10: 老人クラブ会長印 | N10: 収入先
C11: 金 | D11: =VLOOKUP($C$2,②金銭出納簿!$A$4:$L$600,10,FALSE) -> 0 | L11: 円也 | N11: =IF(Z11=0,"",Z11) -> 前年度 | Z11: =VLOOKUP($C$2,②金銭出納簿!$A$4:$L$600,9,FALSE) -> 前年度
B13: 内 訳 | E13: =VLOOKUP($C$2,②金銭出納簿!$A$4:$L$600,8,FALSE) -> 前年度繰越金
C16: 上記のとおり収入しました。
D18: =F9&H9&I9&J9&K9&L9&M9 -> 令和0年4月1日
D20: 老人クラブ会長 様 | N20: 老人クラブ会計
P21: 氏名 | W21: 印
C23: ※関係書類等を裏面に添付（ | K23: 葉）

Sheet ⑤収入
A1: 0 収入
H3: =SUM(H7:H53) -> 0 | I3: =SUM(I7:I53) -> 0 | J3: =SUM(J7:J53) -> 0
A4: 【収入】 | L4: 金銭出納簿の「区分0 収入」のものが自動で入力されます
A5: 月 | B5: 日 | C5: № | E5: 区分 | F5: 摘要 | G5: 相手先 | H5: 収入金額 | I5: 支出 | K5: 累計 | M5: ↓収入調書に反映 されます。収入科目 を選択してください 用に
C6: 入 | D6: 出 | I6: 金額 | J6: 補助対象 | Q6: 収入区分
A7: {=IFERROR(INDEX(②金銭出納簿!$C$4:$M$564,MATCH(LARGE((②金銭出納簿!$G$4:$G$564=$A$1)*1/ROW(②金銭出納簿!$C$4:$C$564),ROWS($A$18:$A18)),1/ROW(②金銭出納簿!$C$4:$C$564),0),COLUMNS($A$5:A$5)),"")} -> 4 | B7: {=IFERROR(INDEX(②金銭出納簿!$C$4:$M$564,MATCH(LARGE((②金銭出納簿!$G$4:$G$564=$A$1)*1/ROW(②金銭出納簿!$C$4:$C$564),ROWS($A$18:$A18)),1/ROW(②金銭出納簿!$C$4:$C$564),0),COLUMNS($A$5:B$5)),"")} -> 1 | C7: {=IFERROR(INDEX(②金銭出納簿!$C$4:$M$564,MATCH(LARGE((②金銭出納簿!$G$4:$G$564=$A$1)*1/ROW(②金銭出納簿!$C$4:$C$564),ROWS($A$18:$A18)),1/ROW(②金銭出納簿!$C$4:$C$564),0),COLUMNS($A$5:C$5)),"")} -> 1 | D7: {=IFERROR(INDEX(②金銭出納簿!$C$4:$M$564,MATCH(LARGE((②金銭出納簿!$G$4:$G$564=$A$1)*1/ROW(②金銭出納簿!$C$4:$C$564),ROWS($A$18:$A18)),1/ROW(②金銭出納簿!$C$4:$C$564),0),COLUMNS($A$5:D$5)),"")} -> 0 | E7: {=IFERROR(INDEX(②金銭出納簿!$C$4:$M$564,MATCH(LARGE((②金銭出納簿!$G$4:$G$564=$A$1)*1/ROW(②金銭出納簿!$C$4:$C$564),ROWS($A$18:$A18)),1/ROW(②金銭出納簿!$C$4:$C$564),0),COLUMNS($A$5:E$5)),"")} -> 0 収入 | F7: {=IFERROR(INDEX(②金銭出納簿!$C$4:$M$564,MATCH(LARGE((②金銭出納簿!$G$4:$G$564=$A$1)*1/ROW(②金銭出納簿!$C$4:$C$564),ROWS($A$18:$A18)),1/ROW(②金銭出納簿!$C$4:$C$564),0),COLUMNS($A$5:F$5)),"")} -> 前年度繰越金 | G7: {=IFERROR(INDEX(②金銭出納簿!$C$4:$M$564,MATCH(LARGE((②金銭出納簿!$G$4:$G$564=$A$1)*1/ROW(②金銭出納簿!$C$4:$C$564),ROWS($A$18:$A18)),1/ROW(②金銭出納簿!$C$4:$C$564),0),COLUMNS($A$5:G$5)),"")} -> 前年度 | H7: {=IFERROR(INDEX(②金銭出納簿!$C$4:$M$564,MATCH(LARGE((②金銭出納簿!$G$4:$G$564=$A$1)*1/ROW(②金銭出納簿!$C$4:$C$564),ROWS($A$18:$A18)),1/ROW(②金銭出納簿!$C$4:$C$564),0),COLUMNS($A$5:H$5)),"")} -> 0 | ... J7: {=IFERROR(INDEX(②金銭出納簿!$C$4:$M$564,MATCH(LARGE((②金銭出納簿!$G$4:$G$564=$A$1)*1/ROW(②金銭出納簿!$C$4:$C$564),ROWS($A$18:$A18)),1/ROW(②金銭出納簿!$C$4:$C$564),0),COLUMNS($A$5:J$5)),"")} -> 0 | K7: =H7 -> 0 | N7: =IF(ISBLANK(M7),"←選択してください","") -> ←選択してください | Q7: 01 会費 | R7: =SUMIF($M$7:$M$53,Q7,$H$7:$H$53) -> 0
A8: {=IFERROR(INDEX(②金銭出納簿!$C$4:$M$564,MATCH(LARGE((②金銭出納簿!$G$4:$G$564=$A$1)*1/ROW(②金銭出納簿!$C$4:$C$564),ROWS($A$18:$A19)),1/ROW(②金銭出納簿!$C$4:$C$564),0),COLUMNS($A$5:A$5)),"")} | B8: {=IFERROR(INDEX(②金銭出納簿!$C$4:$M$564,MATCH(LARGE((②金銭出納簿!$G$4:$G$564=$A$1)*1/ROW(②金銭出納簿!$C$4:$C$564),ROWS($A$18:$A19)),1/ROW(②金銭出納簿!$C$4:$C$564),0),COLUMNS($A$5:B$5)),"")} | C8: {=IFERROR(INDEX(②金銭出納簿!$C$4:$M$564,MATCH(LARGE((②金銭出納簿!$G$4:$G$564=$A$1)*1/ROW(②金銭出納簿!$C$4:$C$564),ROWS($A$18:$A19)),1/ROW(②金銭出納簿!$C$4:$C$564),0),COLUMNS($A$5:C$5)),"")} | D8: {=IFERROR(INDEX(②金銭出納簿!$C$4:$M$564,MATCH(LARGE((②金銭出納簿!$G$4:$G$564=$A$1)*1/ROW(②金銭出納簿!$C$4:$C$564),ROWS($A$18:$A19)),1/ROW(②金銭出納簿!$C$4:$C$564),0),COLUMNS($A$5:D$5)),"")} | E8: {=IFERROR(INDEX(②金銭出納簿!$C$4:$M$564,MATCH(LARGE((②金銭出納簿!$G$4:$G$564=$A$1)*1/ROW(②金銭出納簿!$C$4:$C$564),ROWS($A$18:$A19)),1/ROW(②金銭出納簿!$C$4:$C$564),0),COLUMNS($A$5:E$5)),"")} | F8: {=IFERROR(INDEX(②金銭出納簿!$C$4:$M$564,MATCH(LARGE((②金銭出納簿!$G$4:$G$564=$A$1)*1/ROW(②金銭出納簿!$C$4:$C$564),ROWS($A$18:$A19)),1/ROW(②金銭出納簿!$C$4:$C$564),0),COLUMNS($A$5:F$5)),"")} | G8: {=IFERROR(INDEX(②金銭出納簿!$C$4:$M$564,MATCH(LARGE((②金銭出納簿!$G$4:$G$564=$A$1)*1/ROW(②金銭出納簿!$C$4:$C$564),ROWS($A$18:$A19)),1/ROW(②金銭出納簿!$C$4:$C$564),0),COLUMNS($A$5:G$5)),"")} | H8: {=IFERROR(INDEX(②金銭出納簿!$C$4:$M$564,MATCH(LARGE((②金銭出納簿!$G$4:$G$564=$A$1)*1/ROW(②金銭出納簿!$C$4:$C$564),ROWS($A$18:$A19)),1/ROW(②金銭出納簿!$C$4:$C$564),0),COLUMNS($A$5:H$5)),"")} | ... J8: {=IFERROR(INDEX(②金銭出納簿!$C$4:$M$564,MATCH(LARGE((②金銭出納簿!$G$4:$G$564=$A$1)*1/ROW(②金銭出納簿!$C$4:$C$564),ROWS($A$18:$A19)),1/ROW(②金銭出納簿!$C$4:$C$564),0),COLUMNS($A$5:J$5)),"")} | K8: =IFERROR(K7+H8,"") | N8: =IF(ISBLANK(M8),"←選択してください","") -> ←選択してください | Q8: 02 市補助金 | R8: =SUMIF($M$7:$M$53,Q8,$H$7:$H$53) -> 0
A9: {=IFERROR(INDEX(②金銭出納簿!$C$4:$M$564,MATCH(LARGE((②金銭出納簿!$G$4:$G$564=$A$1)*1/ROW(②金銭出納簿!$C$4:$C$564),ROWS($A$18:$A20)),1/ROW(②金銭出納簿!$C$4:$C$564),0),COLUMNS($A$5:A$5)),"")} | B9: {=IFERROR(INDEX(②金銭出納簿!$C$4:$M$564,MATCH(LARGE((②金銭出納簿!$G$4:$G$564=$A$1)*1/ROW(②金銭出納簿!$C$4:$C$564),ROWS($A$18:$A20)),1/ROW(②金銭出納簿!$C$4:$C$564),0),COLUMNS($A$5:B$5)),"")} | C9: {=IFERROR(INDEX(②金銭出納簿!$C$4:$M$564,MATCH(LARGE((②金銭出納簿!$G$4:$G$564=$A$1)*1/ROW(②金銭出納簿!$C$4:$C$564),ROWS($A$18:$A20)),1/ROW(②金銭出納簿!$C$4:$C$564),0),COLUMNS($A$5:C$5)),"")} | D9: {=IFERROR(INDEX(②金銭出納簿!$C$4:$M$564,MATCH(LARGE((②金銭出納簿!$G$4:$G$564=$A$1)*1/ROW(②金銭出納簿!$C$4:$C$564),ROWS($A$18:$A20)),1/ROW(②金銭出納簿!$C$4:$C$564),0),COLUMNS($A$5:D$5)),"")} | E9: {=IFERROR(INDEX(②金銭出納簿!$C$4:$M$564,MATCH(LARGE((②金銭出納簿!$G$4:$G$564=$A$1)*1/ROW(②金銭出納簿!$C$4:$C$564),ROWS($A$18:$A20)),1/ROW(②金銭出納簿!$C$4:$C$564),0),COLUMNS($A$5:E$5)),"")} | F9: {=IFERROR(INDEX(②金銭出納簿!$C$4:$M$564,MATCH(LARGE((②金銭出納簿!$G$4:$G$564=$A$1)*1/ROW(②金銭出納簿!$C$4:$C$564),ROWS($A$18:$A20)),1/ROW(②金銭出納簿!$C$4:$C$564),0),COLUMNS($A$5:F$5)),"")} | G9: {=IFERROR(INDEX(②金銭出納簿!$C$4:$M$564,MATCH(LARGE((②金銭出納簿!$G$4:$G$564=$A$1)*1/ROW(②金銭出納簿!$C$4:$C$564),ROWS($A$18:$A20)),1/ROW(②金銭出納簿!$C$4:$C$564),0),COLUMNS($A$5:G$5)),"")} | H9: {=IFERROR(INDEX(②金銭出納簿!$C$4:$M$564,MATCH(LARGE((②金銭出納簿!$G$4:$G$564=$A$1)*1/ROW(②金銭出納簿!$C$4:$C$564),ROWS($A$18:$A20)),1/ROW(②金銭出納簿!$C$4:$C$564),0),COLUMNS($A$5:H$5)),"")} | ... J9: {=IFERROR(INDEX(②金銭出納簿!$C$4:$M$564,MATCH(LARGE((②金銭出納簿!$G$4:$G$564=$A$1)*1/ROW(②金銭出納簿!$C$4:$C$564),ROWS($A$18:$A20)),1/ROW(②金銭出納簿!$C$4:$C$564),0),COLUMNS($A$5:J$5)),"")} | K9: =IFERROR(K8+H9,"") | N9: =IF(ISBLANK(M9),"←選択してください","") -> ←選択してください | Q9: 03 その他補助金 | R9: =SUMIF($M$7:$M$53,Q9,$H$7:$H$53) -> 0
A10: {=IFERROR(INDEX(②金銭出納簿!$C$4:$M$564,MATCH(LARGE((②金銭出納簿!$G$4:$G$564=$A$1)*1/ROW(②金銭出納簿!$C$4:$C$564),ROWS($A$18:$A21)),1/ROW(②金銭出納簿!$C$4:$C$564),0),COLUMNS($A$5:A$5)),"")} | B10: {=IFERROR(INDEX(②金銭出納簿!$C$4:$M$564,MATCH(LARGE((②金銭出納簿!$G$4:$G$564=$A$1)*1/ROW(②金銭出納簿!$C$4:$C$564),ROWS($A$18:$A21)),1/ROW(②金銭出納簿!$C$4:$C$564),0),COLUMNS($A$5:B$5)),"")} | C10: {=IFERROR(INDEX(②金銭出納簿!$C$4:$M$564,MATCH(LARGE((②金銭出納簿!$G$4:$G$564=$A$1)*1/ROW(②金銭出納簿!$C$4:$C$564),ROWS($A$18:$A21)),1/ROW(②金銭出納簿!$C$4:$C$564),0),COLUMNS($A$5:C$5)),"")} | D10: {=IFERROR(INDEX(②金銭出納簿!$C$4:$M$564,MATCH(LARGE((②金銭出納簿!$G$4:$G$564=$A$1)*1/ROW(②金銭出納簿!$C$4:$C$564),ROWS($A$18:$A21)),1/ROW(②金銭出納簿!$C$4:$C$564),0),COLUMNS($A$5:D$5)),"")} | E10: {=IFERROR(INDEX(②金銭出納簿!$C$4:$M$564,MATCH(LARGE((②金銭出納簿!$G$4:$G$564=$A$1)*1/ROW(②金銭出納簿!$C$4:$C$564),ROWS($A$18:$A21)),1/ROW(②金銭出納簿!$C$4:$C$564),0),COLUMNS($A$5:E$5)),"")} | F10: {=IFERROR(INDEX(②金銭出納簿!$C$4:$M$564,MATCH(LARGE((②金銭出納簿!$G$4:$G$564=$A$1)*1/ROW(②金銭出納簿!$C$4:$C$564),ROWS($A$18:$A21)),1/ROW(②金銭出納簿!$C$4:$C$564),0),COLUMNS($A$5:F$5)),"")} | G10: {=IFERROR(INDEX(②金銭出納簿!$C$4:$M$564,MATCH(LARGE((②金銭出納簿!$G$4:$G$564=$A$1)*1/ROW(②金銭出納簿!$C$4:$C$564),ROWS($A$18:$A21)),1/ROW(②金銭出納簿!$C$4:$C$564),0),COLUMNS($A$5:G$5)),"")} | H10: {=IFERROR(INDEX(②金銭出納簿!$C$4:$M$564,MATCH(LARGE((②金銭出納簿!$G$4:$G$564=$A$1)*1/ROW(②金銭出納簿!$C$4:$C$564),ROWS($A$18:$A21)),1/ROW(②金銭出納簿!$C$4:$C$564),0),COLUMNS($A$5:H$5)),"")} | ... J10: {=IFERROR(INDEX(②金銭出納簿!$C$4:$M$564,MATCH(LARGE((②金銭出納簿!$G$4:$G$564=$A$1)*1/ROW(②金銭出納簿!$C$4:$C$564),ROWS($A$18:$A21)),1/ROW(②金銭出納簿!$C$4:$C$564),0),COLUMNS($A$5:J$5)),"")} | K10: =IFERROR(K9+H10,"") | N10: =IF(ISBLANK(M10),"←選択してください","") -> ←選択してください | Q10: 04 寄付金 | R10: =SUMIF($M$7:$M$53,Q10,$H$7:$H$53) -> 0
A11: {=IFERROR(INDEX(②金銭出納簿!$C$4:$M$564,MATCH(LARGE((②金銭出納簿!$G$4:$G$564=$A$1)*1/ROW(②金銭出納簿!$C$4:$C$564),ROWS($A$18:$A22)),1/ROW(②金銭出納簿!$C$4:$C$564),0),COLUMNS($A$5:A$5)),"")} | B11: {=IFERROR(INDEX(②金銭出納簿!$C$4:$M$564,MATCH(LARGE((②金銭出納簿!$G$4:$G$564=$A$1)*1/ROW(②金銭出納簿!$C$4:$C$564),ROWS($A$18:$A22)),1/ROW(②金銭出納簿!$C$4:$C$564),0),COLUMNS($A$5:B$5)),"")} | C11: {=IFERROR(INDEX(②金銭出納簿!$C$4:$M$564,MATCH(LARGE((②金銭出納簿!$G$4:$G$564=$A$1)*1/ROW(②金銭出納簿!$C$4:$C$564),ROWS($A$18:$A22)),1/ROW(②金銭出納簿!$C$4:$C$564),0),COLUMNS($A$5:C$5)),"")} | D11: {=IFERROR(INDEX(②金銭出納簿!$C$4:$M$564,MATCH(LARGE((②金銭出納簿!$G$4:$G$564=$A$1)*1/ROW(②金銭出納簿!$C$4:$C$564),ROWS($A$18:$A22)),1/ROW(②金銭出納簿!$C$4:$C$564),0),COLUMNS($A$5:D$5)),"")} | E11: {=IFERROR(INDEX(②金銭出納簿!$C$4:$M$564,MATCH(LARGE((②金銭出納簿!$G$4:$G$564=$A$1)*1/ROW(②金銭出納簿!$C$4:$C$564),ROWS($A$18:$A22)),1/ROW(②金銭出納簿!$C$4:$C$564),0),COLUMNS($A$5:E$5)),"")} | F11: {=IFERROR(INDEX(②金銭出納簿!$C$4:$M$564,MATCH(LARGE((②金銭出納簿!$G$4:$G$564=$A$1)*1/ROW(②金銭出納簿!$C$4:$C$564),ROWS($A$18:$A22)),1/ROW(②金銭出納簿!$C$4:$C$564),0),COLUMNS($A$5:F$5)),"")} | G11: {=IFERROR(INDEX(②金銭出納簿!$C$4:$M$564,MATCH(LARGE((②金銭出納簿!$G$4:$G$564=$A$1)*1/ROW(②金銭出納簿!$C$4:$C$564),ROWS($A$18:$A22)),1/ROW(②金銭出納簿!$C$4:$C$564),0),COLUMNS($A$5:G$5)),"")} | H11: {=IFERROR(INDEX(②金銭出納簿!$C$4:$M$564,MATCH(LARGE((②金銭出納簿!$G$4:$G$564=$A$1)*1/ROW(②金銭出納簿!$C$4:$C$564),ROWS($A$18:$A22)),1/ROW(②金銭出納簿!$C$4:$C$564),0),COLUMNS($A$5:H$5)),"")} | ... J11: {=IFERROR(INDEX(②金銭出納簿!$C$4:$M$564,MATCH(LARGE((②金銭出納簿!$G$4:$G$564=$A$1)*1/ROW(②金銭出納簿!$C$4:$C$564),ROWS($A$18:$A22)),1/ROW(②金銭出納簿!$C$4:$C$564),0),COLUMNS($A$5:J$5)),"")} | K11: =IFERROR(K10+H11,"") | N11: =IF(ISBLANK(M11),"←選択してください","") -> ←選択してください | Q11: 05 雑収入 | R11: =SUMIF($M$7:$M$53,Q11,$H$7:$H$53) -> 0
A12: {=IFERROR(INDEX(②金銭出納簿!$C$4:$M$564,MATCH(LARGE((②金銭出納簿!$G$4:$G$564=$A$1)*1/ROW(②金銭出納簿!$C$4:$C$564),ROWS($A$18:$A23)),1/ROW(②金銭出納簿!$C$4:$C$564),0),COLUMNS($A$5:A$5)),"")} | B12: {=IFERROR(INDEX(②金銭出納簿!$C$4:$M$564,MATCH(LARGE((②金銭出納簿!$G$4:$G$564=$A$1)*1/ROW(②金銭出納簿!$C$4:$C$564),ROWS($A$18:$A23)),1/ROW(②金銭出納簿!$C$4:$C$564),0),COLUMNS($A$5:B$5)),"")} | C12: {=IFERROR(INDEX(②金銭出納簿!$C$4:$M$564,MATCH(LARGE((②金銭出納簿!$G$4:$G$564=$A$1)*1/ROW(②金銭出納簿!$C$4:$C$564),ROWS($A$18:$A23)),1/ROW(②金銭出納簿!$C$4:$C$564),0),COLUMNS($A$5:C$5)),"")} | D12: {=IFERROR(INDEX(②金銭出納簿!$C$4:$M$564,MATCH(LARGE((②金銭出納簿!$G$4:$G$564=$A$1)*1/ROW(②金銭出納簿!$C$4:$C$564),ROWS($A$18:$A23)),1/ROW(②金銭出納簿!$C$4:$C$564),0),COLUMNS($A$5:D$5)),"")} | E12: {=IFERROR(INDEX(②金銭出納簿!$C$4:$M$564,MATCH(LARGE((②金銭出納簿!$G$4:$G$564=$A$1)*1/ROW(②金銭出納簿!$C$4:$C$564),ROWS($A$18:$A23)),1/ROW(②金銭出納簿!$C$4:$C$564),0),COLUMNS($A$5:E$5)),"")} | F12: {=IFERROR(INDEX(②金銭出納簿!$C$4:$M$564,MATCH(LARGE((②金銭出納簿!$G$4:$G$564=$A$1)*1/ROW(②金銭出納簿!$C$4:$C$564),ROWS($A$18:$A23)),1/ROW(②金銭出納簿!$C$4:$C$564),0),COLUMNS($A$5:F$5)),"")} | G12: {=IFERROR(INDEX(②金銭出納簿!$C$4:$M$564,MATCH(LARGE((②金銭出納簿!$G$4:$G$564=$A$1)*1/ROW(②金銭出納簿!$C$4:$C$564),ROWS($A$18:$A23)),1/ROW(②金銭出納簿!$C$4:$C$564),0),COLUMNS($A$5:G$5)),"")} | H12: {=IFERROR(INDEX(②金銭出納簿!$C$4:$M$564,MATCH(LARGE((②金銭出納簿!$G$4:$G$564=$A$1)*1/ROW(②金銭出納簿!$C$4:$C$564),ROWS($A$18:$A23)),1/ROW(②金銭出納簿!$C$4:$C$564),0),COLUMNS($A$5:H$5)),"")} | ... J12: {=IFERROR(INDEX(②金銭出納簿!$C$4:$M$564,MATCH(LARGE((②金銭出納簿!$G$4:$G$564=$A$1)*1/ROW(②金銭出納簿!$C$4:$C$564),ROWS($A$18:$A23)),1/ROW(②金銭出納簿!$C$4:$C$564),0),COLUMNS($A$5:J$5)),"")} | K12: =IFERROR(K11+H12,"") | N12: =IF(ISBLANK(M12),"←選択してください","") -> ←選択してください | Q12: 06 前年度繰越金 | R12: =SUMIF($M$7:$M$53,Q12,$H$7:$H$53) -> 0
A13: {=IFERROR(INDEX(②金銭出納簿!$C$4:$M$564,MATCH(LARGE((②金銭出納簿!$G$4:$G$564=$A$1)*1/ROW(②金銭出納簿!$C$4:$C$564),ROWS($A$18:$A24)),1/ROW(②金銭出納簿!$C$4:$C$564),0),COLUMNS($A$5:A$5)),"")} | B13: {=IFERROR(INDEX(②金銭出納簿!$C$4:$M$564,MATCH(LARGE((②金銭出納簿!$G$4:$G$564=$A$1)*1/ROW(②金銭出納簿!$C$4:$C$564),ROWS($A$18:$A24)),1/ROW(②金銭出納簿!$C$4:$C$564),0),COLUMNS($A$5:B$5)),"")} | C13: {=IFERROR(INDEX(②金銭出納簿!$C$4:$M$564,MATCH(LARGE((②金銭出納簿!$G$4:$G$564=$A$1)*1/ROW(②金銭出納簿!$C$4:$C$564),ROWS($A$18:$A24)),1/ROW(②金銭出納簿!$C$4:$C$564),0),COLUMNS($A$5:C$5)),"")} | D13: {=IFERROR(INDEX(②金銭出納簿!$C$4:$M$564,MATCH(LARGE((②金銭出納簿!$G$4:$G$564=$A$1)*1/ROW(②金銭出納簿!$C$4:$C$564),ROWS($A$18:$A24)),1/ROW(②金銭出納簿!$C$4:$C$564),0),COLUMNS($A$5:D$5)),"")} | E13: {=IFERROR(INDEX(②金銭出納簿!$C$4:$M$564,MATCH(LARGE((②金銭出納簿!$G$4:$G$564=$A$1)*1/ROW(②金銭出納簿!$C$4:$C$564),ROWS($A$18:$A24)),1/ROW(②金銭出納簿!$C$4:$C$564),0),COLUMNS($A$5:E$5)),"")} | F13: {=IFERROR(INDEX(②金銭出納簿!$C$4:$M$564,MATCH(LARGE((②金銭出納簿!$G$4:$G$564=$A$1)*1/ROW(②金銭出納簿!$C$4:$C$564),ROWS($A$18:$A24)),1/ROW(②金銭出納簿!$C$4:$C$564),0),COLUMNS($A$5:F$5)),"")} | G13: {=IFERROR(INDEX(②金銭出納簿!$C$4:$M$564,MATCH(LARGE((②金銭出納簿!$G$4:$G$564=$A$1)*1/ROW(②金銭出納簿!$C$4:$C$564),ROWS($A$18:$A24)),1/ROW(②金銭出納簿!$C$4:$C$564),0),COLUMNS($A$5:G$5)),"")} | H13: {=IFERROR(INDEX(②金銭出納簿!$C$4:$M$564,MATCH(LARGE((②金銭出納簿!$G$4:$G$564=$A$1)*1/ROW(②金銭出納簿!$C$4:$C$564),ROWS($A$18:$A24)),1/ROW(②金銭出納簿!$C$4:$C$564),0),COLUMNS($A$5:H$5)),"")} | ... J13: {=IFERROR(INDEX(②金銭出納簿!$C$4:$M$564,MATCH(LARGE((②金銭出納簿!$G$4:$G$564=$A$1)*1/ROW(②金銭出納簿!$C$4:$C$564),ROWS($A$18:$A24)),1/ROW(②金銭出納簿!$C$4:$C$564),0),COLUMNS($A$5:J$5)),"")} | K13: =IFERROR(K12+H13,"") | N13: =IF(ISBLANK(M13),"←選択してください","") -> ←選択してください | Q13: 07 その他 | R13: =SUMIF($M$7:$M$53,Q13,$H$7:$H$53) -> 0
A14: {=IFERROR(INDEX(②金銭出納簿!$C$4:$M$564,MATCH(LARGE((②金銭出納簿!$G$4:$G$564=$A$1)*1/ROW(②金銭出納簿!$C$4:$C$564),ROWS($A$18:$A25)),1/ROW(②金銭出納簿!$C$4:$C$564),0),COLUMNS($A$5:A$5)),"")} | B14: {=IFERROR(INDEX(②金銭出納簿!$C$4:$M$564,MATCH(LARGE((②金銭出納簿!$G$4:$G$564=$A$1)*1/ROW(②金銭出納簿!$C$4:$C$564),ROWS($A$18:$A25)),1/ROW(②金銭出納簿!$C$4:$C$564),0),COLUMNS($A$5:B$5)),"")} | C14: {=IFERROR(INDEX(②金銭出納簿!$C$4:$M$564,MATCH(LARGE((②金銭出納簿!$G$4:$G$564=$A$1)*1/ROW(②金銭出納簿!$C$4:$C$564),ROWS($A$18:$A25)),1/ROW(②金銭出納簿!$C$4:$C$564),0),COLUMNS($A$5:C$5)),"")} | D14: {=IFERROR(INDEX(②金銭出納簿!$C$4:$M$564,MATCH(LARGE((②金銭出納簿!$G$4:$G$564=$A$1)*1/ROW(②金銭出納簿!$C$4:$C$564),ROWS($A$18:$A25)),1/ROW(②金銭出納簿!$C$4:$C$564),0),COLUMNS($A$5:D$5)),"")} | E14: {=IFERROR(INDEX(②金銭出納簿!$C$4:$M$564,MATCH(LARGE((②金銭出納簿!$G$4:$G$564=$A$1)*1/ROW(②金銭出納簿!$C$4:$C$564),ROWS($A$18:$A25)),1/ROW(②金銭出納簿!$C$4:$C$564),0),COLUMNS($A$5:E$5)),"")} | F14: {=IFERROR(INDEX(②金銭出納簿!$C$4:$M$564,MATCH(LARGE((②金銭出納簿!$G$4:$G$564=$A$1)*1/ROW(②金銭出納簿!$C$4:$C$564),ROWS($A$18:$A25)),1/ROW(②金銭出納簿!$C$4:$C$564),0),COLUMNS($A$5:F$5)),"")} | G14: {=IFERROR(INDEX(②金銭出納簿!$C$4:$M$564,MATCH(LARGE((②金銭出納簿!$G$4:$G$564=$A$1)*1/ROW(②金銭出納簿!$C$4:$C$564),ROWS($A$18:$A25)),1/ROW(②金銭出納簿!$C$4:$C$564),0),COLUMNS($A$5:G$5)),"")} | H14: {=IFERROR(INDEX(②金銭出納簿!$C$4:$M$564,MATCH(LARGE((②金銭出納簿!$G$4:$G$564=$A$1)*1/ROW(②金銭出納簿!$C$4:$C$564),ROWS($A$18:$A25)),1/ROW(②金銭出納簿!$C$4:$C$564),0),COLUMNS($A$5:H$5)),"")} | ... J14: {=IFERROR(INDEX(②金銭出納簿!$C$4:$M$564,MATCH(LARGE((②金銭出納簿!$G$4:$G$564=$A$1)*1/ROW(②金銭出納簿!$C$4:$C$564),ROWS($A$18:$A25)),1/ROW(②金銭出納簿!$C$4:$C$564),0),COLUMNS($A$5:J$5)),"")} | K14: =IFERROR(K13+H14,"") | N14: =IF(ISBLANK(M14),"←選択してください","") -> ←選択してください | Q14: 収入合計 | R14: =SUM(R7:R13) -> 0
A15: {=IFERROR(INDEX(②金銭出納簿!$C$4:$M$564,MATCH(LARGE((②金銭出納簿!$G$4:$G$564=$A$1)*1/ROW(②金銭出納簿!$C$4:$C$564),ROWS($A$18:$A26)),1/ROW(②金銭出納簿!$C$4:$C$564),0),COLUMNS($A$5:A$5)),"")} | B15: {=IFERROR(INDEX(②金銭出納簿!$C$4:$M$564,MATCH(LARGE((②金銭出納簿!$G$4:$G$564=$A$1)*1/ROW(②金銭出納簿!$C$4:$C$564),ROWS($A$18:$A26)),1/ROW(②金銭出納簿!$C$4:$C$564),0),COLUMNS($A$5:B$5)),"")} | C15: {=IFERROR(INDEX(②金銭出納簿!$C$4:$M$564,MATCH(LARGE((②金銭出納簿!$G$4:$G$564=$A$1)*1/ROW(②金銭出納簿!$C$4:$C$564),ROWS($A$18:$A26)),1/ROW(②金銭出納簿!$C$4:$C$564),0),COLUMNS($A$5:C$5)),"")} | D15: {=IFERROR(INDEX(②金銭出納簿!$C$4:$M$564,MATCH(LARGE((②金銭出納簿!$G$4:$G$564=$A$1)*1/ROW(②金銭出納簿!$C$4:$C$564),ROWS($A$18:$A26)),1/ROW(②金銭出納簿!$C$4:$C$564),0),COLUMNS($A$5:D$5)),"")} | E15: {=IFERROR(INDEX(②金銭出納簿!$C$4:$M$564,MATCH(LARGE((②金銭出納簿!$G$4:$G$564=$A$1)*1/ROW(②金銭出納簿!$C$4:$C$564),ROWS($A$18:$A26)),1/ROW(②金銭出納簿!$C$4:$C$564),0),COLUMNS($A$5:E$5)),"")} | F15: {=IFERROR(INDEX(②金銭出納簿!$C$4:$M$564,MATCH(LARGE((②金銭出納簿!$G$4:$G$564=$A$1)*1/ROW(②金銭出納簿!$C$4:$C$564),ROWS($A$18:$A26)),1/ROW(②金銭出納簿!$C$4:$C$564),0),COLUMNS($A$5:F$5)),"")} | G15: {=IFERROR(INDEX(②金銭出納簿!$C$4:$M$564,MATCH(LARGE((②金銭出納簿!$G$4:$G$564=$A$1)*1/ROW(②金銭出納簿!$C$4:$C$564),ROWS($A$18:$A26)),1/ROW(②金銭出納簿!$C$4:$C$564),0),COLUMNS($A$5:G$5)),"")} | H15: {=IFERROR(INDEX(②金銭出納簿!$C$4:$M$564,MATCH(LARGE((②金銭出納簿!$G$4:$G$564=$A$1)*1/ROW(②金銭出納簿!$C$4:$C$564),ROWS($A$18:$A26)),1/ROW(②金銭出納簿!$C$4:$C$564),0),COLUMNS($A$5:H$5)),"")} | ... J15: {=IFERROR(INDEX(②金銭出納簿!$C$4:$M$564,MATCH(LARGE((②金銭出納簿!$G$4:$G$564=$A$1)*1/ROW(②金銭出納簿!$C$4:$C$564),ROWS($A$18:$A26)),1/ROW(②金銭出納簿!$C$4:$C$564),0),COLUMNS($A$5:J$5)),"")} | K15: =IFERROR(K14+H15,"") | N15: =IF(ISBLANK(M15),"←選択してください","") -> ←選択してください
A16: {=IFERROR(INDEX(②金銭出納簿!$C$4:$M$564,MATCH(LARGE((②金銭出納簿!$G$4:$G$564=$A$1)*1/ROW(②金銭出納簿!$C$4:$C$564),ROWS($A$18:$A27)),1/ROW(②金銭出納簿!$C$4:$C$564),0),COLUMNS($A$5:A$5)),"")} | B16: {=IFERROR(INDEX(②金銭出納簿!$C$4:$M$564,MATCH(LARGE((②金銭出納簿!$G$4:$G$564=$A$1)*1/ROW(②金銭出納簿!$C$4:$C$564),ROWS($A$18:$A27)),1/ROW(②金銭出納簿!$C$4:$C$564),0),COLUMNS($A$5:B$5)),"")} | C16: {=IFERROR(INDEX(②金銭出納簿!$C$4:$M$564,MATCH(LARGE((②金銭出納簿!$G$4:$G$564=$A$1)*1/ROW(②金銭出納簿!$C$4:$C$564),ROWS($A$18:$A27)),1/ROW(②金銭出納簿!$C$4:$C$564),0),COLUMNS($A$5:C$5)),"")} | D16: {=IFERROR(INDEX(②金銭出納簿!$C$4:$M$564,MATCH(LARGE((②金銭出納簿!$G$4:$G$564=$A$1)*1/ROW(②金銭出納簿!$C$4:$C$564),ROWS($A$18:$A27)),1/ROW(②金銭出納簿!$C$4:$C$564),0),COLUMNS($A$5:D$5)),"")} | E16: {=IFERROR(INDEX(②金銭出納簿!$C$4:$M$564,MATCH(LARGE((②金銭出納簿!$G$4:$G$564=$A$1)*1/ROW(②金銭出納簿!$C$4:$C$564),ROWS($A$18:$A27)),1/ROW(②金銭出納簿!$C$4:$C$564),0),COLUMNS($A$5:E$5)),"")} | F16: {=IFERROR(INDEX(②金銭出納簿!$C$4:$M$564,MATCH(LARGE((②金銭出納簿!$G$4:$G$564=$A$1)*1/ROW(②金銭出納簿!$C$4:$C$564),ROWS($A$18:$A27)),1/ROW(②金銭出納簿!$C$4:$C$564),0),COLUMNS($A$5:F$5)),"")} | G16: {=IFERROR(INDEX(②金銭出納簿!$C$4:$M$564,MATCH(LARGE((②金銭出納簿!$G$4:$G$564=$A$1)*1/ROW(②金銭出納簿!$C$4:$C$564),ROWS($A$18:$A27)),1/ROW(②金銭出納簿!$C$4:$C$564),0),COLUMNS($A$5:G$5)),"")} | H16: {=IFERROR(INDEX(②金銭出納簿!$C$4:$M$564,MATCH(LARGE((②金銭出納簿!$G$4:$G$564=$A$1)*1/ROW(②金銭出納簿!$C$4:$C$564),ROWS($A$18:$A27)),1/ROW(②金銭出納簿!$C$4:$C$564),0),COLUMNS($A$5:H$5)),"")} | ... J16: {=IFERROR(INDEX(②金銭出納簿!$C$4:$M$564,MATCH(LARGE((②金銭出納簿!$G$4:$G$564=$A$1)*1/ROW(②金銭出納簿!$C$4:$C$564),ROWS($A$18:$A27)),1/ROW(②金銭出納簿!$C$4:$C$564),0),COLUMNS($A$5:J$5)),"")} | K16: =IFERROR(K15+H16,"") | N16: =IF(ISBLANK(M16),"←選択してください","") -> ←選択してください
A17: {=IFERROR(INDEX(②金銭出納簿!$C$4:$M$564,MATCH(LARGE((②金銭出納簿!$G$4:$G$564=$A$1)*1/ROW(②金銭出納簿!$C$4:$C$564),ROWS($A$18:$A28)),1/ROW(②金銭出納簿!$C$4:$C$564),0),COLUMNS($A$5:A$5)),"")} | B17: {=IFERROR(INDEX(②金銭出納簿!$C$4:$M$564,MATCH(LARGE((②金銭出納簿!$G$4:$G$564=$A$1)*1/ROW(②金銭出納簿!$C$4:$C$564),ROWS($A$18:$A28)),1/ROW(②金銭出納簿!$C$4:$C$564),0),COLUMNS($A$5:B$5)),"")} | C17: {=IFERROR(INDEX(②金銭出納簿!$C$4:$M$564,MATCH(LARGE((②金銭出納簿!$G$4:$G$564=$A$1)*1/ROW(②金銭出納簿!$C$4:$C$564),ROWS($A$18:$A28)),1/ROW(②金銭出納簿!$C$4:$C$564),0),COLUMNS($A$5:C$5)),"")} | D17: {=IFERROR(INDEX(②金銭出納簿!$C$4:$M$564,MATCH(LARGE((②金銭出納簿!$G$4:$G$564=$A$1)*1/ROW(②金銭出納簿!$C$4:$C$564),ROWS($A$18:$A28)),1/ROW(②金銭出納簿!$C$4:$C$564),0),COLUMNS($A$5:D$5)),"")} | E17: {=IFERROR(INDEX(②金銭出納簿!$C$4:$M$564,MATCH(LARGE((②金銭出納簿!$G$4:$G$564=$A$1)*1/ROW(②金銭出納簿!$C$4:$C$564),ROWS($A$18:$A28)),1/ROW(②金銭出納簿!$C$4:$C$564),0),COLUMNS($A$5:E$5)),"")} | F17: {=IFERROR(INDEX(②金銭出納簿!$C$4:$M$564,MATCH(LARGE((②金銭出納簿!$G$4:$G$564=$A$1)*1/ROW(②金銭出納簿!$C$4:$C$564),ROWS($A$18:$A28)),1/ROW(②金銭出納簿!$C$4:$C$564),0),COLUMNS($A$5:F$5)),"")} | G17: {=IFERROR(INDEX(②金銭出納簿!$C$4:$M$564,MATCH(LARGE((②金銭出納簿!$G$4:$G$564=$A$1)*1/ROW(②金銭出納簿!$C$4:$C$564),ROWS($A$18:$A28)),1/ROW(②金銭出納簿!$C$4:$C$564),0),COLUMNS($A$5:G$5)),"")} | H17: {=IFERROR(INDEX(②金銭出納簿!$C$4:$M$564,MATCH(LARGE((②金銭出納簿!$G$4:$G$564=$A$1)*1/ROW(②金銭出納簿!$C$4:$C$564),ROWS($A$18:$A28)),1/ROW(②金銭出納簿!$C$4:$C$564),0),COLUMNS($A$5:H$5)),"")} | ... J17: {=IFERROR(INDEX(②金銭出納簿!$C$4:$M$564,MATCH(LARGE((②金銭出納簿!$G$4:$G$564=$A$1)*1/ROW(②金銭出納簿!$C$4:$C$564),ROWS($A$18:$A28)),1/ROW(②金銭出納簿!$C$4:$C$564),0),COLUMNS($A$5:J$5)),"")} | K17: =IFERROR(K16+H17,"") | N17: =IF(ISBLANK(M17),"←選択してください","") -> ←選択してください
A18: {=IFERROR(INDEX(②金銭出納簿!$C$4:$M$564,MATCH(LARGE((②金銭出納簿!$G$4:$G$564=$A$1)*1/ROW(②金銭出納簿!$C$4:$C$564),ROWS($A$18:$A29)),1/ROW(②金銭出納簿!$C$4:$C$564),0),COLUMNS($A$5:A$5)),"")} | B18: {=IFERROR(INDEX(②金銭出納簿!$C$4:$M$564,MATCH(LARGE((②金銭出納簿!$G$4:$G$564=$A$1)*1/ROW(②金銭出納簿!$C$4:$C$564),ROWS($A$18:$A29)),1/ROW(②金銭出納簿!$C$4:$C$564),0),COLUMNS($A$5:B$5)),"")} | C18: {=IFERROR(INDEX(②金銭出納簿!$C$4:$M$564,MATCH(LARGE((②金銭出納簿!$G$4:$G$564=$A$1)*1/ROW(②金銭出納簿!$C$4:$C$564),ROWS($A$18:$A29)),1/ROW(②金銭出納簿!$C$4:$C$564),0),COLUMNS($A$5:C$5)),"")} | D18: {=IFERROR(INDEX(②金銭出納簿!$C$4:$M$564,MATCH(LARGE((②金銭出納簿!$G$4:$G$564=$A$1)*1/ROW(②金銭出納簿!$C$4:$C$564),ROWS($A$18:$A29)),1/ROW(②金銭出納簿!$C$4:$C$564),0),COLUMNS($A$5:D$5)),"")} | E18: {=IFERROR(INDEX(②金銭出納簿!$C$4:$M$564,MATCH(LARGE((②金銭出納簿!$G$4:$G$564=$A$1)*1/ROW(②金銭出納簿!$C$4:$C$564),ROWS($A$18:$A29)),1/ROW(②金銭出納簿!$C$4:$C$564),0),COLUMNS($A$5:E$5)),"")} | F18: {=IFERROR(INDEX(②金銭出納簿!$C$4:$M$564,MATCH(LARGE((②金銭出納簿!$G$4:$G$564=$A$1)*1/ROW(②金銭出納簿!$C$4:$C$564),ROWS($A$18:$A29)),1/ROW(②金銭出納簿!$C$4:$C$564),0),COLUMNS($A$5:F$5)),"")} | G18: {=IFERROR(INDEX(②金銭出納簿!$C$4:$M$564,MATCH(LARGE((②金銭出納簿!$G$4:$G$564=$A$1)*1/ROW(②金銭出納簿!$C$4:$C$564),ROWS($A$18:$A29)),1/ROW(②金銭出納簿!$C$4:$C$564),0),COLUMNS($A$5:G$5)),"")} | H18: {=IFERROR(INDEX(②金銭出納簿!$C$4:$M$564,MATCH(LARGE((②金銭出納簿!$G$4:$G$564=$A$1)*1/ROW(②金銭出納簿!$C$4:$C$564),ROWS($A$18:$A29)),1/ROW(②金銭出納簿!$C$4:$C$564),0),COLUMNS($A$5:H$5)),"")} | ... J18: {=IFERROR(INDEX(②金銭出納簿!$C$4:$M$564,MATCH(LARGE((②金銭出納簿!$G$4:$G$564=$A$1)*1/ROW(②金銭出納簿!$C$4:$C$564),ROWS($A$18:$A29)),1/ROW(②金銭出納簿!$C$4:$C$564),0),COLUMNS($A$5:J$5)),"")} | K18: =IFERROR(K17+H18,"") | N18: =IF(ISBLANK(M18),"←選択してください","") -> ←選択してください
A19: {=IFERROR(INDEX(②金銭出納簿!$C$4:$M$564,MATCH(LARGE((②金銭出納簿!$G$4:$G$564=$A$1)*1/ROW(②金銭出納簿!$C$4:$C$564),ROWS($A$18:$A30)),1/ROW(②金銭出納簿!$C$4:$C$564),0),COLUMNS($A$5:A$5)),"")} | B19: {=IFERROR(INDEX(②金銭出納簿!$C$4:$M$564,MATCH(LARGE((②金銭出納簿!$G$4:$G$564=$A$1)*1/ROW(②金銭出納簿!$C$4:$C$564),ROWS($A$18:$A30)),1/ROW(②金銭出納簿!$C$4:$C$564),0),COLUMNS($A$5:B$5)),"")} | C19: {=IFERROR(INDEX(②金銭出納簿!$C$4:$M$564,MATCH(LARGE((②金銭出納簿!$G$4:$G$564=$A$1)*1/ROW(②金銭出納簿!$C$4:$C$564),ROWS($A$18:$A30)),1/ROW(②金銭出納簿!$C$4:$C$564),0),COLUMNS($A$5:C$5)),"")} | D19: {=IFERROR(INDEX(②金銭出納簿!$C$4:$M$564,MATCH(LARGE((②金銭出納簿!$G$4:$G$564=$A$1)*1/ROW(②金銭出納簿!$C$4:$C$564),ROWS($A$18:$A30)),1/ROW(②金銭出納簿!$C$4:$C$564),0),COLUMNS($A$5:D$5)),"")} | E19: {=IFERROR(INDEX(②金銭出納簿!$C$4:$M$564,MATCH(LARGE((②金銭出納簿!$G$4:$G$564=$A$1)*1/ROW(②金銭出納簿!$C$4:$C$564),ROWS($A$18:$A30)),1/ROW(②金銭出納簿!$C$4:$C$564),0),COLUMNS($A$5:E$5)),"")} | F19: {=IFERROR(INDEX(②金銭出納簿!$C$4:$M$564,MATCH(LARGE((②金銭出納簿!$G$4:$G$564=$A$1)*1/ROW(②金銭出納簿!$C$4:$C$564),ROWS($A$18:$A30)),1/ROW(②金銭出納簿!$C$4:$C$564),0),COLUMNS($A$5:F$5)),"")} | G19: {=IFERROR(INDEX(②金銭出納簿!$C$4:$M$564,MATCH(LARGE((②金銭出納簿!$G$4:$G$564=$A$1)*1/ROW(②金銭出納簿!$C$4:$C$564),ROWS($A$18:$A30)),1/ROW(②金銭出納簿!$C$4:$C$564),0),COLUMNS($A$5:G$5)),"")} | H19: {=IFERROR(INDEX(②金銭出納簿!$C$4:$M$564,MATCH(LARGE((②金銭出納簿!$G$4:$G$564=$A$1)*1/ROW(②金銭出納簿!$C$4:$C$564),ROWS($A$18:$A30)),1/ROW(②金銭出納簿!$C$4:$C$564),0),COLUMNS($A$5:H$5)),"")} | ... J19: {=IFERROR(INDEX(②金銭出納簿!$C$4:$M$564,MATCH(LARGE((②金銭出納簿!$G$4:$G$564=$A$1)*1/ROW(②金銭出納簿!$C$4:$C$564),ROWS($A$18:$A30)),1/ROW(②金銭出納簿!$C$4:$C$564),0),COLUMNS($A$5:J$5)),"")} | K19: =IFERROR(K18+H19,"") | N19: =IF(ISBLANK(M19),"←選択してください","") -> ←選択してください
A20: {=IFERROR(INDEX(②金銭出納簿!$C$4:$M$564,MATCH(LARGE((②金銭出納簿!$G$4:$G$564=$A$1)*1/ROW(②金銭出納簿!$C$4:$C$564),ROWS($A$18:$A31)),1/ROW(②金銭出納簿!$C$4:$C$564),0),COLUMNS($A$5:A$5)),"")} | B20: {=IFERROR(INDEX(②金銭出納簿!$C$4:$M$564,MATCH(LARGE((②金銭出納簿!$G$4:$G$564=$A$1)*1/ROW(②金銭出納簿!$C$4:$C$564),ROWS($A$18:$A31)),1/ROW(②金銭出納簿!$C$4:$C$564),0),COLUMNS($A$5:B$5)),"")} | C20: {=IFERROR(INDEX(②金銭出納簿!$C$4:$M$564,MATCH(LARGE((②金銭出納簿!$G$4:$G$564=$A$1)*1/ROW(②金銭出納簿!$C$4:$C$564),ROWS($A$18:$A31)),1/ROW(②金銭出納簿!$C$4:$C$564),0),COLUMNS($A$5:C$5)),"")} | D20: {=IFERROR(INDEX(②金銭出納簿!$C$4:$M$564,MATCH(LARGE((②金銭出納簿!$G$4:$G$564=$A$1)*1/ROW(②金銭出納簿!$C$4:$C$564),ROWS($A$18:$A31)),1/ROW(②金銭出納簿!$C$4:$C$564),0),COLUMNS($A$5:D$5)),"")} | E20: {=IFERROR(INDEX(②金銭出納簿!$C$4:$M$564,MATCH(LARGE((②金銭出納簿!$G$4:$G$564=$A$1)*1/ROW(②金銭出納簿!$C$4:$C$564),ROWS($A$18:$A31)),1/ROW(②金銭出納簿!$C$4:$C$564),0),COLUMNS($A$5:E$5)),"")} | F20: {=IFERROR(INDEX(②金銭出納簿!$C$4:$M$564,MATCH(LARGE((②金銭出納簿!$G$4:$G$564=$A$1)*1/ROW(②金銭出納簿!$C$4:$C$564),ROWS($A$18:$A31)),1/ROW(②金銭出納簿!$C$4:$C$564),0),COLUMNS($A$5:F$5)),"")} | G20: {=IFERROR(INDEX(②金銭出納簿!$C$4:$M$564,MATCH(LARGE((②金銭出納簿!$G$4:$G$564=$A$1)*1/ROW(②金銭出納簿!$C$4:$C$564),ROWS($A$18:$A31)),1/ROW(②金銭出納簿!$C$4:$C$564),0),COLUMNS($A$5:G$5)),"")} | H20: {=IFERROR(INDEX(②金銭出納簿!$C$4:$M$564,MATCH(LARGE((②金銭出納簿!$G$4:$G$564=$A$1)*1/ROW(②金銭出納簿!$C$4:$C$564),ROWS($A$18:$A31)),1/ROW(②金銭出納簿!$C$4:$C$564),0),COLUMNS($A$5:H$5)),"")} | ... J20: {=IFERROR(INDEX(②金銭出納簿!$C$4:$M$564,MATCH(LARGE((②金銭出納簿!$G$4:$G$564=$A$1)*1/ROW(②金銭出納簿!$C$4:$C$564),ROWS($A$18:$A31)),1/ROW(②金銭出納簿!$C$4:$C$564),0),COLUMNS($A$5:J$5)),"")} | K20: =IFERROR(K19+H20,"") | N20: =IF(ISBLANK(M20),"←選択してください","") -> ←選択してください
A21: {=IFERROR(INDEX(②金銭出納簿!$C$4:$M$564,MATCH(LARGE((②金銭出納簿!$G$4:$G$564=$A$1)*1/ROW(②金銭出納簿!$C$4:$C$564),ROWS($A$18:$A32)),1/ROW(②金銭出納簿!$C$4:$C$564),0),COLUMNS($A$5:A$5)),"")} | B21: {=IFERROR(INDEX(②金銭出納簿!$C$4:$M$564,MATCH(LARGE((②金銭出納簿!$G$4:$G$564=$A$1)*1/ROW(②金銭出納簿!$C$4:$C$564),ROWS($A$18:$A32)),1/ROW(②金銭出納簿!$C$4:$C$564),0),COLUMNS($A$5:B$5)),"")} | C21: {=IFERROR(INDEX(②金銭出納簿!$C$4:$M$564,MATCH(LARGE((②金銭出納簿!$G$4:$G$564=$A$1)*1/ROW(②金銭出納簿!$C$4:$C$564),ROWS($A$18:$A32)),1/ROW(②金銭出納簿!$C$4:$C$564),0),COLUMNS($A$5:C$5)),"")} | D21: {=IFERROR(INDEX(②金銭出納簿!$C$4:$M$564,MATCH(LARGE((②金銭出納簿!$G$4:$G$564=$A$1)*1/ROW(②金銭出納簿!$C$4:$C$564),ROWS($A$18:$A32)),1/ROW(②金銭出納簿!$C$4:$C$564),0),COLUMNS($A$5:D$5)),"")} | E21: {=IFERROR(INDEX(②金銭出納簿!$C$4:$M$564,MATCH(LARGE((②金銭出納簿!$G$4:$G$564=$A$1)*1/ROW(②金銭出納簿!$C$4:$C$564),ROWS($A$18:$A32)),1/ROW(②金銭出納簿!$C$4:$C$564),0),COLUMNS($A$5:E$5)),"")} | F21: {=IFERROR(INDEX(②金銭出納簿!$C$4:$M$564,MATCH(LARGE((②金銭出納簿!$G$4:$G$564=$A$1)*1/ROW(②金銭出納簿!$C$4:$C$564),ROWS($A$18:$A32)),1/ROW(②金銭出納簿!$C$4:$C$564),0),COLUMNS($A$5:F$5)),"")} | G21: {=IFERROR(INDEX(②金銭出納簿!$C$4:$M$564,MATCH(LARGE((②金銭出納簿!$G$4:$G$564=$A$1)*1/ROW(②金銭出納簿!$C$4:$C$564),ROWS($A$18:$A32)),1/ROW(②金銭出納簿!$C$4:$C$564),0),COLUMNS($A$5:G$5)),"")} | H21: {=IFERROR(INDEX(②金銭出納簿!$C$4:$M$564,MATCH(LARGE((②金銭出納簿!$G$4:$G$564=$A$1)*1/ROW(②金銭出納簿!$C$4:$C$564),ROWS($A$18:$A32)),1/ROW(②金銭出納簿!$C$4:$C$564),0),COLUMNS($A$5:H$5)),"")} | ... J21: {=IFERROR(INDEX(②金銭出納簿!$C$4:$M$564,MATCH(LARGE((②金銭出納簿!$G$4:$G$564=$A$1)*1/ROW(②金銭出納簿!$C$4:$C$564),ROWS($A$18:$A32)),1/ROW(②金銭出納簿!$C$4:$C$564),0),COLUMNS($A$5:J$5)),"")} | K21: =IFERROR(K20+H21,"") | N21: =IF(ISBLANK(M21),"←選択してください","") -> ←選択してください
A22: {=IFERROR(INDEX(②金銭出納簿!$C$4:$M$564,MATCH(LARGE((②金銭出納簿!$G$4:$G$564=$A$1)*1/ROW(②金銭出納簿!$C$4:$C$564),ROWS($A$18:$A33)),1/ROW(②金銭出納簿!$C$4:$C$564),0),COLUMNS($A$5:A$5)),"")} | B22: {=IFERROR(INDEX(②金銭出納簿!$C$4:$M$564,MATCH(LARGE((②金銭出納簿!$G$4:$G$564=$A$1)*1/ROW(②金銭出納簿!$C$4:$C$564),ROWS($A$18:$A33)),1/ROW(②金銭出納簿!$C$4:$C$564),0),COLUMNS($A$5:B$5)),"")} | C22: {=IFERROR(INDEX(②金銭出納簿!$C$4:$M$564,MATCH(LARGE((②金銭出納簿!$G$4:$G$564=$A$1)*1/ROW(②金銭出納簿!$C$4:$C$564),ROWS($A$18:$A33)),1/ROW(②金銭出納簿!$C$4:$C$564),0),COLUMNS($A$5:C$5)),"")} | D22: {=IFERROR(INDEX(②金銭出納簿!$C$4:$M$564,MATCH(LARGE((②金銭出納簿!$G$4:$G$564=$A$1)*1/ROW(②金銭出納簿!$C$4:$C$564),ROWS($A$18:$A33)),1/ROW(②金銭出納簿!$C$4:$C$564),0),COLUMNS($A$5:D$5)),"")} | E22: {=IFERROR(INDEX(②金銭出納簿!$C$4:$M$564,MATCH(LARGE((②金銭出納簿!$G$4:$G$564=$A$1)*1/ROW(②金銭出納簿!$C$4:$C$564),ROWS($A$18:$A33)),1/ROW(②金銭出納簿!$C$4:$C$564),0),COLUMNS($A$5:E$5)),"")} | F22: {=IFERROR(INDEX(②金銭出納簿!$C$4:$M$564,MATCH(LARGE((②金銭出納簿!$G$4:$G$564=$A$1)*1/ROW(②金銭出納簿!$C$4:$C$564),ROWS($A$18:$A33)),1/ROW(②金銭出納簿!$C$4:$C$564),0),COLUMNS($A$5:F$5)),"")} | G22: {=IFERROR(INDEX(②金銭出納簿!$C$4:$M$564,MATCH(LARGE((②金銭出納簿!$G$4:$G$564=$A$1)*1/ROW(②金銭出納簿!$C$4:$C$564),ROWS($A$18:$A33)),1/ROW(②金銭出納簿!$C$4:$C$564),0),COLUMNS($A$5:G$5)),"")} | H22: {=IFERROR(INDEX(②金銭出納簿!$C$4:$M$564,MATCH(LARGE((②金銭出納簿!$G$4:$G$564=$A$1)*1/ROW(②金銭出納簿!$C$4:$C$564),ROWS($A$18:$A33)),1/ROW(②金銭出納簿!$C$4:$C$564),0),COLUMNS($A$5:H$5)),"")} | ... J22: {=IFERROR(INDEX(②金銭出納簿!$C$4:$M$564,MATCH(LARGE((②金銭出納簿!$G$4:$G$564=$A$1)*1/ROW(②金銭出納簿!$C$4:$C$564),ROWS($A$18:$A33)),1/ROW(②金銭出納簿!$C$4:$C$564),0),COLUMNS($A$5:J$5)),"")} | K22: =IFERROR(K21+H22,"") | N22: =IF(ISBLANK(M22),"←選択してください","") -> ←選択してください
A23: {=IFERROR(INDEX(②金銭出納簿!$C$4:$M$564,MATCH(LARGE((②金銭出納簿!$G$4:$G$564=$A$1)*1/ROW(②金銭出納簿!$C$4:$C$564),ROWS($A$18:$A34)),1/ROW(②金銭出納簿!$C$4:$C$564),0),COLUMNS($A$5:A$5)),"")} | B23: {=IFERROR(INDEX(②金銭出納簿!$C$4:$M$564,MATCH(LARGE((②金銭出納簿!$G$4:$G$564=$A$1)*1/ROW(②金銭出納簿!$C$4:$C$564),ROWS($A$18:$A34)),1/ROW(②金銭出納簿!$C$4:$C$564),0),COLUMNS($A$5:B$5)),"")} | C23: {=IFERROR(INDEX(②金銭出納簿!$C$4:$M$564,MATCH(LARGE((②金銭出納簿!$G$4:$G$564=$A$1)*1/ROW(②金銭出納簿!$C$4:$C$564),ROWS($A$18:$A34)),1/ROW(②金銭出納簿!$C$4:$C$564),0),COLUMNS($A$5:C$5)),"")} | D23: {=IFERROR(INDEX(②金銭出納簿!$C$4:$M$564,MATCH(LARGE((②金銭出納簿!$G$4:$G$564=$A$1)*1/ROW(②金銭出納簿!$C$4:$C$564),ROWS($A$18:$A34)),1/ROW(②金銭出納簿!$C$4:$C$564),0),COLUMNS($A$5:D$5)),"")} | E23: {=IFERROR(INDEX(②金銭出納簿!$C$4:$M$564,MATCH(LARGE((②金銭出納簿!$G$4:$G$564=$A$1)*1/ROW(②金銭出納簿!$C$4:$C$564),ROWS($A$18:$A34)),1/ROW(②金銭出納簿!$C$4:$C$564),0),COLUMNS($A$5:E$5)),"")} | F23: {=IFERROR(INDEX(②金銭出納簿!$C$4:$M$564,MATCH(LARGE((②金銭出納簿!$G$4:$G$564=$A$1)*1/ROW(②金銭出納簿!$C$4:$C$564),ROWS($A$18:$A34)),1/ROW(②金銭出納簿!$C$4:$C$564),0),COLUMNS($A$5:F$5)),"")} | G23: {=IFERROR(INDEX(②金銭出納簿!$C$4:$M$564,MATCH(LARGE((②金銭出納簿!$G$4:$G$564=$A$1)*1/ROW(②金銭出納簿!$C$4:$C$564),ROWS($A$18:$A34)),1/ROW(②金銭出納簿!$C$4:$C$564),0),COLUMNS($A$5:G$5)),"")} | H23: {=IFERROR(INDEX(②金銭出納簿!$C$4:$M$564,MATCH(LARGE((②金銭出納簿!$G$4:$G$564=$A$1)*1/ROW(②金銭出納簿!$C$4:$C$564),ROWS($A$18:$A34)),1/ROW(②金銭出納簿!$C$4:$C$564),0),COLUMNS($A$5:H$5)),"")} | ... J23: {=IFERROR(INDEX(②金銭出納簿!$C$4:$M$564,MATCH(LARGE((②金銭出納簿!$G$4:$G$564=$A$1)*1/ROW(②金銭出納簿!$C$4:$C$564),ROWS($A$18:$A34)),1/ROW(②金銭出納簿!$C$4:$C$564),0),COLUMNS($A$5:J$5)),"")} | K23: =IFERROR(K22+H23,"") | N23: =IF(ISBLANK(M23),"←選択してください","") -> ←選択してください
A24: {=IFERROR(INDEX(②金銭出納簿!$C$4:$M$564,MATCH(LARGE((②金銭出納簿!$G$4:$G$564=$A$1)*1/ROW(②金銭出納簿!$C$4:$C$564),ROWS($A$18:$A35)),1/ROW(②金銭出納簿!$C$4:$C$564),0),COLUMNS($A$5:A$5)),"")} | B24: {=IFERROR(INDEX(②金銭出納簿!$C$4:$M$564,MATCH(LARGE((②金銭出納簿!$G$4:$G$564=$A$1)*1/ROW(②金銭出納簿!$C$4:$C$564),ROWS($A$18:$A35)),1/ROW(②金銭出納簿!$C$4:$C$564),0),COLUMNS($A$5:B$5)),"")} | C24: {=IFERROR(INDEX(②金銭出納簿!$C$4:$M$564,MATCH(LARGE((②金銭出納簿!$G$4:$G$564=$A$1)*1/ROW(②金銭出納簿!$C$4:$C$564),ROWS($A$18:$A35)),1/ROW(②金銭出納簿!$C$4:$C$564),0),COLUMNS($A$5:C$5)),"")} | D24: {=IFERROR(INDEX(②金銭出納簿!$C$4:$M$564,MATCH(LARGE((②金銭出納簿!$G$4:$G$564=$A$1)*1/ROW(②金銭出納簿!$C$4:$C$564),ROWS($A$18:$A35)),1/ROW(②金銭出納簿!$C$4:$C$564),0),COLUMNS($A$5:D$5)),"")} | E24: {=IFERROR(INDEX(②金銭出納簿!$C$4:$M$564,MATCH(LARGE((②金銭出納簿!$G$4:$G$564=$A$1)*1/ROW(②金銭出納簿!$C$4:$C$564),ROWS($A$18:$A35)),1/ROW(②金銭出納簿!$C$4:$C$564),0),COLUMNS($A$5:E$5)),"")} | F24: {=IFERROR(INDEX(②金銭出納簿!$C$4:$M$564,MATCH(LARGE((②金銭出納簿!$G$4:$G$564=$A$1)*1/ROW(②金銭出納簿!$C$4:$C$564),ROWS($A$18:$A35)),1/ROW(②金銭出納簿!$C$4:$C$564),0),COLUMNS($A$5:F$5)),"")} | G24: {=IFERROR(INDEX(②金銭出納簿!$C$4:$M$564,MATCH(LARGE((②金銭出納簿!$G$4:$G$564=$A$1)*1/ROW(②金銭出納簿!$C$4:$C$564),ROWS($A$18:$A35)),1/ROW(②金銭出納簿!$C$4:$C$564),0),COLUMNS($A$5:G$5)),"")} | H24: {=IFERROR(INDEX(②金銭出納簿!$C$4:$M$564,MATCH(LARGE((②金銭出納簿!$G$4:$G$564=$A$1)*1/ROW(②金銭出納簿!$C$4:$C$564),ROWS($A$18:$A35)),1/ROW(②金銭出納簿!$C$4:$C$564),0),COLUMNS($A$5:H$5)),"")} | ... J24: {=IFERROR(INDEX(②金銭出納簿!$C$4:$M$564,MATCH(LARGE((②金銭出納簿!$G$4:$G$564=$A$1)*1/ROW(②金銭出納簿!$C$4:$C$564),ROWS($A$18:$A35)),1/ROW(②金銭出納簿!$C$4:$C$564),0),COLUMNS($A$5:J$5)),"")} | K24: =IFERROR(K23+H24,"") | N24: =IF(ISBLANK(M24),"←選択してください","") -> ←選択してください
A25: {=IFERROR(INDEX(②金銭出納簿!$C$4:$M$564,MATCH(LARGE((②金銭出納簿!$G$4:$G$564=$A$1)*1/ROW(②金銭出納簿!$C$4:$C$564),ROWS($A$18:$A36)),1/ROW(②金銭出納簿!$C$4:$C$564),0),COLUMNS($A$5:A$5)),"")} | B25: {=IFERROR(INDEX(②金銭出納簿!$C$4:$M$564,MATCH(LARGE((②金銭出納簿!$G$4:$G$564=$A$1)*1/ROW(②金銭出納簿!$C$4:$C$564),ROWS($A$18:$A36)),1/ROW(②金銭出納簿!$C$4:$C$564),0),COLUMNS($A$5:B$5)),"")} | C25: {=IFERROR(INDEX(②金銭出納簿!$C$4:$M$564,MATCH(LARGE((②金銭出納簿!$G$4:$G$564=$A$1)*1/ROW(②金銭出納簿!$C$4:$C$564),ROWS($A$18:$A36)),1/ROW(②金銭出納簿!$C$4:$C$564),0),COLUMNS($A$5:C$5)),"")} | D25: {=IFERROR(INDEX(②金銭出納簿!$C$4:$M$564,MATCH(LARGE((②金銭出納簿!$G$4:$G$564=$A$1)*1/ROW(②金銭出納簿!$C$4:$C$564),ROWS($A$18:$A36)),1/ROW(②金銭出納簿!$C$4:$C$564),0),COLUMNS($A$5:D$5)),"")} | E25: {=IFERROR(INDEX(②金銭出納簿!$C$4:$M$564,MATCH(LARGE((②金銭出納簿!$G$4:$G$564=$A$1)*1/ROW(②金銭出納簿!$C$4:$C$564),ROWS($A$18:$A36)),1/ROW(②金銭出納簿!$C$4:$C$564),0),COLUMNS($A$5:E$5)),"")} | F25: {=IFERROR(INDEX(②金銭出納簿!$C$4:$M$564,MATCH(LARGE((②金銭出納簿!$G$4:$G$564=$A$1)*1/ROW(②金銭出納簿!$C$4:$C$564),ROWS($A$18:$A36)),1/ROW(②金銭出納簿!$C$4:$C$564),0),COLUMNS($A$5:F$5)),"")} | G25: {=IFERROR(INDEX(②金銭出納簿!$C$4:$M$564,MATCH(LARGE((②金銭出納簿!$G$4:$G$564=$A$1)*1/ROW(②金銭出納簿!$C$4:$C$564),ROWS($A$18:$A36)),1/ROW(②金銭出納簿!$C$4:$C$564),0),COLUMNS($A$5:G$5)),"")} | H25: {=IFERROR(INDEX(②金銭出納簿!$C$4:$M$564,MATCH(LARGE((②金銭出納簿!$G$4:$G$564=$A$1)*1/ROW(②金銭出納簿!$C$4:$C$564),ROWS($A$18:$A36)),1/ROW(②金銭出納簿!$C$4:$C$564),0),COLUMNS($A$5:H$5)),"")} | ... J25: {=IFERROR(INDEX(②金銭出納簿!$C$4:$M$564,MATCH(LARGE((②金銭出納簿!$G$4:$G$564=$A$1)*1/ROW(②金銭出納簿!$C$4:$C$564),ROWS($A$18:$A36)),1/ROW(②金銭出納簿!$C$4:$C$564),0),COLUMNS($A$5:J$5)),"")} | K25: =IFERROR(K24+H25,"") | N25: =IF(ISBLANK(M25),"←選択してください","") -> ←選択してください
A26: {=IFERROR(INDEX(②金銭出納簿!$C$4:$M$564,MATCH(LARGE((②金銭出納簿!$G$4:$G$564=$A$1)*1/ROW(②金銭出納簿!$C$4:$C$564),ROWS($A$18:$A37)),1/ROW(②金銭出納簿!$C$4:$C$564),0),COLUMNS($A$5:A$5)),"")} | B26: {=IFERROR(INDEX(②金銭出納簿!$C$4:$M$564,MATCH(LARGE((②金銭出納簿!$G$4:$G$564=$A$1)*1/ROW(②金銭出納簿!$C$4:$C$564),ROWS($A$18:$A37)),1/ROW(②金銭出納簿!$C$4:$C$564),0),COLUMNS($A$5:B$5)),"")} | C26: {=IFERROR(INDEX(②金銭出納簿!$C$4:$M$564,MATCH(LARGE((②金銭出納簿!$G$4:$G$564=$A$1)*1/ROW(②金銭出納簿!$C$4:$C$564),ROWS($A$18:$A37)),1/ROW(②金銭出納簿!$C$4:$C$564),0),COLUMNS($A$5:C$5)),"")} | D26: {=IFERROR(INDEX(②金銭出納簿!$C$4:$M$564,MATCH(LARGE((②金銭出納簿!$G$4:$G$564=$A$1)*1/ROW(②金銭出納簿!$C$4:$C$564),ROWS($A$18:$A37)),1/ROW(②金銭出納簿!$C$4:$C$564),0),COLUMNS($A$5:D$5)),"")} | E26: {=IFERROR(INDEX(②金銭出納簿!$C$4:$M$564,MATCH(LARGE((②金銭出納簿!$G$4:$G$564=$A$1)*1/ROW(②金銭出納簿!$C$4:$C$564),ROWS($A$18:$A37)),1/ROW(②金銭出納簿!$C$4:$C$564),0),COLUMNS($A$5:E$5)),"")} | F26: {=IFERROR(INDEX(②金銭出納簿!$C$4:$M$564,MATCH(LARGE((②金銭出納簿!$G$4:$G$564=$A$1)*1/ROW(②金銭出納簿!$C$4:$C$564),ROWS($A$18:$A37)),1/ROW(②金銭出納簿!$C$4:$C$564),0),COLUMNS($A$5:F$5)),"")} | G26: {=IFERROR(INDEX(②金銭出納簿!$C$4:$M$564,MATCH(LARGE((②金銭出納簿!$G$4:$G$564=$A$1)*1/ROW(②金銭出納簿!$C$4:$C$564),ROWS($A$18:$A37)),1/ROW(②金銭出納簿!$C$4:$C$564),0),COLUMNS($A$5:G$5)),"")} | H26: {=IFERROR(INDEX(②金銭出納簿!$C$4:$M$564,MATCH(LARGE((②金銭出納簿!$G$4:$G$564=$A$1)*1/ROW(②金銭出納簿!$C$4:$C$564),ROWS($A$18:$A37)),1/ROW(②金銭出納簿!$C$4:$C$564),0),COLUMNS($A$5:H$5)),"")} | ... J26: {=IFERROR(INDEX(②金銭出納簿!$C$4:$M$564,MATCH(LARGE((②金銭出納簿!$G$4:$G$564=$A$1)*1/ROW(②金銭出納簿!$C$4:$C$564),ROWS($A$18:$A37)),1/ROW(②金銭出納簿!$C$4:$C$564),0),COLUMNS($A$5:J$5)),"")} | K26: =IFERROR(K25+H26,"") | N26: =IF(ISBLANK(M26),"←選択してください","") -> ←選択してください
... A53: {=IFERROR(INDEX(②金銭出納簿!$C$4:$M$564,MATCH(LARGE((②金銭出納簿!$G$4:$G$564=$A$1)*1/ROW(②金銭出納簿!$C$4:$C$564),ROWS($A$18:$A64)),1/ROW(②金銭出納簿!$C$4:$C$564),0),COLUMNS($A$5:A$5)),"")} | B53: {=IFERROR(INDEX(②金銭出納簿!$C$4:$M$564,MATCH(LARGE((②金銭出納簿!$G$4:$G$564=$A$1)*1/ROW(②金銭出納簿!$C$4:$C$564),ROWS($A$18:$A64)),1/ROW(②金銭出納簿!$C$4:$C$564),0),COLUMNS($A$5:B$5)),"")} | C53: {=IFERROR(INDEX(②金銭出納簿!$C$4:$M$564,MATCH(LARGE((②金銭出納簿!$G$4:$G$564=$A$1)*1/ROW(②金銭出納簿!$C$4:$C$564),ROWS($A$18:$A64)),1/ROW(②金銭出納簿!$C$4:$C$564),0),COLUMNS($A$5:C$5)),"")} | D53: {=IFERROR(INDEX(②金銭出納簿!$C$4:$M$564,MATCH(LARGE((②金銭出納簿!$G$4:$G$564=$A$1)*1/ROW(②金銭出納簿!$C$4:$C$564),ROWS($A$18:$A64)),1/ROW(②金銭出納簿!$C$4:$C$564),0),COLUMNS($A$5:D$5)),"")} | E53: {=IFERROR(INDEX(②金銭出納簿!$C$4:$M$564,MATCH(LARGE((②金銭出納簿!$G$4:$G$564=$A$1)*1/ROW(②金銭出納簿!$C$4:$C$564),ROWS($A$18:$A64)),1/ROW(②金銭出納簿!$C$4:$C$564),0),COLUMNS($A$5:E$5)),"")} | F53: {=IFERROR(INDEX(②金銭出納簿!$C$4:$M$564,MATCH(LARGE((②金銭出納簿!$G$4:$G$564=$A$1)*1/ROW(②金銭出納簿!$C$4:$C$564),ROWS($A$18:$A64)),1/ROW(②金銭出納簿!$C$4:$C$564),0),COLUMNS($A$5:F$5)),"")} | G53: {=IFERROR(INDEX(②金銭出納簿!$C$4:$M$564,MATCH(LARGE((②金銭出納簿!$G$4:$G$564=$A$1)*1/ROW(②金銭出納簿!$C$4:$C$564),ROWS($A$18:$A64)),1/ROW(②金銭出納簿!$C$4:$C$564),0),COLUMNS($A$5:G$5)),"")} | H53: {=IFERROR(INDEX(②金銭出納簿!$C$4:$M$564,MATCH(LARGE((②金銭出納簿!$G$4:$G$564=$A$1)*1/ROW(②金銭出納簿!$C$4:$C$564),ROWS($A$18:$A64)),1/ROW(②金銭出納簿!$C$4:$C$564),0),COLUMNS($A$5:H$5)),"")} | ... J53: {=IFERROR(INDEX(②金銭出納簿!$C$4:$M$564,MATCH(LARGE((②金銭出納簿!$G$4:$G$564=$A$1)*1/ROW(②金銭出納簿!$C$4:$C$564),ROWS($A$18:$A64)),1/ROW(②金銭出納簿!$C$4:$C$564),0),COLUMNS($A$5:J$5)),"")} | K53: =IFERROR(K52+H53,"") | N53: =IF(ISBLANK(M53),"←選択してください","") -> ←選択してください

Sheet ⑥社会奉仕等
A1: 1 奉仕、教養、健康
H3: =SUM(H7:H53) -> 0 | I3: =SUM(I7:I53) -> 0 | J3: =SUM(J7:J53) -> 0
A4: 【社会奉仕、教養講座、健康増進】
A5: 月 | B5: 日 | C5: № | E5: 区分 | F5: 摘要 | G5: 相手先 | H5: 収入金額 | I5: 支出 | K5: 累計
C6: 入 | D6: 出 | I6: 金額 | J6: 補助対象 | K6: 金額 | L6: 補助対象
A7: {=IFERROR(INDEX(②金銭出納簿!$C$4:$M$564,MATCH(LARGE((②金銭出納簿!$G$4:$G$564=$A$1)*1/ROW(②金銭出納簿!$C$4:$C$564),ROWS($A$18:$A18)),1/ROW(②金銭出納簿!$C$4:$C$564),0),COLUMNS($A$5:A$5)),"")} | B7: {=IFERROR(INDEX(②金銭出納簿!$C$4:$M$564,MATCH(LARGE((②金銭出納簿!$G$4:$G$564=$A$1)*1/ROW(②金銭出納簿!$C$4:$C$564),ROWS($A$18:$A18)),1/ROW(②金銭出納簿!$C$4:$C$564),0),COLUMNS($A$5:B$5)),"")} | C7: {=IFERROR(INDEX(②金銭出納簿!$C$4:$M$564,MATCH(LARGE((②金銭出納簿!$G$4:$G$564=$A$1)*1/ROW(②金銭出納簿!$C$4:$C$564),ROWS($A$18:$A18)),1/ROW(②金銭出納簿!$C$4:$C$564),0),COLUMNS($A$5:C$5)),"")} | D7: {=IFERROR(INDEX(②金銭出納簿!$C$4:$M$564,MATCH(LARGE((②金銭出納簿!$G$4:$G$564=$A$1)*1/ROW(②金銭出納簿!$C$4:$C$564),ROWS($A$18:$A18)),1/ROW(②金銭出納簿!$C$4:$C$564),0),COLUMNS($A$5:D$5)),"")} | E7: {=IFERROR(INDEX(②金銭出納簿!$C$4:$M$564,MATCH(LARGE((②金銭出納簿!$G$4:$G$564=$A$1)*1/ROW(②金銭出納簿!$C$4:$C$564),ROWS($A$18:$A18)),1/ROW(②金銭出納簿!$C$4:$C$564),0),COLUMNS($A$5:E$5)),"")} | F7: {=IFERROR(INDEX(②金銭出納簿!$C$4:$M$564,MATCH(LARGE((②金銭出納簿!$G$4:$G$564=$A$1)*1/ROW(②金銭出納簿!$C$4:$C$564),ROWS($A$18:$A18)),1/ROW(②金銭出納簿!$C$4:$C$564),0),COLUMNS($A$5:F$5)),"")} | G7: {=IFERROR(INDEX(②金銭出納簿!$C$4:$M$564,MATCH(LARGE((②金銭出納簿!$G$4:$G$564=$A$1)*1/ROW(②金銭出納簿!$C$4:$C$564),ROWS($A$18:$A18)),1/ROW(②金銭出納簿!$C$4:$C$564),0),COLUMNS($A$5:G$5)),"")} | H7: {=IFERROR(INDEX(②金銭出納簿!$C$4:$M$564,MATCH(LARGE((②金銭出納簿!$G$4:$G$564=$A$1)*1/ROW(②金銭出納簿!$C$4:$C$564),ROWS($A$18:$A18)),1/ROW(②金銭出納簿!$C$4:$C$564),0),COLUMNS($A$5:H$5)),"")} | ... J7: {=IFERROR(INDEX(②金銭出納簿!$C$4:$M$564,MATCH(LARGE((②金銭出納簿!$G$4:$G$564=$A$1)*1/ROW(②金銭出納簿!$C$4:$C$564),ROWS($A$18:$A18)),1/ROW(②金銭出納簿!$C$4:$C$564),0),COLUMNS($A$5:J$5)),"")} | K7: =I7 | L7: =J7 | M7: 金銭出納簿の「1 奉仕、教養、健康」のものが自動で入力されます
A8: {=IFERROR(INDEX(②金銭出納簿!$C$4:$M$564,MATCH(LARGE((②金銭出納簿!$G$4:$G$564=$A$1)*1/ROW(②金銭出納簿!$C$4:$C$564),ROWS($A$18:$A19)),1/ROW(②金銭出納簿!$C$4:$C$564),0),COLUMNS($A$5:A$5)),"")} | B8: {=IFERROR(INDEX(②金銭出納簿!$C$4:$M$564,MATCH(LARGE((②金銭出納簿!$G$4:$G$564=$A$1)*1/ROW(②金銭出納簿!$C$4:$C$564),ROWS($A$18:$A19)),1/ROW(②金銭出納簿!$C$4:$C$564),0),COLUMNS($A$5:B$5)),"")} | C8: {=IFERROR(INDEX(②金銭出納簿!$C$4:$M$564,MATCH(LARGE((②金銭出納簿!$G$4:$G$564=$A$1)*1/ROW(②金銭出納簿!$C$4:$C$564),ROWS($A$18:$A19)),1/ROW(②金銭出納簿!$C$4:$C$564),0),COLUMNS($A$5:C$5)),"")} | D8: {=IFERROR(INDEX(②金銭出納簿!$C$4:$M$564,MATCH(LARGE((②金銭出納簿!$G$4:$G$564=$A$1)*1/ROW(②金銭出納簿!$C$4:$C$564),ROWS($A$18:$A19)),1/ROW(②金銭出納簿!$C$4:$C$564),0),COLUMNS($A$5:D$5)),"")} | E8: {=IFERROR(INDEX(②金銭出納簿!$C$4:$M$564,MATCH(LARGE((②金銭出納簿!$G$4:$G$564=$A$1)*1/ROW(②金銭出納簿!$C$4:$C$564),ROWS($A$18:$A19)),1/ROW(②金銭出納簿!$C$4:$C$564),0),COLUMNS($A$5:E$5)),"")} | F8: {=IFERROR(INDEX(②金銭出納簿!$C$4:$M$564,MATCH(LARGE((②金銭出納簿!$G$4:$G$564=$A$1)*1/ROW(②金銭出納簿!$C$4:$C$564),ROWS($A$18:$A19)),1/ROW(②金銭出納簿!$C$4:$C$564),0),COLUMNS($A$5:F$5)),"")} | G8: {=IFERROR(INDEX(②金銭出納簿!$C$4:$M$564,MATCH(LARGE((②金銭出納簿!$G$4:$G$564=$A$1)*1/ROW(②金銭出納簿!$C$4:$C$564),ROWS($A$18:$A19)),1/ROW(②金銭出納簿!$C$4:$C$564),0),COLUMNS($A$5:G$5)),"")} | H8: {=IFERROR(INDEX(②金銭出納簿!$C$4:$M$564,MATCH(LARGE((②金銭出納簿!$G$4:$G$564=$A$1)*1/ROW(②金銭出納簿!$C$4:$C$564),ROWS($A$18:$A19)),1/ROW(②金銭出納簿!$C$4:$C$564),0),COLUMNS($A$5:H$5)),"")} | ... J8: {=IFERROR(INDEX(②金銭出納簿!$C$4:$M$564,MATCH(LARGE((②金銭出納簿!$G$4:$G$564=$A$1)*1/ROW(②金銭出納簿!$C$4:$C$564),ROWS($A$18:$A19)),1/ROW(②金銭出納簿!$C$4:$C$564),0),COLUMNS($A$5:J$5)),"")} | K8: =IFERROR(K7+I8,"") | L8: =IFERROR(L7+J8,"")
A9: {=IFERROR(INDEX(②金銭出納簿!$C$4:$M$564,MATCH(LARGE((②金銭出納簿!$G$4:$G$564=$A$1)*1/ROW(②金銭出納簿!$C$4:$C$564),ROWS($A$18:$A20)),1/ROW(②金銭出納簿!$C$4:$C$564),0),COLUMNS($A$5:A$5)),"")} | B9: {=IFERROR(INDEX(②金銭出納簿!$C$4:$M$564,MATCH(LARGE((②金銭出納簿!$G$4:$G$564=$A$1)*1/ROW(②金銭出納簿!$C$4:$C$564),ROWS($A$18:$A20)),1/ROW(②金銭出納簿!$C$4:$C$564),0),COLUMNS($A$5:B$5)),"")} | C9: {=IFERROR(INDEX(②金銭出納簿!$C$4:$M$564,MATCH(LARGE((②金銭出納簿!$G$4:$G$564=$A$1)*1/ROW(②金銭出納簿!$C$4:$C$564),ROWS($A$18:$A20)),1/ROW(②金銭出納簿!$C$4:$C$564),0),COLUMNS($A$5:C$5)),"")} | D9: {=IFERROR(INDEX(②金銭出納簿!$C$4:$M$564,MATCH(LARGE((②金銭出納簿!$G$4:$G$564=$A$1)*1/ROW(②金銭出納簿!$C$4:$C$564),ROWS($A$18:$A20)),1/ROW(②金銭出納簿!$C$4:$C$564),0),COLUMNS($A$5:D$5)),"")} | E9: {=IFERROR(INDEX(②金銭出納簿!$C$4:$M$564,MATCH(LARGE((②金銭出納簿!$G$4:$G$564=$A$1)*1/ROW(②金銭出納簿!$C$4:$C$564),ROWS($A$18:$A20)),1/ROW(②金銭出納簿!$C$4:$C$564),0),COLUMNS($A$5:E$5)),"")} | F9: {=IFERROR(INDEX(②金銭出納簿!$C$4:$M$564,MATCH(LARGE((②金銭出納簿!$G$4:$G$564=$A$1)*1/ROW(②金銭出納簿!$C$4:$C$564),ROWS($A$18:$A20)),1/ROW(②金銭出納簿!$C$4:$C$564),0),COLUMNS($A$5:F$5)),"")} | G9: {=IFERROR(INDEX(②金銭出納簿!$C$4:$M$564,MATCH(LARGE((②金銭出納簿!$G$4:$G$564=$A$1)*1/ROW(②金銭出納簿!$C$4:$C$564),ROWS($A$18:$A20)),1/ROW(②金銭出納簿!$C$4:$C$564),0),COLUMNS($A$5:G$5)),"")} | H9: {=IFERROR(INDEX(②金銭出納簿!$C$4:$M$564,MATCH(LARGE((②金銭出納簿!$G$4:$G$564=$A$1)*1/ROW(②金銭出納簿!$C$4:$C$564),ROWS($A$18:$A20)),1/ROW(②金銭出納簿!$C$4:$C$564),0),COLUMNS($A$5:H$5)),"")} | ... J9: {=IFERROR(INDEX(②金銭出納簿!$C$4:$M$564,MATCH(LARGE((②金銭出納簿!$G$4:$G$564=$A$1)*1/ROW(②金銭出納簿!$C$4:$C$564),ROWS($A$18:$A20)),1/ROW(②金銭出納簿!$C$4:$C$564),0),COLUMNS($A$5:J$5)),"")} | K9: =IFERROR(K8+I9,"") | L9: =IFERROR(L8+J9,"")
A10: {=IFERROR(INDEX(②金銭出納簿!$C$4:$M$564,MATCH(LARGE((②金銭出納簿!$G$4:$G$564=$A$1)*1/ROW(②金銭出納簿!$C$4:$C$564),ROWS($A$18:$A21)),1/ROW(②金銭出納簿!$C$4:$C$564),0),COLUMNS($A$5:A$5)),"")} | B10: {=IFERROR(INDEX(②金銭出納簿!$C$4:$M$564,MATCH(LARGE((②金銭出納簿!$G$4:$G$564=$A$1)*1/ROW(②金銭出納簿!$C$4:$C$564),ROWS($A$18:$A21)),1/ROW(②金銭出納簿!$C$4:$C$564),0),COLUMNS($A$5:B$5)),"")} | C10: {=IFERROR(INDEX(②金銭出納簿!$C$4:$M$564,MATCH(LARGE((②金銭出納簿!$G$4:$G$564=$A$1)*1/ROW(②金銭出納簿!$C$4:$C$564),ROWS($A$18:$A21)),1/ROW(②金銭出納簿!$C$4:$C$564),0),COLUMNS($A$5:C$5)),"")} | D10: {=IFERROR(INDEX(②金銭出納簿!$C$4:$M$564,MATCH(LARGE((②金銭出納簿!$G$4:$G$564=$A$1)*1/ROW(②金銭出納簿!$C$4:$C$564),ROWS($A$18:$A21)),1/ROW(②金銭出納簿!$C$4:$C$564),0),COLUMNS($A$5:D$5)),"")} | E10: {=IFERROR(INDEX(②金銭出納簿!$C$4:$M$564,MATCH(LARGE((②金銭出納簿!$G$4:$G$564=$A$1)*1/ROW(②金銭出納簿!$C$4:$C$564),ROWS($A$18:$A21)),1/ROW(②金銭出納簿!$C$4:$C$564),0),COLUMNS($A$5:E$5)),"")} | F10: {=IFERROR(INDEX(②金銭出納簿!$C$4:$M$564,MATCH(LARGE((②金銭出納簿!$G$4:$G$564=$A$1)*1/ROW(②金銭出納簿!$C$4:$C$564),ROWS($A$18:$A21)),1/ROW(②金銭出納簿!$C$4:$C$564),0),COLUMNS($A$5:F$5)),"")} | G10: {=IFERROR(INDEX(②金銭出納簿!$C$4:$M$564,MATCH(LARGE((②金銭出納簿!$G$4:$G$564=$A$1)*1/ROW(②金銭出納簿!$C$4:$C$564),ROWS($A$18:$A21)),1/ROW(②金銭出納簿!$C$4:$C$564),0),COLUMNS($A$5:G$5)),"")} | H10: {=IFERROR(INDEX(②金銭出納簿!$C$4:$M$564,MATCH(LARGE((②金銭出納簿!$G$4:$G$564=$A$1)*1/ROW(②金銭出納簿!$C$4:$C$564),ROWS($A$18:$A21)),1/ROW(②金銭出納簿!$C$4:$C$564),0),COLUMNS($A$5:H$5)),"")} | ... J10: {=IFERROR(INDEX(②金銭出納簿!$C$4:$M$564,MATCH(LARGE((②金銭出納簿!$G$4:$G$564=$A$1)*1/ROW(②金銭出納簿!$C$4:$C$564),ROWS($A$18:$A21)),1/ROW(②金銭出納簿!$C$4:$C$564),0),COLUMNS($A$5:J$5)),"")} | K10: =IFERROR(K9+I10,"") | L10: =IFERROR(L9+J10,"")
A11: {=IFERROR(INDEX(②金銭出納簿!$C$4:$M$564,MATCH(LARGE((②金銭出納簿!$G$4:$G$564=$A$1)*1/ROW(②金銭出納簿!$C$4:$C$564),ROWS($A$18:$A22)),1/ROW(②金銭出納簿!$C$4:$C$564),0),COLUMNS($A$5:A$5)),"")} | B11: {=IFERROR(INDEX(②金銭出納簿!$C$4:$M$564,MATCH(LARGE((②金銭出納簿!$G$4:$G$564=$A$1)*1/ROW(②金銭出納簿!$C$4:$C$564),ROWS($A$18:$A22)),1/ROW(②金銭出納簿!$C$4:$C$564),0),COLUMNS($A$5:B$5)),"")} | C11: {=IFERROR(INDEX(②金銭出納簿!$C$4:$M$564,MATCH(LARGE((②金銭出納簿!$G$4:$G$564=$A$1)*1/ROW(②金銭出納簿!$C$4:$C$564),ROWS($A$18:$A22)),1/ROW(②金銭出納簿!$C$4:$C$564),0),COLUMNS($A$5:C$5)),"")} | D11: {=IFERROR(INDEX(②金銭出納簿!$C$4:$M$564,MATCH(LARGE((②金銭出納簿!$G$4:$G$564=$A$1)*1/ROW(②金銭出納簿!$C$4:$C$564),ROWS($A$18:$A22)),1/ROW(②金銭出納簿!$C$4:$C$564),0),COLUMNS($A$5:D$5)),"")} | E11: {=IFERROR(INDEX(②金銭出納簿!$C$4:$M$564,MATCH(LARGE((②金銭出納簿!$G$4:$G$564=$A$1)*1/ROW(②金銭出納簿!$C$4:$C$564),ROWS($A$18:$A22)),1/ROW(②金銭出納簿!$C$4:$C$564),0),COLUMNS($A$5:E$5)),"")} | F11: {=IFERROR(INDEX(②金銭出納簿!$C$4:$M$564,MATCH(LARGE((②金銭出納簿!$G$4:$G$564=$A$1)*1/ROW(②金銭出納簿!$C$4:$C$564),ROWS($A$18:$A22)),1/ROW(②金銭出納簿!$C$4:$C$564),0),COLUMNS($A$5:F$5)),"")} | G11: {=IFERROR(INDEX(②金銭出納簿!$C$4:$M$564,MATCH(LARGE((②金銭出納簿!$G$4:$G$564=$A$1)*1/ROW(②金銭出納簿!$C$4:$C$564),ROWS($A$18:$A22)),1/ROW(②金銭出納簿!$C$4:$C$564),0),COLUMNS($A$5:G$5)),"")} | H11: {=IFERROR(INDEX(②金銭出納簿!$C$4:$M$564,MATCH(LARGE((②金銭出納簿!$G$4:$G$564=$A$1)*1/ROW(②金銭出納簿!$C$4:$C$564),ROWS($A$18:$A22)),1/ROW(②金銭出納簿!$C$4:$C$564),0),COLUMNS($A$5:H$5)),"")} | ... J11: {=IFERROR(INDEX(②金銭出納簿!$C$4:$M$564,MATCH(LARGE((②金銭出納簿!$G$4:$G$564=$A$1)*1/ROW(②金銭出納簿!$C$4:$C$564),ROWS($A$18:$A22)),1/ROW(②金銭出納簿!$C$4:$C$564),0),COLUMNS($A$5:J$5)),"")} | K11: =IFERROR(K10+I11,"") | L11: =IFERROR(L10+J11,"")
A12: {=IFERROR(INDEX(②金銭出納簿!$C$4:$M$564,MATCH(LARGE((②金銭出納簿!$G$4:$G$564=$A$1)*1/ROW(②金銭出納簿!$C$4:$C$564),ROWS($A$18:$A23)),1/ROW(②金銭出納簿!$C$4:$C$564),0),COLUMNS($A$5:A$5)),"")} | B12: {=IFERROR(INDEX(②金銭出納簿!$C$4:$M$564,MATCH(LARGE((②金銭出納簿!$G$4:$G$564=$A$1)*1/ROW(②金銭出納簿!$C$4:$C$564),ROWS($A$18:$A23)),1/ROW(②金銭出納簿!$C$4:$C$564),0),COLUMNS($A$5:B$5)),"")} | C12: {=IFERROR(INDEX(②金銭出納簿!$C$4:$M$564,MATCH(LARGE((②金銭出納簿!$G$4:$G$564=$A$1)*1/ROW(②金銭出納簿!$C$4:$C$564),ROWS($A$18:$A23)),1/ROW(②金銭出納簿!$C$4:$C$564),0),COLUMNS($A$5:C$5)),"")} | D12: {=IFERROR(INDEX(②金銭出納簿!$C$4:$M$564,MATCH(LARGE((②金銭出納簿!$G$4:$G$564=$A$1)*1/ROW(②金銭出納簿!$C$4:$C$564),ROWS($A$18:$A23)),1/ROW(②金銭出納簿!$C$4:$C$564),0),COLUMNS($A$5:D$5)),"")} | E12: {=IFERROR(INDEX(②金銭出納簿!$C$4:$M$564,MATCH(LARGE((②金銭出納簿!$G$4:$G$564=$A$1)*1/ROW(②金銭出納簿!$C$4:$C$564),ROWS($A$18:$A23)),1/ROW(②金銭出納簿!$C$4:$C$564),0),COLUMNS($A$5:E$5)),"")} | F12: {=IFERROR(INDEX(②金銭出納簿!$C$4:$M$564,MATCH(LARGE((②金銭出納簿!$G$4:$G$564=$A$1)*1/ROW(②金銭出納簿!$C$4:$C$564),ROWS($A$18:$A23)),1/ROW(②金銭出納簿!$C$4:$C$564),0),COLUMNS($A$5:F$5)),"")} | G12: {=IFERROR(INDEX(②金銭出納簿!$C$4:$M$564,MATCH(LARGE((②金銭出納簿!$G$4:$G$564=$A$1)*1/ROW(②金銭出納簿!$C$4:$C$564),ROWS($A$18:$A23)),1/ROW(②金銭出納簿!$C$4:$C$564),0),COLUMNS($A$5:G$5)),"")} | H12: {=IFERROR(INDEX(②金銭出納簿!$C$4:$M$564,MATCH(LARGE((②金銭出納簿!$G$4:$G$564=$A$1)*1/ROW(②金銭出納簿!$C$4:$C$564),ROWS($A$18:$A23)),1/ROW(②金銭出納簿!$C$4:$C$564),0),COLUMNS($A$5:H$5)),"")} | ... J12: {=IFERROR(INDEX(②金銭出納簿!$C$4:$M$564,MATCH(LARGE((②金銭出納簿!$G$4:$G$564=$A$1)*1/ROW(②金銭出納簿!$C$4:$C$564),ROWS($A$18:$A23)),1/ROW(②金銭出納簿!$C$4:$C$564),0),COLUMNS($A$5:J$5)),"")} | K12: =IFERROR(K11+I12,"") | L12: =IFERROR(L11+J12,"")
A13: {=IFERROR(INDEX(②金銭出納簿!$C$4:$M$564,MATCH(LARGE((②金銭出納簿!$G$4:$G$564=$A$1)*1/ROW(②金銭出納簿!$C$4:$C$564),ROWS($A$18:$A24)),1/ROW(②金銭出納簿!$C$4:$C$564),0),COLUMNS($A$5:A$5)),"")} | B13: {=IFERROR(INDEX(②金銭出納簿!$C$4:$M$564,MATCH(LARGE((②金銭出納簿!$G$4:$G$564=$A$1)*1/ROW(②金銭出納簿!$C$4:$C$564),ROWS($A$18:$A24)),1/ROW(②金銭出納簿!$C$4:$C$564),0),COLUMNS($A$5:B$5)),"")} | C13: {=IFERROR(INDEX(②金銭出納簿!$C$4:$M$564,MATCH(LARGE((②金銭出納簿!$G$4:$G$564=$A$1)*1/ROW(②金銭出納簿!$C$4:$C$564),ROWS($A$18:$A24)),1/ROW(②金銭出納簿!$C$4:$C$564),0),COLUMNS($A$5:C$5)),"")} | D13: {=IFERROR(INDEX(②金銭出納簿!$C$4:$M$564,MATCH(LARGE((②金銭出納簿!$G$4:$G$564=$A$1)*1/ROW(②金銭出納簿!$C$4:$C$564),ROWS($A$18:$A24)),1/ROW(②金銭出納簿!$C$4:$C$564),0),COLUMNS($A$5:D$5)),"")} | E13: {=IFERROR(INDEX(②金銭出納簿!$C$4:$M$564,MATCH(LARGE((②金銭出納簿!$G$4:$G$564=$A$1)*1/ROW(②金銭出納簿!$C$4:$C$564),ROWS($A$18:$A24)),1/ROW(②金銭出納簿!$C$4:$C$564),0),COLUMNS($A$5:E$5)),"")} | F13: {=IFERROR(INDEX(②金銭出納簿!$C$4:$M$564,MATCH(LARGE((②金銭出納簿!$G$4:$G$564=$A$1)*1/ROW(②金銭出納簿!$C$4:$C$564),ROWS($A$18:$A24)),1/ROW(②金銭出納簿!$C$4:$C$564),0),COLUMNS($A$5:F$5)),"")} | G13: {=IFERROR(INDEX(②金銭出納簿!$C$4:$M$564,MATCH(LARGE((②金銭出納簿!$G$4:$G$564=$A$1)*1/ROW(②金銭出納簿!$C$4:$C$564),ROWS($A$18:$A24)),1/ROW(②金銭出納簿!$C$4:$C$564),0),COLUMNS($A$5:G$5)),"")} | H13: {=IFERROR(INDEX(②金銭出納簿!$C$4:$M$564,MATCH(LARGE((②金銭出納簿!$G$4:$G$564=$A$1)*1/ROW(②金銭出納簿!$C$4:$C$564),ROWS($A$18:$A24)),1/ROW(②金銭出納簿!$C$4:$C$564),0),COLUMNS($A$5:H$5)),"")} | ... J13: {=IFERROR(INDEX(②金銭出納簿!$C$4:$M$564,MATCH(LARGE((②金銭出納簿!$G$4:$G$564=$A$1)*1/ROW(②金銭出納簿!$C$4:$C$564),ROWS($A$18:$A24)),1/ROW(②金銭出納簿!$C$4:$C$564),0),COLUMNS($A$5:J$5)),"")} | K13: =IFERROR(K12+I13,"") | L13: =IFERROR(L12+J13,"")
A14: {=IFERROR(INDEX(②金銭出納簿!$C$4:$M$564,MATCH(LARGE((②金銭出納簿!$G$4:$G$564=$A$1)*1/ROW(②金銭出納簿!$C$4:$C$564),ROWS($A$18:$A25)),1/ROW(②金銭出納簿!$C$4:$C$564),0),COLUMNS($A$5:A$5)),"")} | B14: {=IFERROR(INDEX(②金銭出納簿!$C$4:$M$564,MATCH(LARGE((②金銭出納簿!$G$4:$G$564=$A$1)*1/ROW(②金銭出納簿!$C$4:$C$564),ROWS($A$18:$A25)),1/ROW(②金銭出納簿!$C$4:$C$564),0),COLUMNS($A$5:B$5)),"")} | C14: {=IFERROR(INDEX(②金銭出納簿!$C$4:$M$564,MATCH(LARGE((②金銭出納簿!$G$4:$G$564=$A$1)*1/ROW(②金銭出納簿!$C$4:$C$564),ROWS($A$18:$A25)),1/ROW(②金銭出納簿!$C$4:$C$564),0),COLUMNS($A$5:C$5)),"")} | D14: {=IFERROR(INDEX(②金銭出納簿!$C$4:$M$564,MATCH(LARGE((②金銭出納簿!$G$4:$G$564=$A$1)*1/ROW(②金銭出納簿!$C$4:$C$564),ROWS($A$18:$A25)),1/ROW(②金銭出納簿!$C$4:$C$564),0),COLUMNS($A$5:D$5)),"")} | E14: {=IFERROR(INDEX(②金銭出納簿!$C$4:$M$564,MATCH(LARGE((②金銭出納簿!$G$4:$G$564=$A$1)*1/ROW(②金銭出納簿!$C$4:$C$564),ROWS($A$18:$A25)),1/ROW(②金銭出納簿!$C$4:$C$564),0),COLUMNS($A$5:E$5)),"")} | F14: {=IFERROR(INDEX(②金銭出納簿!$C$4:$M$564,MATCH(LARGE((②金銭出納簿!$G$4:$G$564=$A$1)*1/ROW(②金銭出納簿!$C$4:$C$564),ROWS($A$18:$A25)),1/ROW(②金銭出納簿!$C$4:$C$564),0),COLUMNS($A$5:F$5)),"")} | G14: {=IFERROR(INDEX(②金銭出納簿!$C$4:$M$564,MATCH(LARGE((②金銭出納簿!$G$4:$G$564=$A$1)*1/ROW(②金銭出納簿!$C$4:$C$564),ROWS($A$18:$A25)),1/ROW(②金銭出納簿!$C$4:$C$564),0),COLUMNS($A$5:G$5)),"")} | H14: {=IFERROR(INDEX(②金銭出納簿!$C$4:$M$564,MATCH(LARGE((②金銭出納簿!$G$4:$G$564=$A$1)*1/ROW(②金銭出納簿!$C$4:$C$564),ROWS($A$18:$A25)),1/ROW(②金銭出納簿!$C$4:$C$564),0),COLUMNS($A$5:H$5)),"")} | ... J14: {=IFERROR(INDEX(②金銭出納簿!$C$4:$M$564,MATCH(LARGE((②金銭出納簿!$G$4:$G$564=$A$1)*1/ROW(②金銭出納簿!$C$4:$C$564),ROWS($A$18:$A25)),1/ROW(②金銭出納簿!$C$4:$C$564),0),COLUMNS($A$5:J$5)),"")} | K14: =IFERROR(K13+I14,"") | L14: =IFERROR(L13+J14,"")
A15: {=IFERROR(INDEX(②金銭出納簿!$C$4:$M$564,MATCH(LARGE((②金銭出納簿!$G$4:$G$564=$A$1)*1/ROW(②金銭出納簿!$C$4:$C$564),ROWS($A$18:$A26)),1/ROW(②金銭出納簿!$C$4:$C$564),0),COLUMNS($A$5:A$5)),"")} | B15: {=IFERROR(INDEX(②金銭出納簿!$C$4:$M$564,MATCH(LARGE((②金銭出納簿!$G$4:$G$564=$A$1)*1/ROW(②金銭出納簿!$C$4:$C$564),ROWS($A$18:$A26)),1/ROW(②金銭出納簿!$C$4:$C$564),0),COLUMNS($A$5:B$5)),"")} | C15: {=IFERROR(INDEX(②金銭出納簿!$C$4:$M$564,MATCH(LARGE((②金銭出納簿!$G$4:$G$564=$A$1)*1/ROW(②金銭出納簿!$C$4:$C$564),ROWS($A$18:$A26)),1/ROW(②金銭出納簿!$C$4:$C$564),0),COLUMNS($A$5:C$5)),"")} | D15: {=IFERROR(INDEX(②金銭出納簿!$C$4:$M$564,MATCH(LARGE((②金銭出納簿!$G$4:$G$564=$A$1)*1/ROW(②金銭出納簿!$C$4:$C$564),ROWS($A$18:$A26)),1/ROW(②金銭出納簿!$C$4:$C$564),0),COLUMNS($A$5:D$5)),"")} | E15: {=IFERROR(INDEX(②金銭出納簿!$C$4:$M$564,MATCH(LARGE((②金銭出納簿!$G$4:$G$564=$A$1)*1/ROW(②金銭出納簿!$C$4:$C$564),ROWS($A$18:$A26)),1/ROW(②金銭出納簿!$C$4:$C$564),0),COLUMNS($A$5:E$5)),"")} | F15: {=IFERROR(INDEX(②金銭出納簿!$C$4:$M$564,MATCH(LARGE((②金銭出納簿!$G$4:$G$564=$A$1)*1/ROW(②金銭出納簿!$C$4:$C$564),ROWS($A$18:$A26)),1/ROW(②金銭出納簿!$C$4:$C$564),0),COLUMNS($A$5:F$5)),"")} | G15: {=IFERROR(INDEX(②金銭出納簿!$C$4:$M$564,MATCH(LARGE((②金銭出納簿!$G$4:$G$564=$A$1)*1/ROW(②金銭出納簿!$C$4:$C$564),ROWS($A$18:$A26)),1/ROW(②金銭出納簿!$C$4:$C$564),0),COLUMNS($A$5:G$5)),"")} | H15: {=IFERROR(INDEX(②金銭出納簿!$C$4:$M$564,MATCH(LARGE((②金銭出納簿!$G$4:$G$564=$A$1)*1/ROW(②金銭出納簿!$C$4:$C$564),ROWS($A$18:$A26)),1/ROW(②金銭出納簿!$C$4:$C$564),0),COLUMNS($A$5:H$5)),"")} | ... J15: {=IFERROR(INDEX(②金銭出納簿!$C$4:$M$564,MATCH(LARGE((②金銭出納簿!$G$4:$G$564=$A$1)*1/ROW(②金銭出納簿!$C$4:$C$564),ROWS($A$18:$A26)),1/ROW(②金銭出納簿!$C$4:$C$564),0),COLUMNS($A$5:J$5)),"")} | K15: =IFERROR(K14+I15,"") | L15: =IFERROR(L14+J15,"")
A16: {=IFERROR(INDEX(②金銭出納簿!$C$4:$M$564,MATCH(LARGE((②金銭出納簿!$G$4:$G$564=$A$1)*1/ROW(②金銭出納簿!$C$4:$C$564),ROWS($A$18:$A27)),1/ROW(②金銭出納簿!$C$4:$C$564),0),COLUMNS($A$5:A$5)),"")} | B16: {=IFERROR(INDEX(②金銭出納簿!$C$4:$M$564,MATCH(LARGE((②金銭出納簿!$G$4:$G$564=$A$1)*1/ROW(②金銭出納簿!$C$4:$C$564),ROWS($A$18:$A27)),1/ROW(②金銭出納簿!$C$4:$C$564),0),COLUMNS($A$5:B$5)),"")} | C16: {=IFERROR(INDEX(②金銭出納簿!$C$4:$M$564,MATCH(LARGE((②金銭出納簿!$G$4:$G$564=$A$1)*1/ROW(②金銭出納簿!$C$4:$C$564),ROWS($A$18:$A27)),1/ROW(②金銭出納簿!$C$4:$C$564),0),COLUMNS($A$5:C$5)),"")} | D16: {=IFERROR(INDEX(②金銭出納簿!$C$4:$M$564,MATCH(LARGE((②金銭出納簿!$G$4:$G$564=$A$1)*1/ROW(②金銭出納簿!$C$4:$C$564),ROWS($A$18:$A27)),1/ROW(②金銭出納簿!$C$4:$C$564),0),COLUMNS($A$5:D$5)),"")} | E16: {=IFERROR(INDEX(②金銭出納簿!$C$4:$M$564,MATCH(LARGE((②金銭出納簿!$G$4:$G$564=$A$1)*1/ROW(②金銭出納簿!$C$4:$C$564),ROWS($A$18:$A27)),1/ROW(②金銭出納簿!$C$4:$C$564),0),COLUMNS($A$5:E$5)),"")} | F16: {=IFERROR(INDEX(②金銭出納簿!$C$4:$M$564,MATCH(LARGE((②金銭出納簿!$G$4:$G$564=$A$1)*1/ROW(②金銭出納簿!$C$4:$C$564),ROWS($A$18:$A27)),1/ROW(②金銭出納簿!$C$4:$C$564),0),COLUMNS($A$5:F$5)),"")} | G16: {=IFERROR(INDEX(②金銭出納簿!$C$4:$M$564,MATCH(LARGE((②金銭出納簿!$G$4:$G$564=$A$1)*1/ROW(②金銭出納簿!$C$4:$C$564),ROWS($A$18:$A27)),1/ROW(②金銭出納簿!$C$4:$C$564),0),COLUMNS($A$5:G$5)),"")} | H16: {=IFERROR(INDEX(②金銭出納簿!$C$4:$M$564,MATCH(LARGE((②金銭出納簿!$G$4:$G$564=$A$1)*1/ROW(②金銭出納簿!$C$4:$C$564),ROWS($A$18:$A27)),1/ROW(②金銭出納簿!$C$4:$C$564),0),COLUMNS($A$5:H$5)),"")} | ... J16: {=IFERROR(INDEX(②金銭出納簿!$C$4:$M$564,MATCH(LARGE((②金銭出納簿!$G$4:$G$564=$A$1)*1/ROW(②金銭出納簿!$C$4:$C$564),ROWS($A$18:$A27)),1/ROW(②金銭出納簿!$C$4:$C$564),0),COLUMNS($A$5:J$5)),"")} | K16: =IFERROR(K15+I16,"") | L16: =IFERROR(L15+J16,"")
A17: {=IFERROR(INDEX(②金銭出納簿!$C$4:$M$564,MATCH(LARGE((②金銭出納簿!$G$4:$G$564=$A$1)*1/ROW(②金銭出納簿!$C$4:$C$564),ROWS($A$18:$A28)),1/ROW(②金銭出納簿!$C$4:$C$564),0),COLUMNS($A$5:A$5)),"")} | B17: {=IFERROR(INDEX(②金銭出納簿!$C$4:$M$564,MATCH(LARGE((②金銭出納簿!$G$4:$G$564=$A$1)*1/ROW(②金銭出納簿!$C$4:$C$564),ROWS($A$18:$A28)),1/ROW(②金銭出納簿!$C$4:$C$564),0),COLUMNS($A$5:B$5)),"")} | C17: {=IFERROR(INDEX(②金銭出納簿!$C$4:$M$564,MATCH(LARGE((②金銭出納簿!$G$4:$G$564=$A$1)*1/ROW(②金銭出納簿!$C$4:$C$564),ROWS($A$18:$A28)),1/ROW(②金銭出納簿!$C$4:$C$564),0),COLUMNS($A$5:C$5)),"")} | D17: {=IFERROR(INDEX(②金銭出納簿!$C$4:$M$564,MATCH(LARGE((②金銭出納簿!$G$4:$G$564=$A$1)*1/ROW(②金銭出納簿!$C$4:$C$564),ROWS($A$18:$A28)),1/ROW(②金銭出納簿!$C$4:$C$564),0),COLUMNS($A$5:D$5)),"")} | E17: {=IFERROR(INDEX(②金銭出納簿!$C$4:$M$564,MATCH(LARGE((②金銭出納簿!$G$4:$G$564=$A$1)*1/ROW(②金銭出納簿!$C$4:$C$564),ROWS($A$18:$A28)),1/ROW(②金銭出納簿!$C$4:$C$564),0),COLUMNS($A$5:E$5)),"")} | F17: {=IFERROR(INDEX(②金銭出納簿!$C$4:$M$564,MATCH(LARGE((②金銭出納簿!$G$4:$G$564=$A$1)*1/ROW(②金銭出納簿!$C$4:$C$564),ROWS($A$18:$A28)),1/ROW(②金銭出納簿!$C$4:$C$564),0),COLUMNS($A$5:F$5)),"")} | G17: {=IFERROR(INDEX(②金銭出納簿!$C$4:$M$564,MATCH(LARGE((②金銭出納簿!$G$4:$G$564=$A$1)*1/ROW(②金銭出納簿!$C$4:$C$564),ROWS($A$18:$A28)),1/ROW(②金銭出納簿!$C$4:$C$564),0),COLUMNS($A$5:G$5)),"")} | H17: {=IFERROR(INDEX(②金銭出納簿!$C$4:$M$564,MATCH(LARGE((②金銭出納簿!$G$4:$G$564=$A$1)*1/ROW(②金銭出納簿!$C$4:$C$564),ROWS($A$18:$A28)),1/ROW(②金銭出納簿!$C$4:$C$564),0),COLUMNS($A$5:H$5)),"")} | ... J17: {=IFERROR(INDEX(②金銭出納簿!$C$4:$M$564,MATCH(LARGE((②金銭出納簿!$G$4:$G$564=$A$1)*1/ROW(②金銭出納簿!$C$4:$C$564),ROWS($A$18:$A28)),1/ROW(②金銭出納簿!$C$4:$C$564),0),COLUMNS($A$5:J$5)),"")} | K17: =IFERROR(K16+I17,"") | L17: =IFERROR(L16+J17,"")
A18: {=IFERROR(INDEX(②金銭出納簿!$C$4:$M$564,MATCH(LARGE((②金銭出納簿!$G$4:$G$564=$A$1)*1/ROW(②金銭出納簿!$C$4:$C$564),ROWS($A$18:$A29)),1/ROW(②金銭出納簿!$C$4:$C$564),0),COLUMNS($A$5:A$5)),"")} | B18: {=IFERROR(INDEX(②金銭出納簿!$C$4:$M$564,MATCH(LARGE((②金銭出納簿!$G$4:$G$564=$A$1)*1/ROW(②金銭出納簿!$C$4:$C$564),ROWS($A$18:$A29)),1/ROW(②金銭出納簿!$C$4:$C$564),0),COLUMNS($A$5:B$5)),"")} | C18: {=IFERROR(INDEX(②金銭出納簿!$C$4:$M$564,MATCH(LARGE((②金銭出納簿!$G$4:$G$564=$A$1)*1/ROW(②金銭出納簿!$C$4:$C$564),ROWS($A$18:$A29)),1/ROW(②金銭出納簿!$C$4:$C$564),0),COLUMNS($A$5:C$5)),"")} | D18: {=IFERROR(INDEX(②金銭出納簿!$C$4:$M$564,MATCH(LARGE((②金銭出納簿!$G$4:$G$564=$A$1)*1/ROW(②金銭出納簿!$C$4:$C$564),ROWS($A$18:$A29)),1/ROW(②金銭出納簿!$C$4:$C$564),0),COLUMNS($A$5:D$5)),"")} | E18: {=IFERROR(INDEX(②金銭出納簿!$C$4:$M$564,MATCH(LARGE((②金銭出納簿!$G$4:$G$564=$A$1)*1/ROW(②金銭出納簿!$C$4:$C$564),ROWS($A$18:$A29)),1/ROW(②金銭出納簿!$C$4:$C$564),0),COLUMNS($A$5:E$5)),"")} | F18: {=IFERROR(INDEX(②金銭出納簿!$C$4:$M$564,MATCH(LARGE((②金銭出納簿!$G$4:$G$564=$A$1)*1/ROW(②金銭出納簿!$C$4:$C$564),ROWS($A$18:$A29)),1/ROW(②金銭出納簿!$C$4:$C$564),0),COLUMNS($A$5:F$5)),"")} | G18: {=IFERROR(INDEX(②金銭出納簿!$C$4:$M$564,MATCH(LARGE((②金銭出納簿!$G$4:$G$564=$A$1)*1/ROW(②金銭出納簿!$C$4:$C$564),ROWS($A$18:$A29)),1/ROW(②金銭出納簿!$C$4:$C$564),0),COLUMNS($A$5:G$5)),"")} | H18: {=IFERROR(INDEX(②金銭出納簿!$C$4:$M$564,MATCH(LARGE((②金銭出納簿!$G$4:$G$564=$A$1)*1/ROW(②金銭出納簿!$C$4:$C$564),ROWS($A$18:$A29)),1/ROW(②金銭出納簿!$C$4:$C$564),0),COLUMNS($A$5:H$5)),"")} | ... J18: {=IFERROR(INDEX(②金銭出納簿!$C$4:$M$564,MATCH(LARGE((②金銭出納簿!$G$4:$G$564=$A$1)*1/ROW(②金銭出納簿!$C$4:$C$564),ROWS($A$18:$A29)),1/ROW(②金銭出納簿!$C$4:$C$564),0),COLUMNS($A$5:J$5)),"")} | K18: =IFERROR(K17+I18,"") | L18: =IFERROR(L17+J18,"")
A19: {=IFERROR(INDEX(②金銭出納簿!$C$4:$M$564,MATCH(LARGE((②金銭出納簿!$G$4:$G$564=$A$1)*1/ROW(②金銭出納簿!$C$4:$C$564),ROWS($A$18:$A30)),1/ROW(②金銭出納簿!$C$4:$C$564),0),COLUMNS($A$5:A$5)),"")} | B19: {=IFERROR(INDEX(②金銭出納簿!$C$4:$M$564,MATCH(LARGE((②金銭出納簿!$G$4:$G$564=$A$1)*1/ROW(②金銭出納簿!$C$4:$C$564),ROWS($A$18:$A30)),1/ROW(②金銭出納簿!$C$4:$C$564),0),COLUMNS($A$5:B$5)),"")} | C19: {=IFERROR(INDEX(②金銭出納簿!$C$4:$M$564,MATCH(LARGE((②金銭出納簿!$G$4:$G$564=$A$1)*1/ROW(②金銭出納簿!$C$4:$C$564),ROWS($A$18:$A30)),1/ROW(②金銭出納簿!$C$4:$C$564),0),COLUMNS($A$5:C$5)),"")} | D19: {=IFERROR(INDEX(②金銭出納簿!$C$4:$M$564,MATCH(LARGE((②金銭出納簿!$G$4:$G$564=$A$1)*1/ROW(②金銭出納簿!$C$4:$C$564),ROWS($A$18:$A30)),1/ROW(②金銭出納簿!$C$4:$C$564),0),COLUMNS($A$5:D$5)),"")} | E19: {=IFERROR(INDEX(②金銭出納簿!$C$4:$M$564,MATCH(LARGE((②金銭出納簿!$G$4:$G$564=$A$1)*1/ROW(②金銭出納簿!$C$4:$C$564),ROWS($A$18:$A30)),1/ROW(②金銭出納簿!$C$4:$C$564),0),COLUMNS($A$5:E$5)),"")} | F19: {=IFERROR(INDEX(②金銭出納簿!$C$4:$M$564,MATCH(LARGE((②金銭出納簿!$G$4:$G$564=$A$1)*1/ROW(②金銭出納簿!$C$4:$C$564),ROWS($A$18:$A30)),1/ROW(②金銭出納簿!$C$4:$C$564),0),COLUMNS($A$5:F$5)),"")} | G19: {=IFERROR(INDEX(②金銭出納簿!$C$4:$M$564,MATCH(LARGE((②金銭出納簿!$G$4:$G$564=$A$1)*1/ROW(②金銭出納簿!$C$4:$C$564),ROWS($A$18:$A30)),1/ROW(②金銭出納簿!$C$4:$C$564),0),COLUMNS($A$5:G$5)),"")} | H19: {=IFERROR(INDEX(②金銭出納簿!$C$4:$M$564,MATCH(LARGE((②金銭出納簿!$G$4:$G$564=$A$1)*1/ROW(②金銭出納簿!$C$4:$C$564),ROWS($A$18:$A30)),1/ROW(②金銭出納簿!$C$4:$C$564),0),COLUMNS($A$5:H$5)),"")} | ... J19: {=IFERROR(INDEX(②金銭出納簿!$C$4:$M$564,MATCH(LARGE((②金銭出納簿!$G$4:$G$564=$A$1)*1/ROW(②金銭出納簿!$C$4:$C$564),ROWS($A$18:$A30)),1/ROW(②金銭出納簿!$C$4:$C$564),0),COLUMNS($A$5:J$5)),"")} | K19: =IFERROR(K18+I19,"") | L19: =IFERROR(L18+J19,"")
... A622: {=IFERROR(INDEX(②金銭出納簿!$C$4:$M$564,MATCH(LARGE((②金銭出納簿!$G$4:$G$564=$A$1)*1/ROW(②金銭出納簿!$C$4:$C$564),ROWS($A$18:$A633)),1/ROW(②金銭出納簿!$C$4:$C$564),0),COLUMNS($A$5:A$5)),"")} | B622: {=IFERROR(INDEX(②金銭出納簿!$C$4:$M$564,MATCH(LARGE((②金銭出納簿!$G$4:$G$564=$A$1)*1/ROW(②金銭出納簿!$C$4:$C$564),ROWS($A$18:$A633)),1/ROW(②金銭出納簿!$C$4:$C$564),0),COLUMNS($A$5:B$5)),"")} | C622: {=IFERROR(INDEX(②金銭出納簿!$C$4:$M$564,MATCH(LARGE((②金銭出納簿!$G$4:$G$564=$A$1)*1/ROW(②金銭出納簿!$C$4:$C$564),ROWS($A$18:$A633)),1/ROW(②金銭出納簿!$C$4:$C$564),0),COLUMNS($A$5:C$5)),"")} | D622: {=IFERROR(INDEX(②金銭出納簿!$C$4:$M$564,MATCH(LARGE((②金銭出納簿!$G$4:$G$564=$A$1)*1/ROW(②金銭出納簿!$C$4:$C$564),ROWS($A$18:$A633)),1/ROW(②金銭出納簿!$C$4:$C$564),0),COLUMNS($A$5:D$5)),"")} | E622: {=IFERROR(INDEX(②金銭出納簿!$C$4:$M$564,MATCH(LARGE((②金銭出納簿!$G$4:$G$564=$A$1)*1/ROW(②金銭出納簿!$C$4:$C$564),ROWS($A$18:$A633)),1/ROW(②金銭出納簿!$C$4:$C$564),0),COLUMNS($A$5:E$5)),"")} | F622: {=IFERROR(INDEX(②金銭出納簿!$C$4:$M$564,MATCH(LARGE((②金銭出納簿!$G$4:$G$564=$A$1)*1/ROW(②金銭出納簿!$C$4:$C$564),ROWS($A$18:$A633)),1/ROW(②金銭出納簿!$C$4:$C$564),0),COLUMNS($A$5:F$5)),"")} | G622: {=IFERROR(INDEX(②金銭出納簿!$C$4:$M$564,MATCH(LARGE((②金銭出納簿!$G$4:$G$564=$A$1)*1/ROW(②金銭出納簿!$C$4:$C$564),ROWS($A$18:$A633)),1/ROW(②金銭出納簿!$C$4:$C$564),0),COLUMNS($A$5:G$5)),"")} | H622: {=IFERROR(INDEX(②金銭出納簿!$C$4:$M$564,MATCH(LARGE((②金銭出納簿!$G$4:$G$564=$A$1)*1/ROW(②金銭出納簿!$C$4:$C$564),ROWS($A$18:$A633)),1/ROW(②金銭出納簿!$C$4:$C$564),0),COLUMNS($A$5:H$5)),"")} | ... J622: {=IFERROR(INDEX(②金銭出納簿!$C$4:$M$564,MATCH(LARGE((②金銭出納簿!$G$4:$G$564=$A$1)*1/ROW(②金銭出納簿!$C$4:$C$564),ROWS($A$18:$A633)),1/ROW(②金銭出納簿!$C$4:$C$564),0),COLUMNS($A$5:J$5)),"")} | K622: =IFERROR(K621+I622,"") | L622: =IFERROR(L621+J622,"")
A623: {=IFERROR(INDEX(②金銭出納簿!$C$4:$M$564,MATCH(LARGE((②金銭出納簿!$G$4:$G$564=$A$1)*1/ROW(②金銭出納簿!$C$4:$C$564),ROWS($A$18:$A633)),1/ROW(②金銭出納簿!$C$4:$C$564),0),COLUMNS($A$5:A$5)),"")} | B623: {=IFERROR(INDEX(②金銭出納簿!$C$4:$M$564,MATCH(LARGE((②金銭出納簿!$G$4:$G$564=$A$1)*1/ROW(②金銭出納簿!$C$4:$C$564),ROWS($A$18:$A633)),1/ROW(②金銭出納簿!$C$4:$C$564),0),COLUMNS($A$5:B$5)),"")} | C623: {=IFERROR(INDEX(②金銭出納簿!$C$4:$M$564,MATCH(LARGE((②金銭出納簿!$G$4:$G$564=$A$1)*1/ROW(②金銭出納簿!$C$4:$C$564),ROWS($A$18:$A633)),1/ROW(②金銭出納簿!$C$4:$C$564),0),COLUMNS($A$5:C$5)),"")} | D623: {=IFERROR(INDEX(②金銭出納簿!$C$4:$M$564,MATCH(LARGE((②金銭出納簿!$G$4:$G$564=$A$1)*1/ROW(②金銭出納簿!$C$4:$C$564),ROWS($A$18:$A633)),1/ROW(②金銭出納簿!$C$4:$C$564),0),COLUMNS($A$5:D$5)),"")} | E623: {=IFERROR(INDEX(②金銭出納簿!$C$4:$M$564,MATCH(LARGE((②金銭出納簿!$G$4:$G$564=$A$1)*1/ROW(②金銭出納簿!$C$4:$C$564),ROWS($A$18:$A633)),1/ROW(②金銭出納簿!$C$4:$C$564),0),COLUMNS($A$5:E$5)),"")} | F623: {=IFERROR(INDEX(②金銭出納簿!$C$4:$M$564,MATCH(LARGE((②金銭出納簿!$G$4:$G$564=$A$1)*1/ROW(②金銭出納簿!$C$4:$C$564),ROWS($A$18:$A633)),1/ROW(②金銭出納簿!$C$4:$C$564),0),COLUMNS($A$5:F$5)),"")} | G623: {=IFERROR(INDEX(②金銭出納簿!$C$4:$M$564,MATCH(LARGE((②金銭出納簿!$G$4:$G$564=$A$1)*1/ROW(②金銭出納簿!$C$4:$C$564),ROWS($A$18:$A633)),1/ROW(②金銭出納簿!$C$4:$C$564),0),COLUMNS($A$5:G$5)),"")} | H623: {=IFERROR(INDEX(②金銭出納簿!$C$4:$M$564,MATCH(LARGE((②金銭出納簿!$G$4:$G$564=$A$1)*1/ROW(②金銭出納簿!$C$4:$C$564),ROWS($A$18:$A633)),1/ROW(②金銭出納簿!$C$4:$C$564),0),COLUMNS($A$5:H$5)),"")} | ... J623: {=IFERROR(INDEX(②金銭出納簿!$C$4:$M$564,MATCH(LARGE((②金銭出納簿!$G$4:$G$564=$A$1)*1/ROW(②金銭出納簿!$C$4:$C$564),ROWS($A$18:$A633)),1/ROW(②金銭出納簿!$C$4:$C$564),0),COLUMNS($A$5:J$5)),"")} | K623: =IFERROR(K622+I623,"") | L623: =IFERROR(L622+J623,"")
A624: {=IFERROR(INDEX(②金銭出納簿!$C$4:$M$564,MATCH(LARGE((②金銭出納簿!$G$4:$G$564=$A$1)*1/ROW(②金銭出納簿!$C$4:$C$564),ROWS($A$18:$A633)),1/ROW(②金銭出納簿!$C$4:$C$564),0),COLUMNS($A$5:A$5)),"")} | B624: {=IFERROR(INDEX(②金銭出納簿!$C$4:$M$564,MATCH(LARGE((②金銭出納簿!$G$4:$G$564=$A$1)*1/ROW(②金銭出納簿!$C$4:$C$564),ROWS($A$18:$A633)),1/ROW(②金銭出納簿!$C$4:$C$564),0),COLUMNS($A$5:B$5)),"")} | C624: {=IFERROR(INDEX(②金銭出納簿!$C$4:$M$564,MATCH(LARGE((②金銭出納簿!$G$4:$G$564=$A$1)*1/ROW(②金銭出納簿!$C$4:$C$564),ROWS($A$18:$A633)),1/ROW(②金銭出納簿!$C$4:$C$564),0),COLUMNS($A$5:C$5)),"")} | D624: {=IFERROR(INDEX(②金銭出納簿!$C$4:$M$564,MATCH(LARGE((②金銭出納簿!$G$4:$G$564=$A$1)*1/ROW(②金銭出納簿!$C$4:$C$564),ROWS($A$18:$A633)),1/ROW(②金銭出納簿!$C$4:$C$564),0),COLUMNS($A$5:D$5)),"")} | E624: {=IFERROR(INDEX(②金銭出納簿!$C$4:$M$564,MATCH(LARGE((②金銭出納簿!$G$4:$G$564=$A$1)*1/ROW(②金銭出納簿!$C$4:$C$564),ROWS($A$18:$A633)),1/ROW(②金銭出納簿!$C$4:$C$564),0),COLUMNS($A$5:E$5)),"")} | F624: {=IFERROR(INDEX(②金銭出納簿!$C$4:$M$564,MATCH(LARGE((②金銭出納簿!$G$4:$G$564=$A$1)*1/ROW(②金銭出納簿!$C$4:$C$564),ROWS($A$18:$A633)),1/ROW(②金銭出納簿!$C$4:$C$564),0),COLUMNS($A$5:F$5)),"")} | G624: {=IFERROR(INDEX(②金銭出納簿!$C$4:$M$564,MATCH(LARGE((②金銭出納簿!$G$4:$G$564=$A$1)*1/ROW(②金銭出納簿!$C$4:$C$564),ROWS($A$18:$A633)),1/ROW(②金銭出納簿!$C$4:$C$564),0),COLUMNS($A$5:G$5)),"")} | H624: {=IFERROR(INDEX(②金銭出納簿!$C$4:$M$564,MATCH(LARGE((②金銭出納簿!$G$4:$G$564=$A$1)*1/ROW(②金銭出納簿!$C$4:$C$564),ROWS($A$18:$A633)),1/ROW(②金銭出納簿!$C$4:$C$564),0),COLUMNS($A$5:H$5)),"")} | ... J624: {=IFERROR(INDEX(②金銭出納簿!$C$4:$M$564,MATCH(LARGE((②金銭出納簿!$G$4:$G$564=$A$1)*1/ROW(②金銭出納簿!$C$4:$C$564),ROWS($A$18:$A633)),1/ROW(②金銭出納簿!$C$4:$C$564),0),COLUMNS($A$5:J$5)),"")} | K624: =IFERROR(K623+I624,"") | L624: =IFERROR(L623+J624,"")
A625: {=IFERROR(INDEX(②金銭出納簿!$C$4:$M$564,MATCH(LARGE((②金銭出納簿!$G$4:$G$564=$A$1)*1/ROW(②金銭出納簿!$C$4:$C$564),ROWS($A$18:$A633)),1/ROW(②金銭出納簿!$C$4:$C$564),0),COLUMNS($A$5:A$5)),"")} | B625: {=IFERROR(INDEX(②金銭出納簿!$C$4:$M$564,MATCH(LARGE((②金銭出納簿!$G$4:$G$564=$A$1)*1/ROW(②金銭出納簿!$C$4:$C$564),ROWS($A$18:$A633)),1/ROW(②金銭出納簿!$C$4:$C$564),0),COLUMNS($A$5:B$5)),"")} | C625: {=IFERROR(INDEX(②金銭出納簿!$C$4:$M$564,MATCH(LARGE((②金銭出納簿!$G$4:$G$564=$A$1)*1/ROW(②金銭出納簿!$C$4:$C$564),ROWS($A$18:$A633)),1/ROW(②金銭出納簿!$C$4:$C$564),0),COLUMNS($A$5:C$5)),"")} | D625: {=IFERROR(INDEX(②金銭出納簿!$C$4:$M$564,MATCH(LARGE((②金銭出納簿!$G$4:$G$564=$A$1)*1/ROW(②金銭出納簿!$C$4:$C$564),ROWS($A$18:$A633)),1/ROW(②金銭出納簿!$C$4:$C$564),0),COLUMNS($A$5:D$5)),"")} | E625: {=IFERROR(INDEX(②金銭出納簿!$C$4:$M$564,MATCH(LARGE((②金銭出納簿!$G$4:$G$564=$A$1)*1/ROW(②金銭出納簿!$C$4:$C$564),ROWS($A$18:$A633)),1/ROW(②金銭出納簿!$C$4:$C$564),0),COLUMNS($A$5:E$5)),"")} | F625: {=IFERROR(INDEX(②金銭出納簿!$C$4:$M$564,MATCH(LARGE((②金銭出納簿!$G$4:$G$564=$A$1)*1/ROW(②金銭出納簿!$C$4:$C$564),ROWS($A$18:$A633)),1/ROW(②金銭出納簿!$C$4:$C$564),0),COLUMNS($A$5:F$5)),"")} | G625: {=IFERROR(INDEX(②金銭出納簿!$C$4:$M$564,MATCH(LARGE((②金銭出納簿!$G$4:$G$564=$A$1)*1/ROW(②金銭出納簿!$C$4:$C$564),ROWS($A$18:$A633)),1/ROW(②金銭出納簿!$C$4:$C$564),0),COLUMNS($A$5:G$5)),"")} | H625: {=IFERROR(INDEX(②金銭出納簿!$C$4:$M$564,MATCH(LARGE((②金銭出納簿!$G$4:$G$564=$A$1)*1/ROW(②金銭出納簿!$C$4:$C$564),ROWS($A$18:$A633)),1/ROW(②金銭出納簿!$C$4:$C$564),0),COLUMNS($A$5:H$5)),"")} | ... J625: {=IFERROR(INDEX(②金銭出納簿!$C$4:$M$564,MATCH(LARGE((②金銭出納簿!$G$4:$G$564=$A$1)*1/ROW(②金銭出納簿!$C$4:$C$564),ROWS($A$18:$A633)),1/ROW(②金銭出納簿!$C$4:$C$564),0),COLUMNS($A$5:J$5)),"")} | K625: =IFERROR(K624+I625,"") | L625: =IFERROR(L624+J625,"")
A626: {=IFERROR(INDEX(②金銭出納簿!$C$4:$M$564,MATCH(LARGE((②金銭出納簿!$G$4:$G$564=$A$1)*1/ROW(②金銭出納簿!$C$4:$C$564),ROWS($A$18:$A633)),1/ROW(②金銭出納簿!$C$4:$C$564),0),COLUMNS($A$5:A$5)),"")} | B626: {=IFERROR(INDEX(②金銭出納簿!$C$4:$M$564,MATCH(LARGE((②金銭出納簿!$G$4:$G$564=$A$1)*1/ROW(②金銭出納簿!$C$4:$C$564),ROWS($A$18:$A633)),1/ROW(②金銭出納簿!$C$4:$C$564),0),COLUMNS($A$5:B$5)),"")} | C626: {=IFERROR(INDEX(②金銭出納簿!$C$4:$M$564,MATCH(LARGE((②金銭出納簿!$G$4:$G$564=$A$1)*1/ROW(②金銭出納簿!$C$4:$C$564),ROWS($A$18:$A633)),1/ROW(②金銭出納簿!$C$4:$C$564),0),COLUMNS($A$5:C$5)),"")} | D626: {=IFERROR(INDEX(②金銭出納簿!$C$4:$M$564,MATCH(LARGE((②金銭出納簿!$G$4:$G$564=$A$1)*1/ROW(②金銭出納簿!$C$4:$C$564),ROWS($A$18:$A633)),1/ROW(②金銭出納簿!$C$4:$C$564),0),COLUMNS($A$5:D$5)),"")} | E626: {=IFERROR(INDEX(②金銭出納簿!$C$4:$M$564,MATCH(LARGE((②金銭出納簿!$G$4:$G$564=$A$1)*1/ROW(②金銭出納簿!$C$4:$C$564),ROWS($A$18:$A633)),1/ROW(②金銭出納簿!$C$4:$C$564),0),COLUMNS($A$5:E$5)),"")} | F626: {=IFERROR(INDEX(②金銭出納簿!$C$4:$M$564,MATCH(LARGE((②金銭出納簿!$G$4:$G$564=$A$1)*1/ROW(②金銭出納簿!$C$4:$C$564),ROWS($A$18:$A633)),1/ROW(②金銭出納簿!$C$4:$C$564),0),COLUMNS($A$5:F$5)),"")} | G626: {=IFERROR(INDEX(②金銭出納簿!$C$4:$M$564,MATCH(LARGE((②金銭出納簿!$G$4:$G$564=$A$1)*1/ROW(②金銭出納簿!$C$4:$C$564),ROWS($A$18:$A633)),1/ROW(②金銭出納簿!$C$4:$C$564),0),COLUMNS($A$5:G$5)),"")} | H626: {=IFERROR(INDEX(②金銭出納簿!$C$4:$M$564,MATCH(LARGE((②金銭出納簿!$G$4:$G$564=$A$1)*1/ROW(②金銭出納簿!$C$4:$C$564),ROWS($A$18:$A633)),1/ROW(②金銭出納簿!$C$4:$C$564),0),COLUMNS($A$5:H$5)),"")} | ... J626: {=IFERROR(INDEX(②金銭出納簿!$C$4:$M$564,MATCH(LARGE((②金銭出納簿!$G$4:$G$564=$A$1)*1/ROW(②金銭出納簿!$C$4:$C$564),ROWS($A$18:$A633)),1/ROW(②金銭出納簿!$C$4:$C$564),0),COLUMNS($A$5:J$5)),"")} | K626: =IFERROR(K625+I626,"") | L626: =IFERROR(L625+J626,"")
A627: {=IFERROR(INDEX(②金銭出納簿!$C$4:$M$564,MATCH(LARGE((②金銭出納簿!$G$4:$G$564=$A$1)*1/ROW(②金銭出納簿!$C$4:$C$564),ROWS($A$18:$A633)),1/ROW(②金銭出納簿!$C$4:$C$564),0),COLUMNS($A$5:A$5)),"")} | B627: {=IFERROR(INDEX(②金銭出納簿!$C$4:$M$564,MATCH(LARGE((②金銭出納簿!$G$4:$G$564=$A$1)*1/ROW(②金銭出納簿!$C$4:$C$564),ROWS($A$18:$A633)),1/ROW(②金銭出納簿!$C$4:$C$564),0),COLUMNS($A$5:B$5)),"")} | C627: {=IFERROR(INDEX(②金銭出納簿!$C$4:$M$564,MATCH(LARGE((②金銭出納簿!$G$4:$G$564=$A$1)*1/ROW(②金銭出納簿!$C$4:$C$564),ROWS($A$18:$A633)),1/ROW(②金銭出納簿!$C$4:$C$564),0),COLUMNS($A$5:C$5)),"")} | D627: {=IFERROR(INDEX(②金銭出納簿!$C$4:$M$564,MATCH(LARGE((②金銭出納簿!$G$4:$G$564=$A$1)*1/ROW(②金銭出納簿!$C$4:$C$564),ROWS($A$18:$A633)),1/ROW(②金銭出納簿!$C$4:$C$564),0),COLUMNS($A$5:D$5)),"")} | E627: {=IFERROR(INDEX(②金銭出納簿!$C$4:$M$564,MATCH(LARGE((②金銭出納簿!$G$4:$G$564=$A$1)*1/ROW(②金銭出納簿!$C$4:$C$564),ROWS($A$18:$A633)),1/ROW(②金銭出納簿!$C$4:$C$564),0),COLUMNS($A$5:E$5)),"")} | F627: {=IFERROR(INDEX(②金銭出納簿!$C$4:$M$564,MATCH(LARGE((②金銭出納簿!$G$4:$G$564=$A$1)*1/ROW(②金銭出納簿!$C$4:$C$564),ROWS($A$18:$A633)),1/ROW(②金銭出納簿!$C$4:$C$564),0),COLUMNS($A$5:F$5)),"")} | G627: {=IFERROR(INDEX(②金銭出納簿!$C$4:$M$564,MATCH(LARGE((②金銭出納簿!$G$4:$G$564=$A$1)*1/ROW(②金銭出納簿!$C$4:$C$564),ROWS($A$18:$A633)),1/ROW(②金銭出納簿!$C$4:$C$564),0),COLUMNS($A$5:G$5)),"")} | H627: {=IFERROR(INDEX(②金銭出納簿!$C$4:$M$564,MATCH(LARGE((②金銭出納簿!$G$4:$G$564=$A$1)*1/ROW(②金銭出納簿!$C$4:$C$564),ROWS($A$18:$A633)),1/ROW(②金銭出納簿!$C$4:$C$564),0),COLUMNS($A$5:H$5)),"")} | ... J627: {=IFERROR(INDEX(②金銭出納簿!$C$4:$M$564,MATCH(LARGE((②金銭出納簿!$G$4:$G$564=$A$1)*1/ROW(②金銭出納簿!$C$4:$C$564),ROWS($A$18:$A633)),1/ROW(②金銭出納簿!$C$4:$C$564),0),COLUMNS($A$5:J$5)),"")} | K627: =IFERROR(K626+I627,"") | L627: =IFERROR(L626+J627,"")
A628: {=IFERROR(INDEX(②金銭出納簿!$C$4:$M$564,MATCH(LARGE((②金銭出納簿!$G$4:$G$564=$A$1)*1/ROW(②金銭出納簿!$C$4:$C$564),ROWS($A$18:$A633)),1/ROW(②金銭出納簿!$C$4:$C$564),0),COLUMNS($A$5:A$5)),"")} | B628: {=IFERROR(INDEX(②金銭出納簿!$C$4:$M$564,MATCH(LARGE((②金銭出納簿!$G$4:$G$564=$A$1)*1/ROW(②金銭出納簿!$C$4:$C$564),ROWS($A$18:$A633)),1/ROW(②金銭出納簿!$C$4:$C$564),0),COLUMNS($A$5:B$5)),"")} | C628: {=IFERROR(INDEX(②金銭出納簿!$C$4:$M$564,MATCH(LARGE((②金銭出納簿!$G$4:$G$564=$A$1)*1/ROW(②金銭出納簿!$C$4:$C$564),ROWS($A$18:$A633)),1/ROW(②金銭出納簿!$C$4:$C$564),0),COLUMNS($A$5:C$5)),"")} | D628: {=IFERROR(INDEX(②金銭出納簿!$C$4:$M$564,MATCH(LARGE((②金銭出納簿!$G$4:$G$564=$A$1)*1/ROW(②金銭出納簿!$C$4:$C$564),ROWS($A$18:$A633)),1/ROW(②金銭出納簿!$C$4:$C$564),0),COLUMNS($A$5:D$5)),"")} | E628: {=IFERROR(INDEX(②金銭出納簿!$C$4:$M$564,MATCH(LARGE((②金銭出納簿!$G$4:$G$564=$A$1)*1/ROW(②金銭出納簿!$C$4:$C$564),ROWS($A$18:$A633)),1/ROW(②金銭出納簿!$C$4:$C$564),0),COLUMNS($A$5:E$5)),"")} | F628: {=IFERROR(INDEX(②金銭出納簿!$C$4:$M$564,MATCH(LARGE((②金銭出納簿!$G$4:$G$564=$A$1)*1/ROW(②金銭出納簿!$C$4:$C$564),ROWS($A$18:$A633)),1/ROW(②金銭出納簿!$C$4:$C$564),0),COLUMNS($A$5:F$5)),"")} | G628: {=IFERROR(INDEX(②金銭出納簿!$C$4:$M$564,MATCH(LARGE((②金銭出納簿!$G$4:$G$564=$A$1)*1/ROW(②金銭出納簿!$C$4:$C$564),ROWS($A$18:$A633)),1/ROW(②金銭出納簿!$C$4:$C$564),0),COLUMNS($A$5:G$5)),"")} | H628: {=IFERROR(INDEX(②金銭出納簿!$C$4:$M$564,MATCH(LARGE((②金銭出納簿!$G$4:$G$564=$A$1)*1/ROW(②金銭出納簿!$C$4:$C$564),ROWS($A$18:$A633)),1/ROW(②金銭出納簿!$C$4:$C$564),0),COLUMNS($A$5:H$5)),"")} | ... J628: {=IFERROR(INDEX(②金銭出納簿!$C$4:$M$564,MATCH(LARGE((②金銭出納簿!$G$4:$G$564=$A$1)*1/ROW(②金銭出納簿!$C$4:$C$564),ROWS($A$18:$A633)),1/ROW(②金銭出納簿!$C$4:$C$564),0),COLUMNS($A$5:J$5)),"")} | K628: =IFERROR(K627+I628,"") | L628: =IFERROR(L627+J628,"")
A629: {=IFERROR(INDEX(②金銭出納簿!$C$4:$M$564,MATCH(LARGE((②金銭出納簿!$G$4:$G$564=$A$1)*1/ROW(②金銭出納簿!$C$4:$C$564),ROWS($A$18:$A633)),1/ROW(②金銭出納簿!$C$4:$C$564),0),COLUMNS($A$5:A$5)),"")} | B629: {=IFERROR(INDEX(②金銭出納簿!$C$4:$M$564,MATCH(LARGE((②金銭出納簿!$G$4:$G$564=$A$1)*1/ROW(②金銭出納簿!$C$4:$C$564),ROWS($A$18:$A633)),1/ROW(②金銭出納簿!$C$4:$C$564),0),COLUMNS($A$5:B$5)),"")} | C629: {=IFERROR(INDEX(②金銭出納簿!$C$4:$M$564,MATCH(LARGE((②金銭出納簿!$G$4:$G$564=$A$1)*1/ROW(②金銭出納簿!$C$4:$C$564),ROWS($A$18:$A633)),1/ROW(②金銭出納簿!$C$4:$C$564),0),COLUMNS($A$5:C$5)),"")} | D629: {=IFERROR(INDEX(②金銭出納簿!$C$4:$M$564,MATCH(LARGE((②金銭出納簿!$G$4:$G$564=$A$1)*1/ROW(②金銭出納簿!$C$4:$C$564),ROWS($A$18:$A633)),1/ROW(②金銭出納簿!$C$4:$C$564),0),COLUMNS($A$5:D$5)),"")} | E629: {=IFERROR(INDEX(②金銭出納簿!$C$4:$M$564,MATCH(LARGE((②金銭出納簿!$G$4:$G$564=$A$1)*1/ROW(②金銭出納簿!$C$4:$C$564),ROWS($A$18:$A633)),1/ROW(②金銭出納簿!$C$4:$C$564),0),COLUMNS($A$5:E$5)),"")} | F629: {=IFERROR(INDEX(②金銭出納簿!$C$4:$M$564,MATCH(LARGE((②金銭出納簿!$G$4:$G$564=$A$1)*1/ROW(②金銭出納簿!$C$4:$C$564),ROWS($A$18:$A633)),1/ROW(②金銭出納簿!$C$4:$C$564),0),COLUMNS($A$5:F$5)),"")} | G629: {=IFERROR(INDEX(②金銭出納簿!$C$4:$M$564,MATCH(LARGE((②金銭出納簿!$G$4:$G$564=$A$1)*1/ROW(②金銭出納簿!$C$4:$C$564),ROWS($A$18:$A633)),1/ROW(②金銭出納簿!$C$4:$C$564),0),COLUMNS($A$5:G$5)),"")} | H629: {=IFERROR(INDEX(②金銭出納簿!$C$4:$M$564,MATCH(LARGE((②金銭出納簿!$G$4:$G$564=$A$1)*1/ROW(②金銭出納簿!$C$4:$C$564),ROWS($A$18:$A633)),1/ROW(②金銭出納簿!$C$4:$C$564),0),COLUMNS($A$5:H$5)),"")} | ... J629: {=IFERROR(INDEX(②金銭出納簿!$C$4:$M$564,MATCH(LARGE((②金銭出納簿!$G$4:$G$564=$A$1)*1/ROW(②金銭出納簿!$C$4:$C$564),ROWS($A$18:$A633)),1/ROW(②金銭出納簿!$C$4:$C$564),0),COLUMNS($A$5:J$5)),"")} | K629: =IFERROR(K628+I629,"") | L629: =IFERROR(L628+J629,"")
A630: {=IFERROR(INDEX(②金銭出納簿!$C$4:$M$564,MATCH(LARGE((②金銭出納簿!$G$4:$G$564=$A$1)*1/ROW(②金銭出納簿!$C$4:$C$564),ROWS($A$18:$A633)),1/ROW(②金銭出納簿!$C$4:$C$564),0),COLUMNS($A$5:A$5)),"")} | B630: {=IFERROR(INDEX(②金銭出納簿!$C$4:$M$564,MATCH(LARGE((②金銭出納簿!$G$4:$G$564=$A$1)*1/ROW(②金銭出納簿!$C$4:$C$564),ROWS($A$18:$A633)),1/ROW(②金銭出納簿!$C$4:$C$564),0),COLUMNS($A$5:B$5)),"")} | C630: {=IFERROR(INDEX(②金銭出納簿!$C$4:$M$564,MATCH(LARGE((②金銭出納簿!$G$4:$G$564=$A$1)*1/ROW(②金銭出納簿!$C$4:$C$564),ROWS($A$18:$A633)),1/ROW(②金銭出納簿!$C$4:$C$564),0),COLUMNS($A$5:C$5)),"")} | D630: {=IFERROR(INDEX(②金銭出納簿!$C$4:$M$564,MATCH(LARGE((②金銭出納簿!$G$4:$G$564=$A$1)*1/ROW(②金銭出納簿!$C$4:$C$564),ROWS($A$18:$A633)),1/ROW(②金銭出納簿!$C$4:$C$564),0),COLUMNS($A$5:D$5)),"")} | E630: {=IFERROR(INDEX(②金銭出納簿!$C$4:$M$564,MATCH(LARGE((②金銭出納簿!$G$4:$G$564=$A$1)*1/ROW(②金銭出納簿!$C$4:$C$564),ROWS($A$18:$A633)),1/ROW(②金銭出納簿!$C$4:$C$564),0),COLUMNS($A$5:E$5)),"")} | F630: {=IFERROR(INDEX(②金銭出納簿!$C$4:$M$564,MATCH(LARGE((②金銭出納簿!$G$4:$G$564=$A$1)*1/ROW(②金銭出納簿!$C$4:$C$564),ROWS($A$18:$A633)),1/ROW(②金銭出納簿!$C$4:$C$564),0),COLUMNS($A$5:F$5)),"")} | G630: {=IFERROR(INDEX(②金銭出納簿!$C$4:$M$564,MATCH(LARGE((②金銭出納簿!$G$4:$G$564=$A$1)*1/ROW(②金銭出納簿!$C$4:$C$564),ROWS($A$18:$A633)),1/ROW(②金銭出納簿!$C$4:$C$564),0),COLUMNS($A$5:G$5)),"")} | H630: {=IFERROR(INDEX(②金銭出納簿!$C$4:$M$564,MATCH(LARGE((②金銭出納簿!$G$4:$G$564=$A$1)*1/ROW(②金銭出納簿!$C$4:$C$564),ROWS($A$18:$A633)),1/ROW(②金銭出納簿!$C$4:$C$564),0),COLUMNS($A$5:H$5)),"")} | ... J630: {=IFERROR(INDEX(②金銭出納簿!$C$4:$M$564,MATCH(LARGE((②金銭出納簿!$G$4:$G$564=$A$1)*1/ROW(②金銭出納簿!$C$4:$C$564),ROWS($A$18:$A633)),1/ROW(②金銭出納簿!$C$4:$C$564),0),COLUMNS($A$5:J$5)),"")} | K630: =IFERROR(K629+I630,"") | L630: =IFERROR(L629+J630,"")
A631: {=IFERROR(INDEX(②金銭出納簿!$C$4:$M$564,MATCH(LARGE((②金銭出納簿!$G$4:$G$564=$A$1)*1/ROW(②金銭出納簿!$C$4:$C$564),ROWS($A$18:$A633)),1/ROW(②金銭出納簿!$C$4:$C$564),0),COLUMNS($A$5:A$5)),"")} | B631: {=IFERROR(INDEX(②金銭出納簿!$C$4:$M$564,MATCH(LARGE((②金銭出納簿!$G$4:$G$564=$A$1)*1/ROW(②金銭出納簿!$C$4:$C$564),ROWS($A$18:$A633)),1/ROW(②金銭出納簿!$C$4:$C$564),0),COLUMNS($A$5:B$5)),"")} | C631: {=IFERROR(INDEX(②金銭出納簿!$C$4:$M$564,MATCH(LARGE((②金銭出納簿!$G$4:$G$564=$A$1)*1/ROW(②金銭出納簿!$C$4:$C$564),ROWS($A$18:$A633)),1/ROW(②金銭出納簿!$C$4:$C$564),0),COLUMNS($A$5:C$5)),"")} | D631: {=IFERROR(INDEX(②金銭出納簿!$C$4:$M$564,MATCH(LARGE((②金銭出納簿!$G$4:$G$564=$A$1)*1/ROW(②金銭出納簿!$C$4:$C$564),ROWS($A$18:$A633)),1/ROW(②金銭出納簿!$C$4:$C$564),0),COLUMNS($A$5:D$5)),"")} | E631: {=IFERROR(INDEX(②金銭出納簿!$C$4:$M$564,MATCH(LARGE((②金銭出納簿!$G$4:$G$564=$A$1)*1/ROW(②金銭出納簿!$C$4:$C$564),ROWS($A$18:$A633)),1/ROW(②金銭出納簿!$C$4:$C$564),0),COLUMNS($A$5:E$5)),"")} | F631: {=IFERROR(INDEX(②金銭出納簿!$C$4:$M$564,MATCH(LARGE((②金銭出納簿!$G$4:$G$564=$A$1)*1/ROW(②金銭出納簿!$C$4:$C$564),ROWS($A$18:$A633)),1/ROW(②金銭出納簿!$C$4:$C$564),0),COLUMNS($A$5:F$5)),"")} | G631: {=IFERROR(INDEX(②金銭出納簿!$C$4:$M$564,MATCH(LARGE((②金銭出納簿!$G$4:$G$564=$A$1)*1/ROW(②金銭出納簿!$C$4:$C$564),ROWS($A$18:$A633)),1/ROW(②金銭出納簿!$C$4:$C$564),0),COLUMNS($A$5:G$5)),"")} | H631: {=IFERROR(INDEX(②金銭出納簿!$C$4:$M$564,MATCH(LARGE((②金銭出納簿!$G$4:$G$564=$A$1)*1/ROW(②金銭出納簿!$C$4:$C$564),ROWS($A$18:$A633)),1/ROW(②金銭出納簿!$C$4:$C$564),0),COLUMNS($A$5:H$5)),"")} | ... J631: {=IFERROR(INDEX(②金銭出納簿!$C$4:$M$564,MATCH(LARGE((②金銭出納簿!$G$4:$G$564=$A$1)*1/ROW(②金銭出納簿!$C$4:$C$564),ROWS($A$18:$A633)),1/ROW(②金銭出納簿!$C$4:$C$564),0),COLUMNS($A$5:J$5)),"")} | K631: =IFERROR(K630+I631,"") | L631: =IFERROR(L630+J631,"")
A632: {=IFERROR(INDEX(②金銭出納簿!$C$4:$M$564,MATCH(LARGE((②金銭出納簿!$G$4:$G$564=$A$1)*1/ROW(②金銭出納簿!$C$4:$C$564),ROWS($A$18:$A633)),1/ROW(②金銭出納簿!$C$4:$C$564),0),COLUMNS($A$5:A$5)),"")} | B632: {=IFERROR(INDEX(②金銭出納簿!$C$4:$M$564,MATCH(LARGE((②金銭出納簿!$G$4:$G$564=$A$1)*1/ROW(②金銭出納簿!$C$4:$C$564),ROWS($A$18:$A633)),1/ROW(②金銭出納簿!$C$4:$C$564),0),COLUMNS($A$5:B$5)),"")} | C632: {=IFERROR(INDEX(②金銭出納簿!$C$4:$M$564,MATCH(LARGE((②金銭出納簿!$G$4:$G$564=$A$1)*1/ROW(②金銭出納簿!$C$4:$C$564),ROWS($A$18:$A633)),1/ROW(②金銭出納簿!$C$4:$C$564),0),COLUMNS($A$5:C$5)),"")} | D632: {=IFERROR(INDEX(②金銭出納簿!$C$4:$M$564,MATCH(LARGE((②金銭出納簿!$G$4:$G$564=$A$1)*1/ROW(②金銭出納簿!$C$4:$C$564),ROWS($A$18:$A633)),1/ROW(②金銭出納簿!$C$4:$C$564),0),COLUMNS($A$5:D$5)),"")} | E632: {=IFERROR(INDEX(②金銭出納簿!$C$4:$M$564,MATCH(LARGE((②金銭出納簿!$G$4:$G$564=$A$1)*1/ROW(②金銭出納簿!$C$4:$C$564),ROWS($A$18:$A633)),1/ROW(②金銭出納簿!$C$4:$C$564),0),COLUMNS($A$5:E$5)),"")} | F632: {=IFERROR(INDEX(②金銭出納簿!$C$4:$M$564,MATCH(LARGE((②金銭出納簿!$G$4:$G$564=$A$1)*1/ROW(②金銭出納簿!$C$4:$C$564),ROWS($A$18:$A633)),1/ROW(②金銭出納簿!$C$4:$C$564),0),COLUMNS($A$5:F$5)),"")} | G632: {=IFERROR(INDEX(②金銭出納簿!$C$4:$M$564,MATCH(LARGE((②金銭出納簿!$G$4:$G$564=$A$1)*1/ROW(②金銭出納簿!$C$4:$C$564),ROWS($A$18:$A633)),1/ROW(②金銭出納簿!$C$4:$C$564),0),COLUMNS($A$5:G$5)),"")} | H632: {=IFERROR(INDEX(②金銭出納簿!$C$4:$M$564,MATCH(LARGE((②金銭出納簿!$G$4:$G$564=$A$1)*1/ROW(②金銭出納簿!$C$4:$C$564),ROWS($A$18:$A633)),1/ROW(②金銭出納簿!$C$4:$C$564),0),COLUMNS($A$5:H$5)),"")} | ... J632: {=IFERROR(INDEX(②金銭出納簿!$C$4:$M$564,MATCH(LARGE((②金銭出納簿!$G$4:$G$564=$A$1)*1/ROW(②金銭出納簿!$C$4:$C$564),ROWS($A$18:$A633)),1/ROW(②金銭出納簿!$C$4:$C$564),0),COLUMNS($A$5:J$5)),"")} | K632: =IFERROR(K631+I632,"") | L632: =IFERROR(L631+J632,"")
A633: {=IFERROR(INDEX(②金銭出納簿!$C$4:$M$564,MATCH(LARGE((②金銭出納簿!$G$4:$G$564=$A$1)*1/ROW(②金銭出納簿!$C$4:$C$564),ROWS($A$18:$A633)),1/ROW(②金銭出納簿!$C$4:$C$564),0),COLUMNS($A$5:A$5)),"")} | B633: {=IFERROR(INDEX(②金銭出納簿!$C$4:$M$564,MATCH(LARGE((②金銭出納簿!$G$4:$G$564=$A$1)*1/ROW(②金銭出納簿!$C$4:$C$564),ROWS($A$18:$A633)),1/ROW(②金銭出納簿!$C$4:$C$564),0),COLUMNS($A$5:B$5)),"")} | C633: {=IFERROR(INDEX(②金銭出納簿!$C$4:$M$564,MATCH(LARGE((②金銭出納簿!$G$4:$G$564=$A$1)*1/ROW(②金銭出納簿!$C$4:$C$564),ROWS($A$18:$A633)),1/ROW(②金銭出納簿!$C$4:$C$564),0),COLUMNS($A$5:C$5)),"")} | D633: {=IFERROR(INDEX(②金銭出納簿!$C$4:$M$564,MATCH(LARGE((②金銭出納簿!$G$4:$G$564=$A$1)*1/ROW(②金銭出納簿!$C$4:$C$564),ROWS($A$18:$A633)),1/ROW(②金銭出納簿!$C$4:$C$564),0),COLUMNS($A$5:D$5)),"")} | E633: {=IFERROR(INDEX(②金銭出納簿!$C$4:$M$564,MATCH(LARGE((②金銭出納簿!$G$4:$G$564=$A$1)*1/ROW(②金銭出納簿!$C$4:$C$564),ROWS($A$18:$A633)),1/ROW(②金銭出納簿!$C$4:$C$564),0),COLUMNS($A$5:E$5)),"")} | F633: {=IFERROR(INDEX(②金銭出納簿!$C$4:$M$564,MATCH(LARGE((②金銭出納簿!$G$4:$G$564=$A$1)*1/ROW(②金銭出納簿!$C$4:$C$564),ROWS($A$18:$A633)),1/ROW(②金銭出納簿!$C$4:$C$564),0),COLUMNS($A$5:F$5)),"")} | G633: {=IFERROR(INDEX(②金銭出納簿!$C$4:$M$564,MATCH(LARGE((②金銭出納簿!$G$4:$G$564=$A$1)*1/ROW(②金銭出納簿!$C$4:$C$564),ROWS($A$18:$A633)),1/ROW(②金銭出納簿!$C$4:$C$564),0),COLUMNS($A$5:G$5)),"")} | H633: {=IFERROR(INDEX(②金銭出納簿!$C$4:$M$564,MATCH(LARGE((②金銭出納簿!$G$4:$G$564=$A$1)*1/ROW(②金銭出納簿!$C$4:$C$564),ROWS($A$18:$A633)),1/ROW(②金銭出納簿!$C$4:$C$564),0),COLUMNS($A$5:H$5)),"")} | ... J633: {=IFERROR(INDEX(②金銭出納簿!$C$4:$M$564,MATCH(LARGE((②金銭出納簿!$G$4:$G$564=$A$1)*1/ROW(②金銭出納簿!$C$4:$C$564),ROWS($A$18:$A633)),1/ROW(②金銭出納簿!$C$4:$C$564),0),COLUMNS($A$5:J$5)),"")} | K633: =IFERROR(K632+I633,"") | L633: =IFERROR(L632+J633,"")
A634: {=IFERROR(INDEX(②金銭出納簿!$C$4:$M$564,MATCH(LARGE((②金銭出納簿!$G$4:$G$564=$A$1)*1/ROW(②金銭出納簿!$C$4:$C$564),ROWS($A$18:$A634)),1/ROW(②金銭出納簿!$C$4:$C$564),0),COLUMNS($A$5:A$5)),"")} | B634: {=IFERROR(INDEX(②金銭出納簿!$C$4:$M$564,MATCH(LARGE((②金銭出納簿!$G$4:$G$564=$A$1)*1/ROW(②金銭出納簿!$C$4:$C$564),ROWS($A$18:$A634)),1/ROW(②金銭出納簿!$C$4:$C$564),0),COLUMNS($A$5:B$5)),"")} | C634: {=IFERROR(INDEX(②金銭出納簿!$C$4:$M$564,MATCH(LARGE((②金銭出納簿!$G$4:$G$564=$A$1)*1/ROW(②金銭出納簿!$C$4:$C$564),ROWS($A$18:$A634)),1/ROW(②金銭出納簿!$C$4:$C$564),0),COLUMNS($A$5:C$5)),"")} | D634: {=IFERROR(INDEX(②金銭出納簿!$C$4:$M$564,MATCH(LARGE((②金銭出納簿!$G$4:$G$564=$A$1)*1/ROW(②金銭出納簿!$C$4:$C$564),ROWS($A$18:$A634)),1/ROW(②金銭出納簿!$C$4:$C$564),0),COLUMNS($A$5:D$5)),"")} | E634: {=IFERROR(INDEX(②金銭出納簿!$C$4:$M$564,MATCH(LARGE((②金銭出納簿!$G$4:$G$564=$A$1)*1/ROW(②金銭出納簿!$C$4:$C$564),ROWS($A$18:$A634)),1/ROW(②金銭出納簿!$C$4:$C$564),0),COLUMNS($A$5:E$5)),"")} | F634: {=IFERROR(INDEX(②金銭出納簿!$C$4:$M$564,MATCH(LARGE((②金銭出納簿!$G$4:$G$564=$A$1)*1/ROW(②金銭出納簿!$C$4:$C$564),ROWS($A$18:$A634)),1/ROW(②金銭出納簿!$C$4:$C$564),0),COLUMNS($A$5:F$5)),"")} | G634: {=IFERROR(INDEX(②金銭出納簿!$C$4:$M$564,MATCH(LARGE((②金銭出納簿!$G$4:$G$564=$A$1)*1/ROW(②金銭出納簿!$C$4:$C$564),ROWS($A$18:$A634)),1/ROW(②金銭出納簿!$C$4:$C$564),0),COLUMNS($A$5:G$5)),"")} | H634: {=IFERROR(INDEX(②金銭出納簿!$C$4:$M$564,MATCH(LARGE((②金銭出納簿!$G$4:$G$564=$A$1)*1/ROW(②金銭出納簿!$C$4:$C$564),ROWS($A$18:$A634)),1/ROW(②金銭出納簿!$C$4:$C$564),0),COLUMNS($A$5:H$5)),"")} | ... J634: {=IFERROR(INDEX(②金銭出納簿!$C$4:$M$564,MATCH(LARGE((②金銭出納簿!$G$4:$G$564=$A$1)*1/ROW(②金銭出納簿!$C$4:$C$564),ROWS($A$18:$A634)),1/ROW(②金銭出納簿!$C$4:$C$564),0),COLUMNS($A$5:J$5)),"")} | K634: =IFERROR(K633+I634,"") | L634: =IFERROR(L633+J634,"")
A635: {=IFERROR(INDEX(②金銭出納簿!$C$4:$M$564,MATCH(LARGE((②金銭出納簿!$G$4:$G$564=$A$1)*1/ROW(②金銭出納簿!$C$4:$C$564),ROWS($A$18:$A635)),1/ROW(②金銭出納簿!$C$4:$C$564),0),COLUMNS($A$5:A$5)),"")} | B635: {=IFERROR(INDEX(②金銭出納簿!$C$4:$M$564,MATCH(LARGE((②金銭出納簿!$G$4:$G$564=$A$1)*1/ROW(②金銭出納簿!$C$4:$C$564),ROWS($A$18:$A635)),1/ROW(②金銭出納簿!$C$4:$C$564),0),COLUMNS($A$5:B$5)),"")} | C635: {=IFERROR(INDEX(②金銭出納簿!$C$4:$M$564,MATCH(LARGE((②金銭出納簿!$G$4:$G$564=$A$1)*1/ROW(②金銭出納簿!$C$4:$C$564),ROWS($A$18:$A635)),1/ROW(②金銭出納簿!$C$4:$C$564),0),COLUMNS($A$5:C$5)),"")} | D635: {=IFERROR(INDEX(②金銭出納簿!$C$4:$M$564,MATCH(LARGE((②金銭出納簿!$G$4:$G$564=$A$1)*1/ROW(②金銭出納簿!$C$4:$C$564),ROWS($A$18:$A635)),1/ROW(②金銭出納簿!$C$4:$C$564),0),COLUMNS($A$5:D$5)),"")} | E635: {=IFERROR(INDEX(②金銭出納簿!$C$4:$M$564,MATCH(LARGE((②金銭出納簿!$G$4:$G$564=$A$1)*1/ROW(②金銭出納簿!$C$4:$C$564),ROWS($A$18:$A635)),1/ROW(②金銭出納簿!$C$4:$C$564),0),COLUMNS($A$5:E$5)),"")} | F635: {=IFERROR(INDEX(②金銭出納簿!$C$4:$M$564,MATCH(LARGE((②金銭出納簿!$G$4:$G$564=$A$1)*1/ROW(②金銭出納簿!$C$4:$C$564),ROWS($A$18:$A635)),1/ROW(②金銭出納簿!$C$4:$C$564),0),COLUMNS($A$5:F$5)),"")} | G635: {=IFERROR(INDEX(②金銭出納簿!$C$4:$M$564,MATCH(LARGE((②金銭出納簿!$G$4:$G$564=$A$1)*1/ROW(②金銭出納簿!$C$4:$C$564),ROWS($A$18:$A635)),1/ROW(②金銭出納簿!$C$4:$C$564),0),COLUMNS($A$5:G$5)),"")} | H635: {=IFERROR(INDEX(②金銭出納簿!$C$4:$M$564,MATCH(LARGE((②金銭出納簿!$G$4:$G$564=$A$1)*1/ROW(②金銭出納簿!$C$4:$C$564),ROWS($A$18:$A635)),1/ROW(②金銭出納簿!$C$4:$C$564),0),COLUMNS($A$5:H$5)),"")} | ... J635: {=IFERROR(INDEX(②金銭出納簿!$C$4:$M$564,MATCH(LARGE((②金銭出納簿!$G$4:$G$564=$A$1)*1/ROW(②金銭出納簿!$C$4:$C$564),ROWS($A$18:$A635)),1/ROW(②金銭出納簿!$C$4:$C$564),0),COLUMNS($A$5:J$5)),"")} | K635: =IFERROR(K634+I635,"") | L635: =IFERROR(L634+J635,"")
A636: {=IFERROR(INDEX(②金銭出納簿!$C$4:$M$564,MATCH(LARGE((②金銭出納簿!$G$4:$G$564=$A$1)*1/ROW(②金銭出納簿!$C$4:$C$564),ROWS($A$18:$A636)),1/ROW(②金銭出納簿!$C$4:$C$564),0),COLUMNS($A$5:A$5)),"")} | B636: {=IFERROR(INDEX(②金銭出納簿!$C$4:$M$564,MATCH(LARGE((②金銭出納簿!$G$4:$G$564=$A$1)*1/ROW(②金銭出納簿!$C$4:$C$564),ROWS($A$18:$A636)),1/ROW(②金銭出納簿!$C$4:$C$564),0),COLUMNS($A$5:B$5)),"")} | C636: {=IFERROR(INDEX(②金銭出納簿!$C$4:$M$564,MATCH(LARGE((②金銭出納簿!$G$4:$G$564=$A$1)*1/ROW(②金銭出納簿!$C$4:$C$564),ROWS($A$18:$A636)),1/ROW(②金銭出納簿!$C$4:$C$564),0),COLUMNS($A$5:C$5)),"")} | D636: {=IFERROR(INDEX(②金銭出納簿!$C$4:$M$564,MATCH(LARGE((②金銭出納簿!$G$4:$G$564=$A$1)*1/ROW(②金銭出納簿!$C$4:$C$564),ROWS($A$18:$A636)),1/ROW(②金銭出納簿!$C$4:$C$564),0),COLUMNS($A$5:D$5)),"")} | E636: {=IFERROR(INDEX(②金銭出納簿!$C$4:$M$564,MATCH(LARGE((②金銭出納簿!$G$4:$G$564=$A$1)*1/ROW(②金銭出納簿!$C$4:$C$564),ROWS($A$18:$A636)),1/ROW(②金銭出納簿!$C$4:$C$564),0),COLUMNS($A$5:E$5)),"")} | F636: {=IFERROR(INDEX(②金銭出納簿!$C$4:$M$564,MATCH(LARGE((②金銭出納簿!$G$4:$G$564=$A$1)*1/ROW(②金銭出納簿!$C$4:$C$564),ROWS($A$18:$A636)),1/ROW(②金銭出納簿!$C$4:$C$564),0),COLUMNS($A$5:F$5)),"")} | G636: {=IFERROR(INDEX(②金銭出納簿!$C$4:$M$564,MATCH(LARGE((②金銭出納簿!$G$4:$G$564=$A$1)*1/ROW(②金銭出納簿!$C$4:$C$564),ROWS($A$18:$A636)),1/ROW(②金銭出納簿!$C$4:$C$564),0),COLUMNS($A$5:G$5)),"")} | H636: {=IFERROR(INDEX(②金銭出納簿!$C$4:$M$564,MATCH(LARGE((②金銭出納簿!$G$4:$G$564=$A$1)*1/ROW(②金銭出納簿!$C$4:$C$564),ROWS($A$18:$A636)),1/ROW(②金銭出納簿!$C$4:$C$564),0),COLUMNS($A$5:H$5)),"")} | ... J636: {=IFERROR(INDEX(②金銭出納簿!$C$4:$M$564,MATCH(LARGE((②金銭出納簿!$G$4:$G$564=$A$1)*1/ROW(②金銭出納簿!$C$4:$C$564),ROWS($A$18:$A636)),1/ROW(②金銭出納簿!$C$4:$C$564),0),COLUMNS($A$5:J$5)),"")} | K636: =IFERROR(K635+I636,"") | L636: =IFERROR(L635+J636,"")
A637: {=IFERROR(INDEX(②金銭出納簿!$C$4:$M$564,MATCH(LARGE((②金銭出納簿!$G$4:$G$564=$A$1)*1/ROW(②金銭出納簿!$C$4:$C$564),ROWS($A$18:$A637)),1/ROW(②金銭出納簿!$C$4:$C$564),0),COLUMNS($A$5:A$5)),"")} | B637: {=IFERROR(INDEX(②金銭出納簿!$C$4:$M$564,MATCH(LARGE((②金銭出納簿!$G$4:$G$564=$A$1)*1/ROW(②金銭出納簿!$C$4:$C$564),ROWS($A$18:$A637)),1/ROW(②金銭出納簿!$C$4:$C$564),0),COLUMNS($A$5:B$5)),"")} | C637: {=IFERROR(INDEX(②金銭出納簿!$C$4:$M$564,MATCH(LARGE((②金銭出納簿!$G$4:$G$564=$A$1)*1/ROW(②金銭出納簿!$C$4:$C$564),ROWS($A$18:$A637)),1/ROW(②金銭出納簿!$C$4:$C$564),0),COLUMNS($A$5:C$5)),"")} | D637: {=IFERROR(INDEX(②金銭出納簿!$C$4:$M$564,MATCH(LARGE((②金銭出納簿!$G$4:$G$564=$A$1)*1/ROW(②金銭出納簿!$C$4:$C$564),ROWS($A$18:$A637)),1/ROW(②金銭出納簿!$C$4:$C$564),0),COLUMNS($A$5:D$5)),"")} | E637: {=IFERROR(INDEX(②金銭出納簿!$C$4:$M$564,MATCH(LARGE((②金銭出納簿!$G$4:$G$564=$A$1)*1/ROW(②金銭出納簿!$C$4:$C$564),ROWS($A$18:$A637)),1/ROW(②金銭出納簿!$C$4:$C$564),0),COLUMNS($A$5:E$5)),"")} | F637: {=IFERROR(INDEX(②金銭出納簿!$C$4:$M$564,MATCH(LARGE((②金銭出納簿!$G$4:$G$564=$A$1)*1/ROW(②金銭出納簿!$C$4:$C$564),ROWS($A$18:$A637)),1/ROW(②金銭出納簿!$C$4:$C$564),0),COLUMNS($A$5:F$5)),"")} | G637: {=IFERROR(INDEX(②金銭出納簿!$C$4:$M$564,MATCH(LARGE((②金銭出納簿!$G$4:$G$564=$A$1)*1/ROW(②金銭出納簿!$C$4:$C$564),ROWS($A$18:$A637)),1/ROW(②金銭出納簿!$C$4:$C$564),0),COLUMNS($A$5:G$5)),"")} | H637: {=IFERROR(INDEX(②金銭出納簿!$C$4:$M$564,MATCH(LARGE((②金銭出納簿!$G$4:$G$564=$A$1)*1/ROW(②金銭出納簿!$C$4:$C$564),ROWS($A$18:$A637)),1/ROW(②金銭出納簿!$C$4:$C$564),0),COLUMNS($A$5:H$5)),"")} | ... J637: {=IFERROR(INDEX(②金銭出納簿!$C$4:$M$564,MATCH(LARGE((②金銭出納簿!$G$4:$G$564=$A$1)*1/ROW(②金銭出納簿!$C$4:$C$564),ROWS($A$18:$A637)),1/ROW(②金銭出納簿!$C$4:$C$564),0),COLUMNS($A$5:J$5)),"")} | K637: =IFERROR(K636+I637,"") | L637: =IFERROR(L636+J637,"")
A638: {=IFERROR(INDEX(②金銭出納簿!$C$4:$M$564,MATCH(LARGE((②金銭出納簿!$G$4:$G$564=$A$1)*1/ROW(②金銭出納簿!$C$4:$C$564),ROWS($A$18:$A638)),1/ROW(②金銭出納簿!$C$4:$C$564),0),COLUMNS($A$5:A$5)),"")} | B638: {=IFERROR(INDEX(②金銭出納簿!$C$4:$M$564,MATCH(LARGE((②金銭出納簿!$G$4:$G$564=$A$1)*1/ROW(②金銭出納簿!$C$4:$C$564),ROWS($A$18:$A638)),1/ROW(②金銭出納簿!$C$4:$C$564),0),COLUMNS($A$5:B$5)),"")} | C638: {=IFERROR(INDEX(②金銭出納簿!$C$4:$M$564,MATCH(LARGE((②金銭出納簿!$G$4:$G$564=$A$1)*1/ROW(②金銭出納簿!$C$4:$C$564),ROWS($A$18:$A638)),1/ROW(②金銭出納簿!$C$4:$C$564),0),COLUMNS($A$5:C$5)),"")} | D638: {=IFERROR(INDEX(②金銭出納簿!$C$4:$M$564,MATCH(LARGE((②金銭出納簿!$G$4:$G$564=$A$1)*1/ROW(②金銭出納簿!$C$4:$C$564),ROWS($A$18:$A638)),1/ROW(②金銭出納簿!$C$4:$C$564),0),COLUMNS($A$5:D$5)),"")} | E638: {=IFERROR(INDEX(②金銭出納簿!$C$4:$M$564,MATCH(LARGE((②金銭出納簿!$G$4:$G$564=$A$1)*1/ROW(②金銭出納簿!$C$4:$C$564),ROWS($A$18:$A638)),1/ROW(②金銭出納簿!$C$4:$C$564),0),COLUMNS($A$5:E$5)),"")} | F638: {=IFERROR(INDEX(②金銭出納簿!$C$4:$M$564,MATCH(LARGE((②金銭出納簿!$G$4:$G$564=$A$1)*1/ROW(②金銭出納簿!$C$4:$C$564),ROWS($A$18:$A638)),1/ROW(②金銭出納簿!$C$4:$C$564),0),COLUMNS($A$5:F$5)),"")} | G638: {=IFERROR(INDEX(②金銭出納簿!$C$4:$M$564,MATCH(LARGE((②金銭出納簿!$G$4:$G$564=$A$1)*1/ROW(②金銭出納簿!$C$4:$C$564),ROWS($A$18:$A638)),1/ROW(②金銭出納簿!$C$4:$C$564),0),COLUMNS($A$5:G$5)),"")} | H638: {=IFERROR(INDEX(②金銭出納簿!$C$4:$M$564,MATCH(LARGE((②金銭出納簿!$G$4:$G$564=$A$1)*1/ROW(②金銭出納簿!$C$4:$C$564),ROWS($A$18:$A638)),1/ROW(②金銭出納簿!$C$4:$C$564),0),COLUMNS($A$5:H$5)),"")} | ... J638: {=IFERROR(INDEX(②金銭出納簿!$C$4:$M$564,MATCH(LARGE((②金銭出納簿!$G$4:$G$564=$A$1)*1/ROW(②金銭出納簿!$C$4:$C$564),ROWS($A$18:$A638)),1/ROW(②金銭出納簿!$C$4:$C$564),0),COLUMNS($A$5:J$5)),"")} | K638: =IFERROR(K637+I638,"") | L638: =IFERROR(L637+J638,"")
A639: {=IFERROR(INDEX(②金銭出納簿!$C$4:$M$564,MATCH(LARGE((②金銭出納簿!$G$4:$G$564=$A$1)*1/ROW(②金銭出納簿!$C$4:$C$564),ROWS($A$18:$A639)),1/ROW(②金銭出納簿!$C$4:$C$564),0),COLUMNS($A$5:A$5)),"")} | B639: {=IFERROR(INDEX(②金銭出納簿!$C$4:$M$564,MATCH(LARGE((②金銭出納簿!$G$4:$G$564=$A$1)*1/ROW(②金銭出納簿!$C$4:$C$564),ROWS($A$18:$A639)),1/ROW(②金銭出納簿!$C$4:$C$564),0),COLUMNS($A$5:B$5)),"")} | C639: {=IFERROR(INDEX(②金銭出納簿!$C$4:$M$564,MATCH(LARGE((②金銭出納簿!$G$4:$G$564=$A$1)*1/ROW(②金銭出納簿!$C$4:$C$564),ROWS($A$18:$A639)),1/ROW(②金銭出納簿!$C$4:$C$564),0),COLUMNS($A$5:C$5)),"")} | D639: {=IFERROR(INDEX(②金銭出納簿!$C$4:$M$564,MATCH(LARGE((②金銭出納簿!$G$4:$G$564=$A$1)*1/ROW(②金銭出納簿!$C$4:$C$564),ROWS($A$18:$A639)),1/ROW(②金銭出納簿!$C$4:$C$564),0),COLUMNS($A$5:D$5)),"")} | E639: {=IFERROR(INDEX(②金銭出納簿!$C$4:$M$564,MATCH(LARGE((②金銭出納簿!$G$4:$G$564=$A$1)*1/ROW(②金銭出納簿!$C$4:$C$564),ROWS($A$18:$A639)),1/ROW(②金銭出納簿!$C$4:$C$564),0),COLUMNS($A$5:E$5)),"")} | F639: {=IFERROR(INDEX(②金銭出納簿!$C$4:$M$564,MATCH(LARGE((②金銭出納簿!$G$4:$G$564=$A$1)*1/ROW(②金銭出納簿!$C$4:$C$564),ROWS($A$18:$A639)),1/ROW(②金銭出納簿!$C$4:$C$564),0),COLUMNS($A$5:F$5)),"")} | G639: {=IFERROR(INDEX(②金銭出納簿!$C$4:$M$564,MATCH(LARGE((②金銭出納簿!$G$4:$G$564=$A$1)*1/ROW(②金銭出納簿!$C$4:$C$564),ROWS($A$18:$A639)),1/ROW(②金銭出納簿!$C$4:$C$564),0),COLUMNS($A$5:G$5)),"")} | H639: {=IFERROR(INDEX(②金銭出納簿!$C$4:$M$564,MATCH(LARGE((②金銭出納簿!$G$4:$G$564=$A$1)*1/ROW(②金銭出納簿!$C$4:$C$564),ROWS($A$18:$A639)),1/ROW(②金銭出納簿!$C$4:$C$564),0),COLUMNS($A$5:H$5)),"")} | ... J639: {=IFERROR(INDEX(②金銭出納簿!$C$4:$M$564,MATCH(LARGE((②金銭出納簿!$G$4:$G$564=$A$1)*1/ROW(②金銭出納簿!$C$4:$C$564),ROWS($A$18:$A639)),1/ROW(②金銭出納簿!$C$4:$C$564),0),COLUMNS($A$5:J$5)),"")} | K639: =IFERROR(K638+I639,"") | L639: =IFERROR(L638+J639,"")
A640: {=IFERROR(INDEX(②金銭出納簿!$C$4:$M$564,MATCH(LARGE((②金銭出納簿!$G$4:$G$564=$A$1)*1/ROW(②金銭出納簿!$C$4:$C$564),ROWS($A$18:$A640)),1/ROW(②金銭出納簿!$C$4:$C$564),0),COLUMNS($A$5:A$5)),"")} | B640: {=IFERROR(INDEX(②金銭出納簿!$C$4:$M$564,MATCH(LARGE((②金銭出納簿!$G$4:$G$564=$A$1)*1/ROW(②金銭出納簿!$C$4:$C$564),ROWS($A$18:$A640)),1/ROW(②金銭出納簿!$C$4:$C$564),0),COLUMNS($A$5:B$5)),"")} | C640: {=IFERROR(INDEX(②金銭出納簿!$C$4:$M$564,MATCH(LARGE((②金銭出納簿!$G$4:$G$564=$A$1)*1/ROW(②金銭出納簿!$C$4:$C$564),ROWS($A$18:$A640)),1/ROW(②金銭出納簿!$C$4:$C$564),0),COLUMNS($A$5:C$5)),"")} | D640: {=IFERROR(INDEX(②金銭出納簿!$C$4:$M$564,MATCH(LARGE((②金銭出納簿!$G$4:$G$564=$A$1)*1/ROW(②金銭出納簿!$C$4:$C$564),ROWS($A$18:$A640)),1/ROW(②金銭出納簿!$C$4:$C$564),0),COLUMNS($A$5:D$5)),"")} | E640: {=IFERROR(INDEX(②金銭出納簿!$C$4:$M$564,MATCH(LARGE((②金銭出納簿!$G$4:$G$564=$A$1)*1/ROW(②金銭出納簿!$C$4:$C$564),ROWS($A$18:$A640)),1/ROW(②金銭出納簿!$C$4:$C$564),0),COLUMNS($A$5:E$5)),"")} | F640: {=IFERROR(INDEX(②金銭出納簿!$C$4:$M$564,MATCH(LARGE((②金銭出納簿!$G$4:$G$564=$A$1)*1/ROW(②金銭出納簿!$C$4:$C$564),ROWS($A$18:$A640)),1/ROW(②金銭出納簿!$C$4:$C$564),0),COLUMNS($A$5:F$5)),"")} | G640: {=IFERROR(INDEX(②金銭出納簿!$C$4:$M$564,MATCH(LARGE((②金銭出納簿!$G$4:$G$564=$A$1)*1/ROW(②金銭出納簿!$C$4:$C$564),ROWS($A$18:$A640)),1/ROW(②金銭出納簿!$C$4:$C$564),0),COLUMNS($A$5:G$5)),"")} | H640: {=IFERROR(INDEX(②金銭出納簿!$C$4:$M$564,MATCH(LARGE((②金銭出納簿!$G$4:$G$564=$A$1)*1/ROW(②金銭出納簿!$C$4:$C$564),ROWS($A$18:$A640)),1/ROW(②金銭出納簿!$C$4:$C$564),0),COLUMNS($A$5:H$5)),"")} | ... J640: {=IFERROR(INDEX(②金銭出納簿!$C$4:$M$564,MATCH(LARGE((②金銭出納簿!$G$4:$G$564=$A$1)*1/ROW(②金銭出納簿!$C$4:$C$564),ROWS($A$18:$A640)),1/ROW(②金銭出納簿!$C$4:$C$564),0),COLUMNS($A$5:J$5)),"")} | K640: =IFERROR(K639+I640,"") | L640: =IFERROR(L639+J640,"")
A641: {=IFERROR(INDEX(②金銭出納簿!$C$4:$M$564,MATCH(LARGE((②金銭出納簿!$G$4:$G$564=$A$1)*1/ROW(②金銭出納簿!$C$4:$C$564),ROWS($A$18:$A641)),1/ROW(②金銭出納簿!$C$4:$C$564),0),COLUMNS($A$5:A$5)),"")} | B641: {=IFERROR(INDEX(②金銭出納簿!$C$4:$M$564,MATCH(LARGE((②金銭出納簿!$G$4:$G$564=$A$1)*1/ROW(②金銭出納簿!$C$4:$C$564),ROWS($A$18:$A641)),1/ROW(②金銭出納簿!$C$4:$C$564),0),COLUMNS($A$5:B$5)),"")} | C641: {=IFERROR(INDEX(②金銭出納簿!$C$4:$M$564,MATCH(LARGE((②金銭出納簿!$G$4:$G$564=$A$1)*1/ROW(②金銭出納簿!$C$4:$C$564),ROWS($A$18:$A641)),1/ROW(②金銭出納簿!$C$4:$C$564),0),COLUMNS($A$5:C$5)),"")} | D641: {=IFERROR(INDEX(②金銭出納簿!$C$4:$M$564,MATCH(LARGE((②金銭出納簿!$G$4:$G$564=$A$1)*1/ROW(②金銭出納簿!$C$4:$C$564),ROWS($A$18:$A641)),1/ROW(②金銭出納簿!$C$4:$C$564),0),COLUMNS($A$5:D$5)),"")} | E641: {=IFERROR(INDEX(②金銭出納簿!$C$4:$M$564,MATCH(LARGE((②金銭出納簿!$G$4:$G$564=$A$1)*1/ROW(②金銭出納簿!$C$4:$C$564),ROWS($A$18:$A641)),1/ROW(②金銭出納簿!$C$4:$C$564),0),COLUMNS($A$5:E$5)),"")} | F641: {=IFERROR(INDEX(②金銭出納簿!$C$4:$M$564,MATCH(LARGE((②金銭出納簿!$G$4:$G$564=$A$1)*1/ROW(②金銭出納簿!$C$4:$C$564),ROWS($A$18:$A641)),1/ROW(②金銭出納簿!$C$4:$C$564),0),COLUMNS($A$5:F$5)),"")} | G641: {=IFERROR(INDEX(②金銭出納簿!$C$4:$M$564,MATCH(LARGE((②金銭出納簿!$G$4:$G$564=$A$1)*1/ROW(②金銭出納簿!$C$4:$C$564),ROWS($A$18:$A641)),1/ROW(②金銭出納簿!$C$4:$C$564),0),COLUMNS($A$5:G$5)),"")} | H641: {=IFERROR(INDEX(②金銭出納簿!$C$4:$M$564,MATCH(LARGE((②金銭出納簿!$G$4:$G$564=$A$1)*1/ROW(②金銭出納簿!$C$4:$C$564),ROWS($A$18:$A641)),1/ROW(②金銭出納簿!$C$4:$C$564),0),COLUMNS($A$5:H$5)),"")} | ... J641: {=IFERROR(INDEX(②金銭出納簿!$C$4:$M$564,MATCH(LARGE((②金銭出納簿!$G$4:$G$564=$A$1)*1/ROW(②金銭出納簿!$C$4:$C$564),ROWS($A$18:$A641)),1/ROW(②金銭出納簿!$C$4:$C$564),0),COLUMNS($A$5:J$5)),"")} | K641: =IFERROR(K640+I641,"") | L641: =IFERROR(L640+J641,"")
A642: {=IFERROR(INDEX(②金銭出納簿!$C$4:$M$564,MATCH(LARGE((②金銭出納簿!$G$4:$G$564=$A$1)*1/ROW(②金銭出納簿!$C$4:$C$564),ROWS($A$18:$A642)),1/ROW(②金銭出納簿!$C$4:$C$564),0),COLUMNS($A$5:A$5)),"")} | B642: {=IFERROR(INDEX(②金銭出納簿!$C$4:$M$564,MATCH(LARGE((②金銭出納簿!$G$4:$G$564=$A$1)*1/ROW(②金銭出納簿!$C$4:$C$564),ROWS($A$18:$A642)),1/ROW(②金銭出納簿!$C$4:$C$564),0),COLUMNS($A$5:B$5)),"")} | C642: {=IFERROR(INDEX(②金銭出納簿!$C$4:$M$564,MATCH(LARGE((②金銭出納簿!$G$4:$G$564=$A$1)*1/ROW(②金銭出納簿!$C$4:$C$564),ROWS($A$18:$A642)),1/ROW(②金銭出納簿!$C$4:$C$564),0),COLUMNS($A$5:C$5)),"")} | D642: {=IFERROR(INDEX(②金銭出納簿!$C$4:$M$564,MATCH(LARGE((②金銭出納簿!$G$4:$G$564=$A$1)*1/ROW(②金銭出納簿!$C$4:$C$564),ROWS($A$18:$A642)),1/ROW(②金銭出納簿!$C$4:$C$564),0),COLUMNS($A$5:D$5)),"")} | E642: {=IFERROR(INDEX(②金銭出納簿!$C$4:$M$564,MATCH(LARGE((②金銭出納簿!$G$4:$G$564=$A$1)*1/ROW(②金銭出納簿!$C$4:$C$564),ROWS($A$18:$A642)),1/ROW(②金銭出納簿!$C$4:$C$564),0),COLUMNS($A$5:E$5)),"")} | F642: {=IFERROR(INDEX(②金銭出納簿!$C$4:$M$564,MATCH(LARGE((②金銭出納簿!$G$4:$G$564=$A$1)*1/ROW(②金銭出納簿!$C$4:$C$564),ROWS($A$18:$A642)),1/ROW(②金銭出納簿!$C$4:$C$564),0),COLUMNS($A$5:F$5)),"")} | G642: {=IFERROR(INDEX(②金銭出納簿!$C$4:$M$564,MATCH(LARGE((②金銭出納簿!$G$4:$G$564=$A$1)*1/ROW(②金銭出納簿!$C$4:$C$564),ROWS($A$18:$A642)),1/ROW(②金銭出納簿!$C$4:$C$564),0),COLUMNS($A$5:G$5)),"")} | H642: {=IFERROR(INDEX(②金銭出納簿!$C$4:$M$564,MATCH(LARGE((②金銭出納簿!$G$4:$G$564=$A$1)*1/ROW(②金銭出納簿!$C$4:$C$564),ROWS($A$18:$A642)),1/ROW(②金銭出納簿!$C$4:$C$564),0),COLUMNS($A$5:H$5)),"")} | ... J642: {=IFERROR(INDEX(②金銭出納簿!$C$4:$M$564,MATCH(LARGE((②金銭出納簿!$G$4:$G$564=$A$1)*1/ROW(②金銭出納簿!$C$4:$C$564),ROWS($A$18:$A642)),1/ROW(②金銭出納簿!$C$4:$C$564),0),COLUMNS($A$5:J$5)),"")} | K642: =IFERROR(K641+I642,"") | L642: =IFERROR(L641+J642,"")
A643: {=IFERROR(INDEX(②金銭出納簿!$C$4:$M$564,MATCH(LARGE((②金銭出納簿!$G$4:$G$564=$A$1)*1/ROW(②金銭出納簿!$C$4:$C$564),ROWS($A$18:$A643)),1/ROW(②金銭出納簿!$C$4:$C$564),0),COLUMNS($A$5:A$5)),"")} | B643: {=IFERROR(INDEX(②金銭出納簿!$C$4:$M$564,MATCH(LARGE((②金銭出納簿!$G$4:$G$564=$A$1)*1/ROW(②金銭出納簿!$C$4:$C$564),ROWS($A$18:$A643)),1/ROW(②金銭出納簿!$C$4:$C$564),0),COLUMNS($A$5:B$5)),"")} | C643: {=IFERROR(INDEX(②金銭出納簿!$C$4:$M$564,MATCH(LARGE((②金銭出納簿!$G$4:$G$564=$A$1)*1/ROW(②金銭出納簿!$C$4:$C$564),ROWS($A$18:$A643)),1/ROW(②金銭出納簿!$C$4:$C$564),0),COLUMNS($A$5:C$5)),"")} | D643: {=IFERROR(INDEX(②金銭出納簿!$C$4:$M$564,MATCH(LARGE((②金銭出納簿!$G$4:$G$564=$A$1)*1/ROW(②金銭出納簿!$C$4:$C$564),ROWS($A$18:$A643)),1/ROW(②金銭出納簿!$C$4:$C$564),0),COLUMNS($A$5:D$5)),"")} | E643: {=IFERROR(INDEX(②金銭出納簿!$C$4:$M$564,MATCH(LARGE((②金銭出納簿!$G$4:$G$564=$A$1)*1/ROW(②金銭出納簿!$C$4:$C$564),ROWS($A$18:$A643)),1/ROW(②金銭出納簿!$C$4:$C$564),0),COLUMNS($A$5:E$5)),"")} | F643: {=IFERROR(INDEX(②金銭出納簿!$C$4:$M$564,MATCH(LARGE((②金銭出納簿!$G$4:$G$564=$A$1)*1/ROW(②金銭出納簿!$C$4:$C$564),ROWS($A$18:$A643)),1/ROW(②金銭出納簿!$C$4:$C$564),0),COLUMNS($A$5:F$5)),"")} | G643: {=IFERROR(INDEX(②金銭出納簿!$C$4:$M$564,MATCH(LARGE((②金銭出納簿!$G$4:$G$564=$A$1)*1/ROW(②金銭出納簿!$C$4:$C$564),ROWS($A$18:$A643)),1/ROW(②金銭出納簿!$C$4:$C$564),0),COLUMNS($A$5:G$5)),"")} | H643: {=IFERROR(INDEX(②金銭出納簿!$C$4:$M$564,MATCH(LARGE((②金銭出納簿!$G$4:$G$564=$A$1)*1/ROW(②金銭出納簿!$C$4:$C$564),ROWS($A$18:$A643)),1/ROW(②金銭出納簿!$C$4:$C$564),0),COLUMNS($A$5:H$5)),"")} | ... J643: {=IFERROR(INDEX(②金銭出納簿!$C$4:$M$564,MATCH(LARGE((②金銭出納簿!$G$4:$G$564=$A$1)*1/ROW(②金銭出納簿!$C$4:$C$564),ROWS($A$18:$A643)),1/ROW(②金銭出納簿!$C$4:$C$564),0),COLUMNS($A$5:J$5)),"")} | K643: =IFERROR(K642+I643,"") | L643: =IFERROR(L642+J643,"")
A644: {=IFERROR(INDEX(②金銭出納簿!$C$4:$M$564,MATCH(LARGE((②金銭出納簿!$G$4:$G$564=$A$1)*1/ROW(②金銭出納簿!$C$4:$C$564),ROWS($A$18:$A644)),1/ROW(②金銭出納簿!$C$4:$C$564),0),COLUMNS($A$5:A$5)),"")} | B644: {=IFERROR(INDEX(②金銭出納簿!$C$4:$M$564,MATCH(LARGE((②金銭出納簿!$G$4:$G$564=$A$1)*1/ROW(②金銭出納簿!$C$4:$C$564),ROWS($A$18:$A644)),1/ROW(②金銭出納簿!$C$4:$C$564),0),COLUMNS($A$5:B$5)),"")} | C644: {=IFERROR(INDEX(②金銭出納簿!$C$4:$M$564,MATCH(LARGE((②金銭出納簿!$G$4:$G$564=$A$1)*1/ROW(②金銭出納簿!$C$4:$C$564),ROWS($A$18:$A644)),1/ROW(②金銭出納簿!$C$4:$C$564),0),COLUMNS($A$5:C$5)),"")} | D644: {=IFERROR(INDEX(②金銭出納簿!$C$4:$M$564,MATCH(LARGE((②金銭出納簿!$G$4:$G$564=$A$1)*1/ROW(②金銭出納簿!$C$4:$C$564),ROWS($A$18:$A644)),1/ROW(②金銭出納簿!$C$4:$C$564),0),COLUMNS($A$5:D$5)),"")} | E644: {=IFERROR(INDEX(②金銭出納簿!$C$4:$M$564,MATCH(LARGE((②金銭出納簿!$G$4:$G$564=$A$1)*1/ROW(②金銭出納簿!$C$4:$C$564),ROWS($A$18:$A644)),1/ROW(②金銭出納簿!$C$4:$C$564),0),COLUMNS($A$5:E$5)),"")} | F644: {=IFERROR(INDEX(②金銭出納簿!$C$4:$M$564,MATCH(LARGE((②金銭出納簿!$G$4:$G$564=$A$1)*1/ROW(②金銭出納簿!$C$4:$C$564),ROWS($A$18:$A644)),1/ROW(②金銭出納簿!$C$4:$C$564),0),COLUMNS($A$5:F$5)),"")} | G644: {=IFERROR(INDEX(②金銭出納簿!$C$4:$M$564,MATCH(LARGE((②金銭出納簿!$G$4:$G$564=$A$1)*1/ROW(②金銭出納簿!$C$4:$C$564),ROWS($A$18:$A644)),1/ROW(②金銭出納簿!$C$4:$C$564),0),COLUMNS($A$5:G$5)),"")} | H644: {=IFERROR(INDEX(②金銭出納簿!$C$4:$M$564,MATCH(LARGE((②金銭出納簿!$G$4:$G$564=$A$1)*1/ROW(②金銭出納簿!$C$4:$C$564),ROWS($A$18:$A644)),1/ROW(②金銭出納簿!$C$4:$C$564),0),COLUMNS($A$5:H$5)),"")} | ... J644: {=IFERROR(INDEX(②金銭出納簿!$C$4:$M$564,MATCH(LARGE((②金銭出納簿!$G$4:$G$564=$A$1)*1/ROW(②金銭出納簿!$C$4:$C$564),ROWS($A$18:$A644)),1/ROW(②金銭出納簿!$C$4:$C$564),0),COLUMNS($A$5:J$5)),"")} | K644: =IFERROR(K643+I644,"") | L644: =IFERROR(L643+J644,"")
... A675: {=IFERROR(INDEX(②金銭出納簿!$C$4:$M$564,MATCH(LARGE((②金銭出納簿!$G$4:$G$564=$A$1)*1/ROW(②金銭出納簿!$C$4:$C$564),ROWS($A$18:$A675)),1/ROW(②金銭出納簿!$C$4:$C$564),0),COLUMNS($A$5:A$5)),"")} | B675: {=IFERROR(INDEX(②金銭出納簿!$C$4:$M$564,MATCH(LARGE((②金銭出納簿!$G$4:$G$564=$A$1)*1/ROW(②金銭出納簿!$C$4:$C$564),ROWS($A$18:$A675)),1/ROW(②金銭出納簿!$C$4:$C$564),0),COLUMNS($A$5:B$5)),"")} | C675: {=IFERROR(INDEX(②金銭出納簿!$C$4:$M$564,MATCH(LARGE((②金銭出納簿!$G$4:$G$564=$A$1)*1/ROW(②金銭出納簿!$C$4:$C$564),ROWS($A$18:$A675)),1/ROW(②金銭出納簿!$C$4:$C$564),0),COLUMNS($A$5:C$5)),"")} | D675: {=IFERROR(INDEX(②金銭出納簿!$C$4:$M$564,MATCH(LARGE((②金銭出納簿!$G$4:$G$564=$A$1)*1/ROW(②金銭出納簿!$C$4:$C$564),ROWS($A$18:$A675)),1/ROW(②金銭出納簿!$C$4:$C$564),0),COLUMNS($A$5:D$5)),"")} | E675: {=IFERROR(INDEX(②金銭出納簿!$C$4:$M$564,MATCH(LARGE((②金銭出納簿!$G$4:$G$564=$A$1)*1/ROW(②金銭出納簿!$C$4:$C$564),ROWS($A$18:$A675)),1/ROW(②金銭出納簿!$C$4:$C$564),0),COLUMNS($A$5:E$5)),"")} | F675: {=IFERROR(INDEX(②金銭出納簿!$C$4:$M$564,MATCH(LARGE((②金銭出納簿!$G$4:$G$564=$A$1)*1/ROW(②金銭出納簿!$C$4:$C$564),ROWS($A$18:$A675)),1/ROW(②金銭出納簿!$C$4:$C$564),0),COLUMNS($A$5:F$5)),"")} | G675: {=IFERROR(INDEX(②金銭出納簿!$C$4:$M$564,MATCH(LARGE((②金銭出納簿!$G$4:$G$564=$A$1)*1/ROW(②金銭出納簿!$C$4:$C$564),ROWS($A$18:$A675)),1/ROW(②金銭出納簿!$C$4:$C$564),0),COLUMNS($A$5:G$5)),"")} | H675: {=IFERROR(INDEX(②金銭出納簿!$C$4:$M$564,MATCH(LARGE((②金銭出納簿!$G$4:$G$564=$A$1)*1/ROW(②金銭出納簿!$C$4:$C$564),ROWS($A$18:$A675)),1/ROW(②金銭出納簿!$C$4:$C$564),0),COLUMNS($A$5:H$5)),"")} | ... J675: {=IFERROR(INDEX(②金銭出納簿!$C$4:$M$564,MATCH(LARGE((②金銭出納簿!$G$4:$G$564=$A$1)*1/ROW(②金銭出納簿!$C$4:$C$564),ROWS($A$18:$A675)),1/ROW(②金銭出納簿!$C$4:$C$564),0),COLUMNS($A$5:J$5)),"")} | K675: =IFERROR(K674+I675,"") | L675: =IFERROR(L674+J675,"")

Sheet ⑦ふれあい事業
A1: 2 ふれあい事業
H3: =SUM(H7:H53) -> 0 | I3: =SUM(I7:I53) -> 0 | J3: =SUM(J7:J53) -> 0
A4: 【ふれあい推進】
A5: 月 | B5: 日 | C5: № | E5: 区分 | F5: 摘要 | G5: 相手先 | H5: 収入金額 | I5: 支出 | K5: 累計
C6: 入 | D6: 出 | I6: 金額 | J6: 補助対象 | K6: 金額 | L6: 補助対象
A7: {=IFERROR(INDEX(②金銭出納簿!$C$4:$M$564,MATCH(LARGE((②金銭出納簿!$G$4:$G$564=$A$1)*1/ROW(②金銭出納簿!$C$4:$C$564),ROWS($A$18:$A18)),1/ROW(②金銭出納簿!$C$4:$C$564),0),COLUMNS($A$5:A$5)),"")} | B7: {=IFERROR(INDEX(②金銭出納簿!$C$4:$M$564,MATCH(LARGE((②金銭出納簿!$G$4:$G$564=$A$1)*1/ROW(②金銭出納簿!$C$4:$C$564),ROWS($A$18:$A18)),1/ROW(②金銭出納簿!$C$4:$C$564),0),COLUMNS($A$5:B$5)),"")} | C7: {=IFERROR(INDEX(②金銭出納簿!$C$4:$M$564,MATCH(LARGE((②金銭出納簿!$G$4:$G$564=$A$1)*1/ROW(②金銭出納簿!$C$4:$C$564),ROWS($A$18:$A18)),1/ROW(②金銭出納簿!$C$4:$C$564),0),COLUMNS($A$5:C$5)),"")} | D7: {=IFERROR(INDEX(②金銭出納簿!$C$4:$M$564,MATCH(LARGE((②金銭出納簿!$G$4:$G$564=$A$1)*1/ROW(②金銭出納簿!$C$4:$C$564),ROWS($A$18:$A18)),1/ROW(②金銭出納簿!$C$4:$C$564),0),COLUMNS($A$5:D$5)),"")} | E7: {=IFERROR(INDEX(②金銭出納簿!$C$4:$M$564,MATCH(LARGE((②金銭出納簿!$G$4:$G$564=$A$1)*1/ROW(②金銭出納簿!$C$4:$C$564),ROWS($A$18:$A18)),1/ROW(②金銭出納簿!$C$4:$C$564),0),COLUMNS($A$5:E$5)),"")} | F7: {=IFERROR(INDEX(②金銭出納簿!$C$4:$M$564,MATCH(LARGE((②金銭出納簿!$G$4:$G$564=$A$1)*1/ROW(②金銭出納簿!$C$4:$C$564),ROWS($A$18:$A18)),1/ROW(②金銭出納簿!$C$4:$C$564),0),COLUMNS($A$5:F$5)),"")} | G7: {=IFERROR(INDEX(②金銭出納簿!$C$4:$M$564,MATCH(LARGE((②金銭出納簿!$G$4:$G$564=$A$1)*1/ROW(②金銭出納簿!$C$4:$C$564),ROWS($A$18:$A18)),1/ROW(②金銭出納簿!$C$4:$C$564),0),COLUMNS($A$5:G$5)),"")} | H7: {=IFERROR(INDEX(②金銭出納簿!$C$4:$M$564,MATCH(LARGE((②金銭出納簿!$G$4:$G$564=$A$1)*1/ROW(②金銭出納簿!$C$4:$C$564),ROWS($A$18:$A18)),1/ROW(②金銭出納簿!$C$4:$C$564),0),COLUMNS($A$5:H$5)),"")} | ... J7: {=IFERROR(INDEX(②金銭出納簿!$C$4:$M$564,MATCH(LARGE((②金銭出納簿!$G$4:$G$564=$A$1)*1/ROW(②金銭出納簿!$C$4:$C$564),ROWS($A$18:$A18)),1/ROW(②金銭出納簿!$C$4:$C$564),0),COLUMNS($A$5:J$5)),"")} | K7: =I7 | L7: =J7 | M7: 金銭出納簿の「2 ふれあい事業」のものが自動で入力されます
A8: {=IFERROR(INDEX(②金銭出納簿!$C$4:$M$564,MATCH(LARGE((②金銭出納簿!$G$4:$G$564=$A$1)*1/ROW(②金銭出納簿!$C$4:$C$564),ROWS($A$18:$A19)),1/ROW(②金銭出納簿!$C$4:$C$564),0),COLUMNS($A$5:A$5)),"")} | B8: {=IFERROR(INDEX(②金銭出納簿!$C$4:$M$564,MATCH(LARGE((②金銭出納簿!$G$4:$G$564=$A$1)*1/ROW(②金銭出納簿!$C$4:$C$564),ROWS($A$18:$A19)),1/ROW(②金銭出納簿!$C$4:$C$564),0),COLUMNS($A$5:B$5)),"")} | C8: {=IFERROR(INDEX(②金銭出納簿!$C$4:$M$564,MATCH(LARGE((②金銭出納簿!$G$4:$G$564=$A$1)*1/ROW(②金銭出納簿!$C$4:$C$564),ROWS($A$18:$A19)),1/ROW(②金銭出納簿!$C$4:$C$564),0),COLUMNS($A$5:C$5)),"")} | D8: {=IFERROR(INDEX(②金銭出納簿!$C$4:$M$564,MATCH(LARGE((②金銭出納簿!$G$4:$G$564=$A$1)*1/ROW(②金銭出納簿!$C$4:$C$564),ROWS($A$18:$A19)),1/ROW(②金銭出納簿!$C$4:$C$564),0),COLUMNS($A$5:D$5)),"")} | E8: {=IFERROR(INDEX(②金銭出納簿!$C$4:$M$564,MATCH(LARGE((②金銭出納簿!$G$4:$G$564=$A$1)*1/ROW(②金銭出納簿!$C$4:$C$564),ROWS($A$18:$A19)),1/ROW(②金銭出納簿!$C$4:$C$564),0),COLUMNS($A$5:E$5)),"")} | F8: {=IFERROR(INDEX(②金銭出納簿!$C$4:$M$564,MATCH(LARGE((②金銭出納簿!$G$4:$G$564=$A$1)*1/ROW(②金銭出納簿!$C$4:$C$564),ROWS($A$18:$A19)),1/ROW(②金銭出納簿!$C$4:$C$564),0),COLUMNS($A$5:F$5)),"")} | G8: {=IFERROR(INDEX(②金銭出納簿!$C$4:$M$564,MATCH(LARGE((②金銭出納簿!$G$4:$G$564=$A$1)*1/ROW(②金銭出納簿!$C$4:$C$564),ROWS($A$18:$A19)),1/ROW(②金銭出納簿!$C$4:$C$564),0),COLUMNS($A$5:G$5)),"")} | H8: {=IFERROR(INDEX(②金銭出納簿!$C$4:$M$564,MATCH(LARGE((②金銭出納簿!$G$4:$G$564=$A$1)*1/ROW(②金銭出納簿!$C$4:$C$564),ROWS($A$18:$A19)),1/ROW(②金銭出納簿!$C$4:$C$564),0),COLUMNS($A$5:H$5)),"")} | ... J8: {=IFERROR(INDEX(②金銭出納簿!$C$4:$M$564,MATCH(LARGE((②金銭出納簿!$G$4:$G$564=$A$1)*1/ROW(②金銭出納簿!$C$4:$C$564),ROWS($A$18:$A19)),1/ROW(②金銭出納簿!$C$4:$C$564),0),COLUMNS($A$5:J$5)),"")} | K8: =IFERROR(K7+I8,"") | L8: =IFERROR(L7+J8,"")
A9: {=IFERROR(INDEX(②金銭出納簿!$C$4:$M$564,MATCH(LARGE((②金銭出納簿!$G$4:$G$564=$A$1)*1/ROW(②金銭出納簿!$C$4:$C$564),ROWS($A$18:$A20)),1/ROW(②金銭出納簿!$C$4:$C$564),0),COLUMNS($A$5:A$5)),"")} | B9: {=IFERROR(INDEX(②金銭出納簿!$C$4:$M$564,MATCH(LARGE((②金銭出納簿!$G$4:$G$564=$A$1)*1/ROW(②金銭出納簿!$C$4:$C$564),ROWS($A$18:$A20)),1/ROW(②金銭出納簿!$C$4:$C$564),0),COLUMNS($A$5:B$5)),"")} | C9: {=IFERROR(INDEX(②金銭出納簿!$C$4:$M$564,MATCH(LARGE((②金銭出納簿!$G$4:$G$564=$A$1)*1/ROW(②金銭出納簿!$C$4:$C$564),ROWS($A$18:$A20)),1/ROW(②金銭出納簿!$C$4:$C$564),0),COLUMNS($A$5:C$5)),"")} | D9: {=IFERROR(INDEX(②金銭出納簿!$C$4:$M$564,MATCH(LARGE((②金銭出納簿!$G$4:$G$564=$A$1)*1/ROW(②金銭出納簿!$C$4:$C$564),ROWS($A$18:$A20)),1/ROW(②金銭出納簿!$C$4:$C$564),0),COLUMNS($A$5:D$5)),"")} | E9: {=IFERROR(INDEX(②金銭出納簿!$C$4:$M$564,MATCH(LARGE((②金銭出納簿!$G$4:$G$564=$A$1)*1/ROW(②金銭出納簿!$C$4:$C$564),ROWS($A$18:$A20)),1/ROW(②金銭出納簿!$C$4:$C$564),0),COLUMNS($A$5:E$5)),"")} | F9: {=IFERROR(INDEX(②金銭出納簿!$C$4:$M$564,MATCH(LARGE((②金銭出納簿!$G$4:$G$564=$A$1)*1/ROW(②金銭出納簿!$C$4:$C$564),ROWS($A$18:$A20)),1/ROW(②金銭出納簿!$C$4:$C$564),0),COLUMNS($A$5:F$5)),"")} | G9: {=IFERROR(INDEX(②金銭出納簿!$C$4:$M$564,MATCH(LARGE((②金銭出納簿!$G$4:$G$564=$A$1)*1/ROW(②金銭出納簿!$C$4:$C$564),ROWS($A$18:$A20)),1/ROW(②金銭出納簿!$C$4:$C$564),0),COLUMNS($A$5:G$5)),"")} | H9: {=IFERROR(INDEX(②金銭出納簿!$C$4:$M$564,MATCH(LARGE((②金銭出納簿!$G$4:$G$564=$A$1)*1/ROW(②金銭出納簿!$C$4:$C$564),ROWS($A$18:$A20)),1/ROW(②金銭出納簿!$C$4:$C$564),0),COLUMNS($A$5:H$5)),"")} | ... J9: {=IFERROR(INDEX(②金銭出納簿!$C$4:$M$564,MATCH(LARGE((②金銭出納簿!$G$4:$G$564=$A$1)*1/ROW(②金銭出納簿!$C$4:$C$564),ROWS($A$18:$A20)),1/ROW(②金銭出納簿!$C$4:$C$564),0),COLUMNS($A$5:J$5)),"")} | K9: =IFERROR(K8+I9,"") | L9: =IFERROR(L8+J9,"")
A10: {=IFERROR(INDEX(②金銭出納簿!$C$4:$M$564,MATCH(LARGE((②金銭出納簿!$G$4:$G$564=$A$1)*1/ROW(②金銭出納簿!$C$4:$C$564),ROWS($A$18:$A21)),1/ROW(②金銭出納簿!$C$4:$C$564),0),COLUMNS($A$5:A$5)),"")} | B10: {=IFERROR(INDEX(②金銭出納簿!$C$4:$M$564,MATCH(LARGE((②金銭出納簿!$G$4:$G$564=$A$1)*1/ROW(②金銭出納簿!$C$4:$C$564),ROWS($A$18:$A21)),1/ROW(②金銭出納簿!$C$4:$C$564),0),COLUMNS($A$5:B$5)),"")} | C10: {=IFERROR(INDEX(②金銭出納簿!$C$4:$M$564,MATCH(LARGE((②金銭出納簿!$G$4:$G$564=$A$1)*1/ROW(②金銭出納簿!$C$4:$C$564),ROWS($A$18:$A21)),1/ROW(②金銭出納簿!$C$4:$C$564),0),COLUMNS($A$5:C$5)),"")} | D10: {=IFERROR(INDEX(②金銭出納簿!$C$4:$M$564,MATCH(LARGE((②金銭出納簿!$G$4:$G$564=$A$1)*1/ROW(②金銭出納簿!$C$4:$C$564),ROWS($A$18:$A21)),1/ROW(②金銭出納簿!$C$4:$C$564),0),COLUMNS($A$5:D$5)),"")} | E10: {=IFERROR(INDEX(②金銭出納簿!$C$4:$M$564,MATCH(LARGE((②金銭出納簿!$G$4:$G$564=$A$1)*1/ROW(②金銭出納簿!$C$4:$C$564),ROWS($A$18:$A21)),1/ROW(②金銭出納簿!$C$4:$C$564),0),COLUMNS($A$5:E$5)),"")} | F10: {=IFERROR(INDEX(②金銭出納簿!$C$4:$M$564,MATCH(LARGE((②金銭出納簿!$G$4:$G$564=$A$1)*1/ROW(②金銭出納簿!$C$4:$C$564),ROWS($A$18:$A21)),1/ROW(②金銭出納簿!$C$4:$C$564),0),COLUMNS($A$5:F$5)),"")} | G10: {=IFERROR(INDEX(②金銭出納簿!$C$4:$M$564,MATCH(LARGE((②金銭出納簿!$G$4:$G$564=$A$1)*1/ROW(②金銭出納簿!$C$4:$C$564),ROWS($A$18:$A21)),1/ROW(②金銭出納簿!$C$4:$C$564),0),COLUMNS($A$5:G$5)),"")} | H10: {=IFERROR(INDEX(②金銭出納簿!$C$4:$M$564,MATCH(LARGE((②金銭出納簿!$G$4:$G$564=$A$1)*1/ROW(②金銭出納簿!$C$4:$C$564),ROWS($A$18:$A21)),1/ROW(②金銭出納簿!$C$4:$C$564),0),COLUMNS($A$5:H$5)),"")} | ... J10: {=IFERROR(INDEX(②金銭出納簿!$C$4:$M$564,MATCH(LARGE((②金銭出納簿!$G$4:$G$564=$A$1)*1/ROW(②金銭出納簿!$C$4:$C$564),ROWS($A$18:$A21)),1/ROW(②金銭出納簿!$C$4:$C$564),0),COLUMNS($A$5:J$5)),"")} | K10: =IFERROR(K9+I10,"") | L10: =IFERROR(L9+J10,"")
A11: {=IFERROR(INDEX(②金銭出納簿!$C$4:$M$564,MATCH(LARGE((②金銭出納簿!$G$4:$G$564=$A$1)*1/ROW(②金銭出納簿!$C$4:$C$564),ROWS($A$18:$A22)),1/ROW(②金銭出納簿!$C$4:$C$564),0),COLUMNS($A$5:A$5)),"")} | B11: {=IFERROR(INDEX(②金銭出納簿!$C$4:$M$564,MATCH(LARGE((②金銭出納簿!$G$4:$G$564=$A$1)*1/ROW(②金銭出納簿!$C$4:$C$564),ROWS($A$18:$A22)),1/ROW(②金銭出納簿!$C$4:$C$564),0),COLUMNS($A$5:B$5)),"")} | C11: {=IFERROR(INDEX(②金銭出納簿!$C$4:$M$564,MATCH(LARGE((②金銭出納簿!$G$4:$G$564=$A$1)*1/ROW(②金銭出納簿!$C$4:$C$564),ROWS($A$18:$A22)),1/ROW(②金銭出納簿!$C$4:$C$564),0),COLUMNS($A$5:C$5)),"")} | D11: {=IFERROR(INDEX(②金銭出納簿!$C$4:$M$564,MATCH(LARGE((②金銭出納簿!$G$4:$G$564=$A$1)*1/ROW(②金銭出納簿!$C$4:$C$564),ROWS($A$18:$A22)),1/ROW(②金銭出納簿!$C$4:$C$564),0),COLUMNS($A$5:D$5)),"")} | E11: {=IFERROR(INDEX(②金銭出納簿!$C$4:$M$564,MATCH(LARGE((②金銭出納簿!$G$4:$G$564=$A$1)*1/ROW(②金銭出納簿!$C$4:$C$564),ROWS($A$18:$A22)),1/ROW(②金銭出納簿!$C$4:$C$564),0),COLUMNS($A$5:E$5)),"")} | F11: {=IFERROR(INDEX(②金銭出納簿!$C$4:$M$564,MATCH(LARGE((②金銭出納簿!$G$4:$G$564=$A$1)*1/ROW(②金銭出納簿!$C$4:$C$564),ROWS($A$18:$A22)),1/ROW(②金銭出納簿!$C$4:$C$564),0),COLUMNS($A$5:F$5)),"")} | G11: {=IFERROR(INDEX(②金銭出納簿!$C$4:$M$564,MATCH(LARGE((②金銭出納簿!$G$4:$G$564=$A$1)*1/ROW(②金銭出納簿!$C$4:$C$564),ROWS($A$18:$A22)),1/ROW(②金銭出納簿!$C$4:$C$564),0),COLUMNS($A$5:G$5)),"")} | H11: {=IFERROR(INDEX(②金銭出納簿!$C$4:$M$564,MATCH(LARGE((②金銭出納簿!$G$4:$G$564=$A$1)*1/ROW(②金銭出納簿!$C$4:$C$564),ROWS($A$18:$A22)),1/ROW(②金銭出納簿!$C$4:$C$564),0),COLUMNS($A$5:H$5)),"")} | ... J11: {=IFERROR(INDEX(②金銭出納簿!$C$4:$M$564,MATCH(LARGE((②金銭出納簿!$G$4:$G$564=$A$1)*1/ROW(②金銭出納簿!$C$4:$C$564),ROWS($A$18:$A22)),1/ROW(②金銭出納簿!$C$4:$C$564),0),COLUMNS($A$5:J$5)),"")} | K11: =IFERROR(K10+I11,"") | L11: =IFERROR(L10+J11,"")
A12: {=IFERROR(INDEX(②金銭出納簿!$C$4:$M$564,MATCH(LARGE((②金銭出納簿!$G$4:$G$564=$A$1)*1/ROW(②金銭出納簿!$C$4:$C$564),ROWS($A$18:$A23)),1/ROW(②金銭出納簿!$C$4:$C$564),0),COLUMNS($A$5:A$5)),"")} | B12: {=IFERROR(INDEX(②金銭出納簿!$C$4:$M$564,MATCH(LARGE((②金銭出納簿!$G$4:$G$564=$A$1)*1/ROW(②金銭出納簿!$C$4:$C$564),ROWS($A$18:$A23)),1/ROW(②金銭出納簿!$C$4:$C$564),0),COLUMNS($A$5:B$5)),"")} | C12: {=IFERROR(INDEX(②金銭出納簿!$C$4:$M$564,MATCH(LARGE((②金銭出納簿!$G$4:$G$564=$A$1)*1/ROW(②金銭出納簿!$C$4:$C$564),ROWS($A$18:$A23)),1/ROW(②金銭出納簿!$C$4:$C$564),0),COLUMNS($A$5:C$5)),"")} | D12: {=IFERROR(INDEX(②金銭出納簿!$C$4:$M$564,MATCH(LARGE((②金銭出納簿!$G$4:$G$564=$A$1)*1/ROW(②金銭出納簿!$C$4:$C$564),ROWS($A$18:$A23)),1/ROW(②金銭出納簿!$C$4:$C$564),0),COLUMNS($A$5:D$5)),"")} | E12: {=IFERROR(INDEX(②金銭出納簿!$C$4:$M$564,MATCH(LARGE((②金銭出納簿!$G$4:$G$564=$A$1)*1/ROW(②金銭出納簿!$C$4:$C$564),ROWS($A$18:$A23)),1/ROW(②金銭出納簿!$C$4:$C$564),0),COLUMNS($A$5:E$5)),"")} | F12: {=IFERROR(INDEX(②金銭出納簿!$C$4:$M$564,MATCH(LARGE((②金銭出納簿!$G$4:$G$564=$A$1)*1/ROW(②金銭出納簿!$C$4:$C$564),ROWS($A$18:$A23)),1/ROW(②金銭出納簿!$C$4:$C$564),0),COLUMNS($A$5:F$5)),"")} | G12: {=IFERROR(INDEX(②金銭出納簿!$C$4:$M$564,MATCH(LARGE((②金銭出納簿!$G$4:$G$564=$A$1)*1/ROW(②金銭出納簿!$C$4:$C$564),ROWS($A$18:$A23)),1/ROW(②金銭出納簿!$C$4:$C$564),0),COLUMNS($A$5:G$5)),"")} | H12: {=IFERROR(INDEX(②金銭出納簿!$C$4:$M$564,MATCH(LARGE((②金銭出納簿!$G$4:$G$564=$A$1)*1/ROW(②金銭出納簿!$C$4:$C$564),ROWS($A$18:$A23)),1/ROW(②金銭出納簿!$C$4:$C$564),0),COLUMNS($A$5:H$5)),"")} | ... J12: {=IFERROR(INDEX(②金銭出納簿!$C$4:$M$564,MATCH(LARGE((②金銭出納簿!$G$4:$G$564=$A$1)*1/ROW(②金銭出納簿!$C$4:$C$564),ROWS($A$18:$A23)),1/ROW(②金銭出納簿!$C$4:$C$564),0),COLUMNS($A$5:J$5)),"")} | K12: =IFERROR(K11+I12,"") | L12: =IFERROR(L11+J12,"")
A13: {=IFERROR(INDEX(②金銭出納簿!$C$4:$M$564,MATCH(LARGE((②金銭出納簿!$G$4:$G$564=$A$1)*1/ROW(②金銭出納簿!$C$4:$C$564),ROWS($A$18:$A24)),1/ROW(②金銭出納簿!$C$4:$C$564),0),COLUMNS($A$5:A$5)),"")} | B13: {=IFERROR(INDEX(②金銭出納簿!$C$4:$M$564,MATCH(LARGE((②金銭出納簿!$G$4:$G$564=$A$1)*1/ROW(②金銭出納簿!$C$4:$C$564),ROWS($A$18:$A24)),1/ROW(②金銭出納簿!$C$4:$C$564),0),COLUMNS($A$5:B$5)),"")} | C13: {=IFERROR(INDEX(②金銭出納簿!$C$4:$M$564,MATCH(LARGE((②金銭出納簿!$G$4:$G$564=$A$1)*1/ROW(②金銭出納簿!$C$4:$C$564),ROWS($A$18:$A24)),1/ROW(②金銭出納簿!$C$4:$C$564),0),COLUMNS($A$5:C$5)),"")} | D13: {=IFERROR(INDEX(②金銭出納簿!$C$4:$M$564,MATCH(LARGE((②金銭出納簿!$G$4:$G$564=$A$1)*1/ROW(②金銭出納簿!$C$4:$C$564),ROWS($A$18:$A24)),1/ROW(②金銭出納簿!$C$4:$C$564),0),COLUMNS($A$5:D$5)),"")} | E13: {=IFERROR(INDEX(②金銭出納簿!$C$4:$M$564,MATCH(LARGE((②金銭出納簿!$G$4:$G$564=$A$1)*1/ROW(②金銭出納簿!$C$4:$C$564),ROWS($A$18:$A24)),1/ROW(②金銭出納簿!$C$4:$C$564),0),COLUMNS($A$5:E$5)),"")} | F13: {=IFERROR(INDEX(②金銭出納簿!$C$4:$M$564,MATCH(LARGE((②金銭出納簿!$G$4:$G$564=$A$1)*1/ROW(②金銭出納簿!$C$4:$C$564),ROWS($A$18:$A24)),1/ROW(②金銭出納簿!$C$4:$C$564),0),COLUMNS($A$5:F$5)),"")} | G13: {=IFERROR(INDEX(②金銭出納簿!$C$4:$M$564,MATCH(LARGE((②金銭出納簿!$G$4:$G$564=$A$1)*1/ROW(②金銭出納簿!$C$4:$C$564),ROWS($A$18:$A24)),1/ROW(②金銭出納簿!$C$4:$C$564),0),COLUMNS($A$5:G$5)),"")} | H13: {=IFERROR(INDEX(②金銭出納簿!$C$4:$M$564,MATCH(LARGE((②金銭出納簿!$G$4:$G$564=$A$1)*1/ROW(②金銭出納簿!$C$4:$C$564),ROWS($A$18:$A24)),1/ROW(②金銭出納簿!$C$4:$C$564),0),COLUMNS($A$5:H$5)),"")} | ... J13: {=IFERROR(INDEX(②金銭出納簿!$C$4:$M$564,MATCH(LARGE((②金銭出納簿!$G$4:$G$564=$A$1)*1/ROW(②金銭出納簿!$C$4:$C$564),ROWS($A$18:$A24)),1/ROW(②金銭出納簿!$C$4:$C$564),0),COLUMNS($A$5:J$5)),"")} | K13: =IFERROR(K12+I13,"") | L13: =IFERROR(L12+J13,"")
A14: {=IFERROR(INDEX(②金銭出納簿!$C$4:$M$564,MATCH(LARGE((②金銭出納簿!$G$4:$G$564=$A$1)*1/ROW(②金銭出納簿!$C$4:$C$564),ROWS($A$18:$A25)),1/ROW(②金銭出納簿!$C$4:$C$564),0),COLUMNS($A$5:A$5)),"")} | B14: {=IFERROR(INDEX(②金銭出納簿!$C$4:$M$564,MATCH(LARGE((②金銭出納簿!$G$4:$G$564=$A$1)*1/ROW(②金銭出納簿!$C$4:$C$564),ROWS($A$18:$A25)),1/ROW(②金銭出納簿!$C$4:$C$564),0),COLUMNS($A$5:B$5)),"")} | C14: {=IFERROR(INDEX(②金銭出納簿!$C$4:$M$564,MATCH(LARGE((②金銭出納簿!$G$4:$G$564=$A$1)*1/ROW(②金銭出納簿!$C$4:$C$564),ROWS($A$18:$A25)),1/ROW(②金銭出納簿!$C$4:$C$564),0),COLUMNS($A$5:C$5)),"")} | D14: {=IFERROR(INDEX(②金銭出納簿!$C$4:$M$564,MATCH(LARGE((②金銭出納簿!$G$4:$G$564=$A$1)*1/ROW(②金銭出納簿!$C$4:$C$564),ROWS($A$18:$A25)),1/ROW(②金銭出納簿!$C$4:$C$564),0),COLUMNS($A$5:D$5)),"")} | E14: {=IFERROR(INDEX(②金銭出納簿!$C$4:$M$564,MATCH(LARGE((②金銭出納簿!$G$4:$G$564=$A$1)*1/ROW(②金銭出納簿!$C$4:$C$564),ROWS($A$18:$A25)),1/ROW(②金銭出納簿!$C$4:$C$564),0),COLUMNS($A$5:E$5)),"")} | F14: {=IFERROR(INDEX(②金銭出納簿!$C$4:$M$564,MATCH(LARGE((②金銭出納簿!$G$4:$G$564=$A$1)*1/ROW(②金銭出納簿!$C$4:$C$564),ROWS($A$18:$A25)),1/ROW(②金銭出納簿!$C$4:$C$564),0),COLUMNS($A$5:F$5)),"")} | G14: {=IFERROR(INDEX(②金銭出納簿!$C$4:$M$564,MATCH(LARGE((②金銭出納簿!$G$4:$G$564=$A$1)*1/ROW(②金銭出納簿!$C$4:$C$564),ROWS($A$18:$A25)),1/ROW(②金銭出納簿!$C$4:$C$564),0),COLUMNS($A$5:G$5)),"")} | H14: {=IFERROR(INDEX(②金銭出納簿!$C$4:$M$564,MATCH(LARGE((②金銭出納簿!$G$4:$G$564=$A$1)*1/ROW(②金銭出納簿!$C$4:$C$564),ROWS($A$18:$A25)),1/ROW(②金銭出納簿!$C$4:$C$564),0),COLUMNS($A$5:H$5)),"")} | ... J14: {=IFERROR(INDEX(②金銭出納簿!$C$4:$M$564,MATCH(LARGE((②金銭出納簿!$G$4:$G$564=$A$1)*1/ROW(②金銭出納簿!$C$4:$C$564),ROWS($A$18:$A25)),1/ROW(②金銭出納簿!$C$4:$C$564),0),COLUMNS($A$5:J$5)),"")} | K14: =IFERROR(K13+I14,"") | L14: =IFERROR(L13+J14,"")
A15: {=IFERROR(INDEX(②金銭出納簿!$C$4:$M$564,MATCH(LARGE((②金銭出納簿!$G$4:$G$564=$A$1)*1/ROW(②金銭出納簿!$C$4:$C$564),ROWS($A$18:$A26)),1/ROW(②金銭出納簿!$C$4:$C$564),0),COLUMNS($A$5:A$5)),"")} | B15: {=IFERROR(INDEX(②金銭出納簿!$C$4:$M$564,MATCH(LARGE((②金銭出納簿!$G$4:$G$564=$A$1)*1/ROW(②金銭出納簿!$C$4:$C$564),ROWS($A$18:$A26)),1/ROW(②金銭出納簿!$C$4:$C$564),0),COLUMNS($A$5:B$5)),"")} | C15: {=IFERROR(INDEX(②金銭出納簿!$C$4:$M$564,MATCH(LARGE((②金銭出納簿!$G$4:$G$564=$A$1)*1/ROW(②金銭出納簿!$C$4:$C$564),ROWS($A$18:$A26)),1/ROW(②金銭出納簿!$C$4:$C$564),0),COLUMNS($A$5:C$5)),"")} | D15: {=IFERROR(INDEX(②金銭出納簿!$C$4:$M$564,MATCH(LARGE((②金銭出納簿!$G$4:$G$564=$A$1)*1/ROW(②金銭出納簿!$C$4:$C$564),ROWS($A$18:$A26)),1/ROW(②金銭出納簿!$C$4:$C$564),0),COLUMNS($A$5:D$5)),"")} | E15: {=IFERROR(INDEX(②金銭出納簿!$C$4:$M$564,MATCH(LARGE((②金銭出納簿!$G$4:$G$564=$A$1)*1/ROW(②金銭出納簿!$C$4:$C$564),ROWS($A$18:$A26)),1/ROW(②金銭出納簿!$C$4:$C$564),0),COLUMNS($A$5:E$5)),"")} | F15: {=IFERROR(INDEX(②金銭出納簿!$C$4:$M$564,MATCH(LARGE((②金銭出納簿!$G$4:$G$564=$A$1)*1/ROW(②金銭出納簿!$C$4:$C$564),ROWS($A$18:$A26)),1/ROW(②金銭出納簿!$C$4:$C$564),0),COLUMNS($A$5:F$5)),"")} | G15: {=IFERROR(INDEX(②金銭出納簿!$C$4:$M$564,MATCH(LARGE((②金銭出納簿!$G$4:$G$564=$A$1)*1/ROW(②金銭出納簿!$C$4:$C$564),ROWS($A$18:$A26)),1/ROW(②金銭出納簿!$C$4:$C$564),0),COLUMNS($A$5:G$5)),"")} | H15: {=IFERROR(INDEX(②金銭出納簿!$C$4:$M$564,MATCH(LARGE((②金銭出納簿!$G$4:$G$564=$A$1)*1/ROW(②金銭出納簿!$C$4:$C$564),ROWS($A$18:$A26)),1/ROW(②金銭出納簿!$C$4:$C$564),0),COLUMNS($A$5:H$5)),"")} | ... J15: {=IFERROR(INDEX(②金銭出納簿!$C$4:$M$564,MATCH(LARGE((②金銭出納簿!$G$4:$G$564=$A$1)*1/ROW(②金銭出納簿!$C$4:$C$564),ROWS($A$18:$A26)),1/ROW(②金銭出納簿!$C$4:$C$564),0),COLUMNS($A$5:J$5)),"")} | K15: =IFERROR(K14+I15,"") | L15: =IFERROR(L14+J15,"")
A16: {=IFERROR(INDEX(②金銭出納簿!$C$4:$M$564,MATCH(LARGE((②金銭出納簿!$G$4:$G$564=$A$1)*1/ROW(②金銭出納簿!$C$4:$C$564),ROWS($A$18:$A27)),1/ROW(②金銭出納簿!$C$4:$C$564),0),COLUMNS($A$5:A$5)),"")} | B16: {=IFERROR(INDEX(②金銭出納簿!$C$4:$M$564,MATCH(LARGE((②金銭出納簿!$G$4:$G$564=$A$1)*1/ROW(②金銭出納簿!$C$4:$C$564),ROWS($A$18:$A27)),1/ROW(②金銭出納簿!$C$4:$C$564),0),COLUMNS($A$5:B$5)),"")} | C16: {=IFERROR(INDEX(②金銭出納簿!$C$4:$M$564,MATCH(LARGE((②金銭出納簿!$G$4:$G$564=$A$1)*1/ROW(②金銭出納簿!$C$4:$C$564),ROWS($A$18:$A27)),1/ROW(②金銭出納簿!$C$4:$C$564),0),COLUMNS($A$5:C$5)),"")} | D16: {=IFERROR(INDEX(②金銭出納簿!$C$4:$M$564,MATCH(LARGE((②金銭出納簿!$G$4:$G$564=$A$1)*1/ROW(②金銭出納簿!$C$4:$C$564),ROWS($A$18:$A27)),1/ROW(②金銭出納簿!$C$4:$C$564),0),COLUMNS($A$5:D$5)),"")} | E16: {=IFERROR(INDEX(②金銭出納簿!$C$4:$M$564,MATCH(LARGE((②金銭出納簿!$G$4:$G$564=$A$1)*1/ROW(②金銭出納簿!$C$4:$C$564),ROWS($A$18:$A27)),1/ROW(②金銭出納簿!$C$4:$C$564),0),COLUMNS($A$5:E$5)),"")} | F16: {=IFERROR(INDEX(②金銭出納簿!$C$4:$M$564,MATCH(LARGE((②金銭出納簿!$G$4:$G$564=$A$1)*1/ROW(②金銭出納簿!$C$4:$C$564),ROWS($A$18:$A27)),1/ROW(②金銭出納簿!$C$4:$C$564),0),COLUMNS($A$5:F$5)),"")} | G16: {=IFERROR(INDEX(②金銭出納簿!$C$4:$M$564,MATCH(LARGE((②金銭出納簿!$G$4:$G$564=$A$1)*1/ROW(②金銭出納簿!$C$4:$C$564),ROWS($A$18:$A27)),1/ROW(②金銭出納簿!$C$4:$C$564),0),COLUMNS($A$5:G$5)),"")} | H16: {=IFERROR(INDEX(②金銭出納簿!$C$4:$M$564,MATCH(LARGE((②金銭出納簿!$G$4:$G$564=$A$1)*1/ROW(②金銭出納簿!$C$4:$C$564),ROWS($A$18:$A27)),1/ROW(②金銭出納簿!$C$4:$C$564),0),COLUMNS($A$5:H$5)),"")} | ... J16: {=IFERROR(INDEX(②金銭出納簿!$C$4:$M$564,MATCH(LARGE((②金銭出納簿!$G$4:$G$564=$A$1)*1/ROW(②金銭出納簿!$C$4:$C$564),ROWS($A$18:$A27)),1/ROW(②金銭出納簿!$C$4:$C$564),0),COLUMNS($A$5:J$5)),"")} | K16: =IFERROR(K15+I16,"") | L16: =IFERROR(L15+J16,"")
A17: {=IFERROR(INDEX(②金銭出納簿!$C$4:$M$564,MATCH(LARGE((②金銭出納簿!$G$4:$G$564=$A$1)*1/ROW(②金銭出納簿!$C$4:$C$564),ROWS($A$18:$A28)),1/ROW(②金銭出納簿!$C$4:$C$564),0),COLUMNS($A$5:A$5)),"")} | B17: {=IFERROR(INDEX(②金銭出納簿!$C$4:$M$564,MATCH(LARGE((②金銭出納簿!$G$4:$G$564=$A$1)*1/ROW(②金銭出納簿!$C$4:$C$564),ROWS($A$18:$A28)),1/ROW(②金銭出納簿!$C$4:$C$564),0),COLUMNS($A$5:B$5)),"")} | C17: {=IFERROR(INDEX(②金銭出納簿!$C$4:$M$564,MATCH(LARGE((②金銭出納簿!$G$4:$G$564=$A$1)*1/ROW(②金銭出納簿!$C$4:$C$564),ROWS($A$18:$A28)),1/ROW(②金銭出納簿!$C$4:$C$564),0),COLUMNS($A$5:C$5)),"")} | D17: {=IFERROR(INDEX(②金銭出納簿!$C$4:$M$564,MATCH(LARGE((②金銭出納簿!$G$4:$G$564=$A$1)*1/ROW(②金銭出納簿!$C$4:$C$564),ROWS($A$18:$A28)),1/ROW(②金銭出納簿!$C$4:$C$564),0),COLUMNS($A$5:D$5)),"")} | E17: {=IFERROR(INDEX(②金銭出納簿!$C$4:$M$564,MATCH(LARGE((②金銭出納簿!$G$4:$G$564=$A$1)*1/ROW(②金銭出納簿!$C$4:$C$564),ROWS($A$18:$A28)),1/ROW(②金銭出納簿!$C$4:$C$564),0),COLUMNS($A$5:E$5)),"")} | F17: {=IFERROR(INDEX(②金銭出納簿!$C$4:$M$564,MATCH(LARGE((②金銭出納簿!$G$4:$G$564=$A$1)*1/ROW(②金銭出納簿!$C$4:$C$564),ROWS($A$18:$A28)),1/ROW(②金銭出納簿!$C$4:$C$564),0),COLUMNS($A$5:F$5)),"")} | G17: {=IFERROR(INDEX(②金銭出納簿!$C$4:$M$564,MATCH(LARGE((②金銭出納簿!$G$4:$G$564=$A$1)*1/ROW(②金銭出納簿!$C$4:$C$564),ROWS($A$18:$A28)),1/ROW(②金銭出納簿!$C$4:$C$564),0),COLUMNS($A$5:G$5)),"")} | H17: {=IFERROR(INDEX(②金銭出納簿!$C$4:$M$564,MATCH(LARGE((②金銭出納簿!$G$4:$G$564=$A$1)*1/ROW(②金銭出納簿!$C$4:$C$564),ROWS($A$18:$A28)),1/ROW(②金銭出納簿!$C$4:$C$564),0),COLUMNS($A$5:H$5)),"")} | ... J17: {=IFERROR(INDEX(②金銭出納簿!$C$4:$M$564,MATCH(LARGE((②金銭出納簿!$G$4:$G$564=$A$1)*1/ROW(②金銭出納簿!$C$4:$C$564),ROWS($A$18:$A28)),1/ROW(②金銭出納簿!$C$4:$C$564),0),COLUMNS($A$5:J$5)),"")} | K17: =IFERROR(K16+I17,"") | L17: =IFERROR(L16+J17,"")
A18: {=IFERROR(INDEX(②金銭出納簿!$C$4:$M$564,MATCH(LARGE((②金銭出納簿!$G$4:$G$564=$A$1)*1/ROW(②金銭出納簿!$C$4:$C$564),ROWS($A$18:$A29)),1/ROW(②金銭出納簿!$C$4:$C$564),0),COLUMNS($A$5:A$5)),"")} | B18: {=IFERROR(INDEX(②金銭出納簿!$C$4:$M$564,MATCH(LARGE((②金銭出納簿!$G$4:$G$564=$A$1)*1/ROW(②金銭出納簿!$C$4:$C$564),ROWS($A$18:$A29)),1/ROW(②金銭出納簿!$C$4:$C$564),0),COLUMNS($A$5:B$5)),"")} | C18: {=IFERROR(INDEX(②金銭出納簿!$C$4:$M$564,MATCH(LARGE((②金銭出納簿!$G$4:$G$564=$A$1)*1/ROW(②金銭出納簿!$C$4:$C$564),ROWS($A$18:$A29)),1/ROW(②金銭出納簿!$C$4:$C$564),0),COLUMNS($A$5:C$5)),"")} | D18: {=IFERROR(INDEX(②金銭出納簿!$C$4:$M$564,MATCH(LARGE((②金銭出納簿!$G$4:$G$564=$A$1)*1/ROW(②金銭出納簿!$C$4:$C$564),ROWS($A$18:$A29)),1/ROW(②金銭出納簿!$C$4:$C$564),0),COLUMNS($A$5:D$5)),"")} | E18: {=IFERROR(INDEX(②金銭出納簿!$C$4:$M$564,MATCH(LARGE((②金銭出納簿!$G$4:$G$564=$A$1)*1/ROW(②金銭出納簿!$C$4:$C$564),ROWS($A$18:$A29)),1/ROW(②金銭出納簿!$C$4:$C$564),0),COLUMNS($A$5:E$5)),"")} | F18: {=IFERROR(INDEX(②金銭出納簿!$C$4:$M$564,MATCH(LARGE((②金銭出納簿!$G$4:$G$564=$A$1)*1/ROW(②金銭出納簿!$C$4:$C$564),ROWS($A$18:$A29)),1/ROW(②金銭出納簿!$C$4:$C$564),0),COLUMNS($A$5:F$5)),"")} | G18: {=IFERROR(INDEX(②金銭出納簿!$C$4:$M$564,MATCH(LARGE((②金銭出納簿!$G$4:$G$564=$A$1)*1/ROW(②金銭出納簿!$C$4:$C$564),ROWS($A$18:$A29)),1/ROW(②金銭出納簿!$C$4:$C$564),0),COLUMNS($A$5:G$5)),"")} | H18: {=IFERROR(INDEX(②金銭出納簿!$C$4:$M$564,MATCH(LARGE((②金銭出納簿!$G$4:$G$564=$A$1)*1/ROW(②金銭出納簿!$C$4:$C$564),ROWS($A$18:$A29)),1/ROW(②金銭出納簿!$C$4:$C$564),0),COLUMNS($A$5:H$5)),"")} | ... J18: {=IFERROR(INDEX(②金銭出納簿!$C$4:$M$564,MATCH(LARGE((②金銭出納簿!$G$4:$G$564=$A$1)*1/ROW(②金銭出納簿!$C$4:$C$564),ROWS($A$18:$A29)),1/ROW(②金銭出納簿!$C$4:$C$564),0),COLUMNS($A$5:J$5)),"")} | K18: =IFERROR(K17+I18,"") | L18: =IFERROR(L17+J18,"")
A19: {=IFERROR(INDEX(②金銭出納簿!$C$4:$M$564,MATCH(LARGE((②金銭出納簿!$G$4:$G$564=$A$1)*1/ROW(②金銭出納簿!$C$4:$C$564),ROWS($A$18:$A30)),1/ROW(②金銭出納簿!$C$4:$C$564),0),COLUMNS($A$5:A$5)),"")} | B19: {=IFERROR(INDEX(②金銭出納簿!$C$4:$M$564,MATCH(LARGE((②金銭出納簿!$G$4:$G$564=$A$1)*1/ROW(②金銭出納簿!$C$4:$C$564),ROWS($A$18:$A30)),1/ROW(②金銭出納簿!$C$4:$C$564),0),COLUMNS($A$5:B$5)),"")} | C19: {=IFERROR(INDEX(②金銭出納簿!$C$4:$M$564,MATCH(LARGE((②金銭出納簿!$G$4:$G$564=$A$1)*1/ROW(②金銭出納簿!$C$4:$C$564),ROWS($A$18:$A30)),1/ROW(②金銭出納簿!$C$4:$C$564),0),COLUMNS($A$5:C$5)),"")} | D19: {=IFERROR(INDEX(②金銭出納簿!$C$4:$M$564,MATCH(LARGE((②金銭出納簿!$G$4:$G$564=$A$1)*1/ROW(②金銭出納簿!$C$4:$C$564),ROWS($A$18:$A30)),1/ROW(②金銭出納簿!$C$4:$C$564),0),COLUMNS($A$5:D$5)),"")} | E19: {=IFERROR(INDEX(②金銭出納簿!$C$4:$M$564,MATCH(LARGE((②金銭出納簿!$G$4:$G$564=$A$1)*1/ROW(②金銭出納簿!$C$4:$C$564),ROWS($A$18:$A30)),1/ROW(②金銭出納簿!$C$4:$C$564),0),COLUMNS($A$5:E$5)),"")} | F19: {=IFERROR(INDEX(②金銭出納簿!$C$4:$M$564,MATCH(LARGE((②金銭出納簿!$G$4:$G$564=$A$1)*1/ROW(②金銭出納簿!$C$4:$C$564),ROWS($A$18:$A30)),1/ROW(②金銭出納簿!$C$4:$C$564),0),COLUMNS($A$5:F$5)),"")} | G19: {=IFERROR(INDEX(②金銭出納簿!$C$4:$M$564,MATCH(LARGE((②金銭出納簿!$G$4:$G$564=$A$1)*1/ROW(②金銭出納簿!$C$4:$C$564),ROWS($A$18:$A30)),1/ROW(②金銭出納簿!$C$4:$C$564),0),COLUMNS($A$5:G$5)),"")} | H19: {=IFERROR(INDEX(②金銭出納簿!$C$4:$M$564,MATCH(LARGE((②金銭出納簿!$G$4:$G$564=$A$1)*1/ROW(②金銭出納簿!$C$4:$C$564),ROWS($A$18:$A30)),1/ROW(②金銭出納簿!$C$4:$C$564),0),COLUMNS($A$5:H$5)),"")} | ... J19: {=IFERROR(INDEX(②金銭出納簿!$C$4:$M$564,MATCH(LARGE((②金銭出納簿!$G$4:$G$564=$A$1)*1/ROW(②金銭出納簿!$C$4:$C$564),ROWS($A$18:$A30)),1/ROW(②金銭出納簿!$C$4:$C$564),0),COLUMNS($A$5:J$5)),"")} | K19: =IFERROR(K18+I19,"") | L19: =IFERROR(L18+J19,"")
... A675: {=IFERROR(INDEX(②金銭出納簿!$C$4:$M$564,MATCH(LARGE((②金銭出納簿!$G$4:$G$564=$A$1)*1/ROW(②金銭出納簿!$C$4:$C$564),ROWS($A$18:$A686)),1/ROW(②金銭出納簿!$C$4:$C$564),0),COLUMNS($A$5:A$5)),"")} | B675: {=IFERROR(INDEX(②金銭出納簿!$C$4:$M$564,MATCH(LARGE((②金銭出納簿!$G$4:$G$564=$A$1)*1/ROW(②金銭出納簿!$C$4:$C$564),ROWS($A$18:$A686)),1/ROW(②金銭出納簿!$C$4:$C$564),0),COLUMNS($A$5:B$5)),"")} | C675: {=IFERROR(INDEX(②金銭出納簿!$C$4:$M$564,MATCH(LARGE((②金銭出納簿!$G$4:$G$564=$A$1)*1/ROW(②金銭出納簿!$C$4:$C$564),ROWS($A$18:$A686)),1/ROW(②金銭出納簿!$C$4:$C$564),0),COLUMNS($A$5:C$5)),"")} | D675: {=IFERROR(INDEX(②金銭出納簿!$C$4:$M$564,MATCH(LARGE((②金銭出納簿!$G$4:$G$564=$A$1)*1/ROW(②金銭出納簿!$C$4:$C$564),ROWS($A$18:$A686)),1/ROW(②金銭出納簿!$C$4:$C$564),0),COLUMNS($A$5:D$5)),"")} | E675: {=IFERROR(INDEX(②金銭出納簿!$C$4:$M$564,MATCH(LARGE((②金銭出納簿!$G$4:$G$564=$A$1)*1/ROW(②金銭出納簿!$C$4:$C$564),ROWS($A$18:$A686)),1/ROW(②金銭出納簿!$C$4:$C$564),0),COLUMNS($A$5:E$5)),"")} | F675: {=IFERROR(INDEX(②金銭出納簿!$C$4:$M$564,MATCH(LARGE((②金銭出納簿!$G$4:$G$564=$A$1)*1/ROW(②金銭出納簿!$C$4:$C$564),ROWS($A$18:$A686)),1/ROW(②金銭出納簿!$C$4:$C$564),0),COLUMNS($A$5:F$5)),"")} | G675: {=IFERROR(INDEX(②金銭出納簿!$C$4:$M$564,MATCH(LARGE((②金銭出納簿!$G$4:$G$564=$A$1)*1/ROW(②金銭出納簿!$C$4:$C$564),ROWS($A$18:$A686)),1/ROW(②金銭出納簿!$C$4:$C$564),0),COLUMNS($A$5:G$5)),"")} | H675: {=IFERROR(INDEX(②金銭出納簿!$C$4:$M$564,MATCH(LARGE((②金銭出納簿!$G$4:$G$564=$A$1)*1/ROW(②金銭出納簿!$C$4:$C$564),ROWS($A$18:$A686)),1/ROW(②金銭出納簿!$C$4:$C$564),0),COLUMNS($A$5:H$5)),"")} | ... J675: {=IFERROR(INDEX(②金銭出納簿!$C$4:$M$564,MATCH(LARGE((②金銭出納簿!$G$4:$G$564=$A$1)*1/ROW(②金銭出納簿!$C$4:$C$564),ROWS($A$18:$A686)),1/ROW(②金銭出納簿!$C$4:$C$564),0),COLUMNS($A$5:J$5)),"")} | K675: =IFERROR(K674+I675,"") | L675: =IFERROR(L674+J675,"")

Sheet ⑧健康体操
A1: 3 健康体操
H3: =SUM(H7:H53) -> 0 | I3: =SUM(I7:I53) -> 0 | J3: =SUM(J7:J53) -> 0
A4: 【健康体操】
A5: 月 | B5: 日 | C5: № | E5: 区分 | F5: 摘要 | G5: 相手先 | H5: 収入金額 | I5: 支出 | K5: 累計
C6: 入 | D6: 出 | I6: 金額 | J6: 補助対象 | K6: 金額 | L6: 補助対象
A7: {=IFERROR(INDEX(②金銭出納簿!$C$4:$M$564,MATCH(LARGE((②金銭出納簿!$G$4:$G$564=$A$1)*1/ROW(②金銭出納簿!$C$4:$C$564),ROWS($A$18:$A18)),1/ROW(②金銭出納簿!$C$4:$C$564),0),COLUMNS($A$5:A$5)),"")} | B7: {=IFERROR(INDEX(②金銭出納簿!$C$4:$M$564,MATCH(LARGE((②金銭出納簿!$G$4:$G$564=$A$1)*1/ROW(②金銭出納簿!$C$4:$C$564),ROWS($A$18:$A18)),1/ROW(②金銭出納簿!$C$4:$C$564),0),COLUMNS($A$5:B$5)),"")} | C7: {=IFERROR(INDEX(②金銭出納簿!$C$4:$M$564,MATCH(LARGE((②金銭出納簿!$G$4:$G$564=$A$1)*1/ROW(②金銭出納簿!$C$4:$C$564),ROWS($A$18:$A18)),1/ROW(②金銭出納簿!$C$4:$C$564),0),COLUMNS($A$5:C$5)),"")} | D7: {=IFERROR(INDEX(②金銭出納簿!$C$4:$M$564,MATCH(LARGE((②金銭出納簿!$G$4:$G$564=$A$1)*1/ROW(②金銭出納簿!$C$4:$C$564),ROWS($A$18:$A18)),1/ROW(②金銭出納簿!$C$4:$C$564),0),COLUMNS($A$5:D$5)),"")} | E7: {=IFERROR(INDEX(②金銭出納簿!$C$4:$M$564,MATCH(LARGE((②金銭出納簿!$G$4:$G$564=$A$1)*1/ROW(②金銭出納簿!$C$4:$C$564),ROWS($A$18:$A18)),1/ROW(②金銭出納簿!$C$4:$C$564),0),COLUMNS($A$5:E$5)),"")} | F7: {=IFERROR(INDEX(②金銭出納簿!$C$4:$M$564,MATCH(LARGE((②金銭出納簿!$G$4:$G$564=$A$1)*1/ROW(②金銭出納簿!$C$4:$C$564),ROWS($A$18:$A18)),1/ROW(②金銭出納簿!$C$4:$C$564),0),COLUMNS($A$5:F$5)),"")} | G7: {=IFERROR(INDEX(②金銭出納簿!$C$4:$M$564,MATCH(LARGE((②金銭出納簿!$G$4:$G$564=$A$1)*1/ROW(②金銭出納簿!$C$4:$C$564),ROWS($A$18:$A18)),1/ROW(②金銭出納簿!$C$4:$C$564),0),COLUMNS($A$5:G$5)),"")} | H7: {=IFERROR(INDEX(②金銭出納簿!$C$4:$M$564,MATCH(LARGE((②金銭出納簿!$G$4:$G$564=$A$1)*1/ROW(②金銭出納簿!$C$4:$C$564),ROWS($A$18:$A18)),1/ROW(②金銭出納簿!$C$4:$C$564),0),COLUMNS($A$5:H$5)),"")} | ... J7: {=IFERROR(INDEX(②金銭出納簿!$C$4:$M$564,MATCH(LARGE((②金銭出納簿!$G$4:$G$564=$A$1)*1/ROW(②金銭出納簿!$C$4:$C$564),ROWS($A$18:$A18)),1/ROW(②金銭出納簿!$C$4:$C$564),0),COLUMNS($A$5:J$5)),"")} | K7: =I7 | L7: =J7 | M7: 金銭出納簿の「3 健康体操」のものが自動で入力されます
A8: {=IFERROR(INDEX(②金銭出納簿!$C$4:$M$564,MATCH(LARGE((②金銭出納簿!$G$4:$G$564=$A$1)*1/ROW(②金銭出納簿!$C$4:$C$564),ROWS($A$18:$A19)),1/ROW(②金銭出納簿!$C$4:$C$564),0),COLUMNS($A$5:A$5)),"")} | B8: {=IFERROR(INDEX(②金銭出納簿!$C$4:$M$564,MATCH(LARGE((②金銭出納簿!$G$4:$G$564=$A$1)*1/ROW(②金銭出納簿!$C$4:$C$564),ROWS($A$18:$A19)),1/ROW(②金銭出納簿!$C$4:$C$564),0),COLUMNS($A$5:B$5)),"")} | C8: {=IFERROR(INDEX(②金銭出納簿!$C$4:$M$564,MATCH(LARGE((②金銭出納簿!$G$4:$G$564=$A$1)*1/ROW(②金銭出納簿!$C$4:$C$564),ROWS($A$18:$A19)),1/ROW(②金銭出納簿!$C$4:$C$564),0),COLUMNS($A$5:C$5)),"")} | D8: {=IFERROR(INDEX(②金銭出納簿!$C$4:$M$564,MATCH(LARGE((②金銭出納簿!$G$4:$G$564=$A$1)*1/ROW(②金銭出納簿!$C$4:$C$564),ROWS($A$18:$A19)),1/ROW(②金銭出納簿!$C$4:$C$564),0),COLUMNS($A$5:D$5)),"")} | E8: {=IFERROR(INDEX(②金銭出納簿!$C$4:$M$564,MATCH(LARGE((②金銭出納簿!$G$4:$G$564=$A$1)*1/ROW(②金銭出納簿!$C$4:$C$564),ROWS($A$18:$A19)),1/ROW(②金銭出納簿!$C$4:$C$564),0),COLUMNS($A$5:E$5)),"")} | F8: {=IFERROR(INDEX(②金銭出納簿!$C$4:$M$564,MATCH(LARGE((②金銭出納簿!$G$4:$G$564=$A$1)*1/ROW(②金銭出納簿!$C$4:$C$564),ROWS($A$18:$A19)),1/ROW(②金銭出納簿!$C$4:$C$564),0),COLUMNS($A$5:F$5)),"")} | G8: {=IFERROR(INDEX(②金銭出納簿!$C$4:$M$564,MATCH(LARGE((②金銭出納簿!$G$4:$G$564=$A$1)*1/ROW(②金銭出納簿!$C$4:$C$564),ROWS($A$18:$A19)),1/ROW(②金銭出納簿!$C$4:$C$564),0),COLUMNS($A$5:G$5)),"")} | H8: {=IFERROR(INDEX(②金銭出納簿!$C$4:$M$564,MATCH(LARGE((②金銭出納簿!$G$4:$G$564=$A$1)*1/ROW(②金銭出納簿!$C$4:$C$564),ROWS($A$18:$A19)),1/ROW(②金銭出納簿!$C$4:$C$564),0),COLUMNS($A$5:H$5)),"")} | ... J8: {=IFERROR(INDEX(②金銭出納簿!$C$4:$M$564,MATCH(LARGE((②金銭出納簿!$G$4:$G$564=$A$1)*1/ROW(②金銭出納簿!$C$4:$C$564),ROWS($A$18:$A19)),1/ROW(②金銭出納簿!$C$4:$C$564),0),COLUMNS($A$5:J$5)),"")} | K8: =IFERROR(K7+I8,"") | L8: =IFERROR(L7+J8,"")
A9: {=IFERROR(INDEX(②金銭出納簿!$C$4:$M$564,MATCH(LARGE((②金銭出納簿!$G$4:$G$564=$A$1)*1/ROW(②金銭出納簿!$C$4:$C$564),ROWS($A$18:$A20)),1/ROW(②金銭出納簿!$C$4:$C$564),0),COLUMNS($A$5:A$5)),"")} | B9: {=IFERROR(INDEX(②金銭出納簿!$C$4:$M$564,MATCH(LARGE((②金銭出納簿!$G$4:$G$564=$A$1)*1/ROW(②金銭出納簿!$C$4:$C$564),ROWS($A$18:$A20)),1/ROW(②金銭出納簿!$C$4:$C$564),0),COLUMNS($A$5:B$5)),"")} | C9: {=IFERROR(INDEX(②金銭出納簿!$C$4:$M$564,MATCH(LARGE((②金銭出納簿!$G$4:$G$564=$A$1)*1/ROW(②金銭出納簿!$C$4:$C$564),ROWS($A$18:$A20)),1/ROW(②金銭出納簿!$C$4:$C$564),0),COLUMNS($A$5:C$5)),"")} | D9: {=IFERROR(INDEX(②金銭出納簿!$C$4:$M$564,MATCH(LARGE((②金銭出納簿!$G$4:$G$564=$A$1)*1/ROW(②金銭出納簿!$C$4:$C$564),ROWS($A$18:$A20)),1/ROW(②金銭出納簿!$C$4:$C$564),0),COLUMNS($A$5:D$5)),"")} | E9: {=IFERROR(INDEX(②金銭出納簿!$C$4:$M$564,MATCH(LARGE((②金銭出納簿!$G$4:$G$564=$A$1)*1/ROW(②金銭出納簿!$C$4:$C$564),ROWS($A$18:$A20)),1/ROW(②金銭出納簿!$C$4:$C$564),0),COLUMNS($A$5:E$5)),"")} | F9: {=IFERROR(INDEX(②金銭出納簿!$C$4:$M$564,MATCH(LARGE((②金銭出納簿!$G$4:$G$564=$A$1)*1/ROW(②金銭出納簿!$C$4:$C$564),ROWS($A$18:$A20)),1/ROW(②金銭出納簿!$C$4:$C$564),0),COLUMNS($A$5:F$5)),"")} | G9: {=IFERROR(INDEX(②金銭出納簿!$C$4:$M$564,MATCH(LARGE((②金銭出納簿!$G$4:$G$564=$A$1)*1/ROW(②金銭出納簿!$C$4:$C$564),ROWS($A$18:$A20)),1/ROW(②金銭出納簿!$C$4:$C$564),0),COLUMNS($A$5:G$5)),"")} | H9: {=IFERROR(INDEX(②金銭出納簿!$C$4:$M$564,MATCH(LARGE((②金銭出納簿!$G$4:$G$564=$A$1)*1/ROW(②金銭出納簿!$C$4:$C$564),ROWS($A$18:$A20)),1/ROW(②金銭出納簿!$C$4:$C$564),0),COLUMNS($A$5:H$5)),"")} | ... J9: {=IFERROR(INDEX(②金銭出納簿!$C$4:$M$564,MATCH(LARGE((②金銭出納簿!$G$4:$G$564=$A$1)*1/ROW(②金銭出納簿!$C$4:$C$564),ROWS($A$18:$A20)),1/ROW(②金銭出納簿!$C$4:$C$564),0),COLUMNS($A$5:J$5)),"")} | K9: =IFERROR(K8+I9,"") | L9: =IFERROR(L8+J9,"")
A10: {=IFERROR(INDEX(②金銭出納簿!$C$4:$M$564,MATCH(LARGE((②金銭出納簿!$G$4:$G$564=$A$1)*1/ROW(②金銭出納簿!$C$4:$C$564),ROWS($A$18:$A21)),1/ROW(②金銭出納簿!$C$4:$C$564),0),COLUMNS($A$5:A$5)),"")} | B10: {=IFERROR(INDEX(②金銭出納簿!$C$4:$M$564,MATCH(LARGE((②金銭出納簿!$G$4:$G$564=$A$1)*1/ROW(②金銭出納簿!$C$4:$C$564),ROWS($A$18:$A21)),1/ROW(②金銭出納簿!$C$4:$C$564),0),COLUMNS($A$5:B$5)),"")} | C10: {=IFERROR(INDEX(②金銭出納簿!$C$4:$M$564,MATCH(LARGE((②金銭出納簿!$G$4:$G$564=$A$1)*1/ROW(②金銭出納簿!$C$4:$C$564),ROWS($A$18:$A21)),1/ROW(②金銭出納簿!$C$4:$C$564),0),COLUMNS($A$5:C$5)),"")} | D10: {=IFERROR(INDEX(②金銭出納簿!$C$4:$M$564,MATCH(LARGE((②金銭出納簿!$G$4:$G$564=$A$1)*1/ROW(②金銭出納簿!$C$4:$C$564),ROWS($A$18:$A21)),1/ROW(②金銭出納簿!$C$4:$C$564),0),COLUMNS($A$5:D$5)),"")} | E10: {=IFERROR(INDEX(②金銭出納簿!$C$4:$M$564,MATCH(LARGE((②金銭出納簿!$G$4:$G$564=$A$1)*1/ROW(②金銭出納簿!$C$4:$C$564),ROWS($A$18:$A21)),1/ROW(②金銭出納簿!$C$4:$C$564),0),COLUMNS($A$5:E$5)),"")} | F10: {=IFERROR(INDEX(②金銭出納簿!$C$4:$M$564,MATCH(LARGE((②金銭出納簿!$G$4:$G$564=$A$1)*1/ROW(②金銭出納簿!$C$4:$C$564),ROWS($A$18:$A21)),1/ROW(②金銭出納簿!$C$4:$C$564),0),COLUMNS($A$5:F$5)),"")} | G10: {=IFERROR(INDEX(②金銭出納簿!$C$4:$M$564,MATCH(LARGE((②金銭出納簿!$G$4:$G$564=$A$1)*1/ROW(②金銭出納簿!$C$4:$C$564),ROWS($A$18:$A21)),1/ROW(②金銭出納簿!$C$4:$C$564),0),COLUMNS($A$5:G$5)),"")} | H10: {=IFERROR(INDEX(②金銭出納簿!$C$4:$M$564,MATCH(LARGE((②金銭出納簿!$G$4:$G$564=$A$1)*1/ROW(②金銭出納簿!$C$4:$C$564),ROWS($A$18:$A21)),1/ROW(②金銭出納簿!$C$4:$C$564),0),COLUMNS($A$5:H$5)),"")} | ... J10: {=IFERROR(INDEX(②金銭出納簿!$C$4:$M$564,MATCH(LARGE((②金銭出納簿!$G$4:$G$564=$A$1)*1/ROW(②金銭出納簿!$C$4:$C$564),ROWS($A$18:$A21)),1/ROW(②金銭出納簿!$C$4:$C$564),0),COLUMNS($A$5:J$5)),"")} | K10: =IFERROR(K9+I10,"") | L10: =IFERROR(L9+J10,"")
A11: {=IFERROR(INDEX(②金銭出納簿!$C$4:$M$564,MATCH(LARGE((②金銭出納簿!$G$4:$G$564=$A$1)*1/ROW(②金銭出納簿!$C$4:$C$564),ROWS($A$18:$A22)),1/ROW(②金銭出納簿!$C$4:$C$564),0),COLUMNS($A$5:A$5)),"")} | B11: {=IFERROR(INDEX(②金銭出納簿!$C$4:$M$564,MATCH(LARGE((②金銭出納簿!$G$4:$G$564=$A$1)*1/ROW(②金銭出納簿!$C$4:$C$564),ROWS($A$18:$A22)),1/ROW(②金銭出納簿!$C$4:$C$564),0),COLUMNS($A$5:B$5)),"")} | C11: {=IFERROR(INDEX(②金銭出納簿!$C$4:$M$564,MATCH(LARGE((②金銭出納簿!$G$4:$G$564=$A$1)*1/ROW(②金銭出納簿!$C$4:$C$564),ROWS($A$18:$A22)),1/ROW(②金銭出納簿!$C$4:$C$564),0),COLUMNS($A$5:C$5)),"")} | D11: {=IFERROR(INDEX(②金銭出納簿!$C$4:$M$564,MATCH(LARGE((②金銭出納簿!$G$4:$G$564=$A$1)*1/ROW(②金銭出納簿!$C$4:$C$564),ROWS($A$18:$A22)),1/ROW(②金銭出納簿!$C$4:$C$564),0),COLUMNS($A$5:D$5)),"")} | E11: {=IFERROR(INDEX(②金銭出納簿!$C$4:$M$564,MATCH(LARGE((②金銭出納簿!$G$4:$G$564=$A$1)*1/ROW(②金銭出納簿!$C$4:$C$564),ROWS($A$18:$A22)),1/ROW(②金銭出納簿!$C$4:$C$564),0),COLUMNS($A$5:E$5)),"")} | F11: {=IFERROR(INDEX(②金銭出納簿!$C$4:$M$564,MATCH(LARGE((②金銭出納簿!$G$4:$G$564=$A$1)*1/ROW(②金銭出納簿!$C$4:$C$564),ROWS($A$18:$A22)),1/ROW(②金銭出納簿!$C$4:$C$564),0),COLUMNS($A$5:F$5)),"")} | G11: {=IFERROR(INDEX(②金銭出納簿!$C$4:$M$564,MATCH(LARGE((②金銭出納簿!$G$4:$G$564=$A$1)*1/ROW(②金銭出納簿!$C$4:$C$564),ROWS($A$18:$A22)),1/ROW(②金銭出納簿!$C$4:$C$564),0),COLUMNS($A$5:G$5)),"")} | H11: {=IFERROR(INDEX(②金銭出納簿!$C$4:$M$564,MATCH(LARGE((②金銭出納簿!$G$4:$G$564=$A$1)*1/ROW(②金銭出納簿!$C$4:$C$564),ROWS($A$18:$A22)),1/ROW(②金銭出納簿!$C$4:$C$564),0),COLUMNS($A$5:H$5)),"")} | ... J11: {=IFERROR(INDEX(②金銭出納簿!$C$4:$M$564,MATCH(LARGE((②金銭出納簿!$G$4:$G$564=$A$1)*1/ROW(②金銭出納簿!$C$4:$C$564),ROWS($A$18:$A22)),1/ROW(②金銭出納簿!$C$4:$C$564),0),COLUMNS($A$5:J$5)),"")} | K11: =IFERROR(K10+I11,"") | L11: =IFERROR(L10+J11,"")
A12: {=IFERROR(INDEX(②金銭出納簿!$C$4:$M$564,MATCH(LARGE((②金銭出納簿!$G$4:$G$564=$A$1)*1/ROW(②金銭出納簿!$C$4:$C$564),ROWS($A$18:$A23)),1/ROW(②金銭出納簿!$C$4:$C$564),0),COLUMNS($A$5:A$5)),"")} | B12: {=IFERROR(INDEX(②金銭出納簿!$C$4:$M$564,MATCH(LARGE((②金銭出納簿!$G$4:$G$564=$A$1)*1/ROW(②金銭出納簿!$C$4:$C$564),ROWS($A$18:$A23)),1/ROW(②金銭出納簿!$C$4:$C$564),0),COLUMNS($A$5:B$5)),"")} | C12: {=IFERROR(INDEX(②金銭出納簿!$C$4:$M$564,MATCH(LARGE((②金銭出納簿!$G$4:$G$564=$A$1)*1/ROW(②金銭出納簿!$C$4:$C$564),ROWS($A$18:$A23)),1/ROW(②金銭出納簿!$C$4:$C$564),0),COLUMNS($A$5:C$5)),"")} | D12: {=IFERROR(INDEX(②金銭出納簿!$C$4:$M$564,MATCH(LARGE((②金銭出納簿!$G$4:$G$564=$A$1)*1/ROW(②金銭出納簿!$C$4:$C$564),ROWS($A$18:$A23)),1/ROW(②金銭出納簿!$C$4:$C$564),0),COLUMNS($A$5:D$5)),"")} | E12: {=IFERROR(INDEX(②金銭出納簿!$C$4:$M$564,MATCH(LARGE((②金銭出納簿!$G$4:$G$564=$A$1)*1/ROW(②金銭出納簿!$C$4:$C$564),ROWS($A$18:$A23)),1/ROW(②金銭出納簿!$C$4:$C$564),0),COLUMNS($A$5:E$5)),"")} | F12: {=IFERROR(INDEX(②金銭出納簿!$C$4:$M$564,MATCH(LARGE((②金銭出納簿!$G$4:$G$564=$A$1)*1/ROW(②金銭出納簿!$C$4:$C$564),ROWS($A$18:$A23)),1/ROW(②金銭出納簿!$C$4:$C$564),0),COLUMNS($A$5:F$5)),"")} | G12: {=IFERROR(INDEX(②金銭出納簿!$C$4:$M$564,MATCH(LARGE((②金銭出納簿!$G$4:$G$564=$A$1)*1/ROW(②金銭出納簿!$C$4:$C$564),ROWS($A$18:$A23)),1/ROW(②金銭出納簿!$C$4:$C$564),0),COLUMNS($A$5:G$5)),"")} | H12: {=IFERROR(INDEX(②金銭出納簿!$C$4:$M$564,MATCH(LARGE((②金銭出納簿!$G$4:$G$564=$A$1)*1/ROW(②金銭出納簿!$C$4:$C$564),ROWS($A$18:$A23)),1/ROW(②金銭出納簿!$C$4:$C$564),0),COLUMNS($A$5:H$5)),"")} | ... J12: {=IFERROR(INDEX(②金銭出納簿!$C$4:$M$564,MATCH(LARGE((②金銭出納簿!$G$4:$G$564=$A$1)*1/ROW(②金銭出納簿!$C$4:$C$564),ROWS($A$18:$A23)),1/ROW(②金銭出納簿!$C$4:$C$564),0),COLUMNS($A$5:J$5)),"")} | K12: =IFERROR(K11+I12,"") | L12: =IFERROR(L11+J12,"")
A13: {=IFERROR(INDEX(②金銭出納簿!$C$4:$M$564,MATCH(LARGE((②金銭出納簿!$G$4:$G$564=$A$1)*1/ROW(②金銭出納簿!$C$4:$C$564),ROWS($A$18:$A24)),1/ROW(②金銭出納簿!$C$4:$C$564),0),COLUMNS($A$5:A$5)),"")} | B13: {=IFERROR(INDEX(②金銭出納簿!$C$4:$M$564,MATCH(LARGE((②金銭出納簿!$G$4:$G$564=$A$1)*1/ROW(②金銭出納簿!$C$4:$C$564),ROWS($A$18:$A24)),1/ROW(②金銭出納簿!$C$4:$C$564),0),COLUMNS($A$5:B$5)),"")} | C13: {=IFERROR(INDEX(②金銭出納簿!$C$4:$M$564,MATCH(LARGE((②金銭出納簿!$G$4:$G$564=$A$1)*1/ROW(②金銭出納簿!$C$4:$C$564),ROWS($A$18:$A24)),1/ROW(②金銭出納簿!$C$4:$C$564),0),COLUMNS($A$5:C$5)),"")} | D13: {=IFERROR(INDEX(②金銭出納簿!$C$4:$M$564,MATCH(LARGE((②金銭出納簿!$G$4:$G$564=$A$1)*1/ROW(②金銭出納簿!$C$4:$C$564),ROWS($A$18:$A24)),1/ROW(②金銭出納簿!$C$4:$C$564),0),COLUMNS($A$5:D$5)),"")} | E13: {=IFERROR(INDEX(②金銭出納簿!$C$4:$M$564,MATCH(LARGE((②金銭出納簿!$G$4:$G$564=$A$1)*1/ROW(②金銭出納簿!$C$4:$C$564),ROWS($A$18:$A24)),1/ROW(②金銭出納簿!$C$4:$C$564),0),COLUMNS($A$5:E$5)),"")} | F13: {=IFERROR(INDEX(②金銭出納簿!$C$4:$M$564,MATCH(LARGE((②金銭出納簿!$G$4:$G$564=$A$1)*1/ROW(②金銭出納簿!$C$4:$C$564),ROWS($A$18:$A24)),1/ROW(②金銭出納簿!$C$4:$C$564),0),COLUMNS($A$5:F$5)),"")} | G13: {=IFERROR(INDEX(②金銭出納簿!$C$4:$M$564,MATCH(LARGE((②金銭出納簿!$G$4:$G$564=$A$1)*1/ROW(②金銭出納簿!$C$4:$C$564),ROWS($A$18:$A24)),1/ROW(②金銭出納簿!$C$4:$C$564),0),COLUMNS($A$5:G$5)),"")} | H13: {=IFERROR(INDEX(②金銭出納簿!$C$4:$M$564,MATCH(LARGE((②金銭出納簿!$G$4:$G$564=$A$1)*1/ROW(②金銭出納簿!$C$4:$C$564),ROWS($A$18:$A24)),1/ROW(②金銭出納簿!$C$4:$C$564),0),COLUMNS($A$5:H$5)),"")} | ... J13: {=IFERROR(INDEX(②金銭出納簿!$C$4:$M$564,MATCH(LARGE((②金銭出納簿!$G$4:$G$564=$A$1)*1/ROW(②金銭出納簿!$C$4:$C$564),ROWS($A$18:$A24)),1/ROW(②金銭出納簿!$C$4:$C$564),0),COLUMNS($A$5:J$5)),"")} | K13: =IFERROR(K12+I13,"") | L13: =IFERROR(L12+J13,"")
A14: {=IFERROR(INDEX(②金銭出納簿!$C$4:$M$564,MATCH(LARGE((②金銭出納簿!$G$4:$G$564=$A$1)*1/ROW(②金銭出納簿!$C$4:$C$564),ROWS($A$18:$A25)),1/ROW(②金銭出納簿!$C$4:$C$564),0),COLUMNS($A$5:A$5)),"")} | B14: {=IFERROR(INDEX(②金銭出納簿!$C$4:$M$564,MATCH(LARGE((②金銭出納簿!$G$4:$G$564=$A$1)*1/ROW(②金銭出納簿!$C$4:$C$564),ROWS($A$18:$A25)),1/ROW(②金銭出納簿!$C$4:$C$564),0),COLUMNS($A$5:B$5)),"")} | C14: {=IFERROR(INDEX(②金銭出納簿!$C$4:$M$564,MATCH(LARGE((②金銭出納簿!$G$4:$G$564=$A$1)*1/ROW(②金銭出納簿!$C$4:$C$564),ROWS($A$18:$A25)),1/ROW(②金銭出納簿!$C$4:$C$564),0),COLUMNS($A$5:C$5)),"")} | D14: {=IFERROR(INDEX(②金銭出納簿!$C$4:$M$564,MATCH(LARGE((②金銭出納簿!$G$4:$G$564=$A$1)*1/ROW(②金銭出納簿!$C$4:$C$564),ROWS($A$18:$A25)),1/ROW(②金銭出納簿!$C$4:$C$564),0),COLUMNS($A$5:D$5)),"")} | E14: {=IFERROR(INDEX(②金銭出納簿!$C$4:$M$564,MATCH(LARGE((②金銭出納簿!$G$4:$G$564=$A$1)*1/ROW(②金銭出納簿!$C$4:$C$564),ROWS($A$18:$A25)),1/ROW(②金銭出納簿!$C$4:$C$564),0),COLUMNS($A$5:E$5)),"")} | F14: {=IFERROR(INDEX(②金銭出納簿!$C$4:$M$564,MATCH(LARGE((②金銭出納簿!$G$4:$G$564=$A$1)*1/ROW(②金銭出納簿!$C$4:$C$564),ROWS($A$18:$A25)),1/ROW(②金銭出納簿!$C$4:$C$564),0),COLUMNS($A$5:F$5)),"")} | G14: {=IFERROR(INDEX(②金銭出納簿!$C$4:$M$564,MATCH(LARGE((②金銭出納簿!$G$4:$G$564=$A$1)*1/ROW(②金銭出納簿!$C$4:$C$564),ROWS($A$18:$A25)),1/ROW(②金銭出納簿!$C$4:$C$564),0),COLUMNS($A$5:G$5)),"")} | H14: {=IFERROR(INDEX(②金銭出納簿!$C$4:$M$564,MATCH(LARGE((②金銭出納簿!$G$4:$G$564=$A$1)*1/ROW(②金銭出納簿!$C$4:$C$564),ROWS($A$18:$A25)),1/ROW(②金銭出納簿!$C$4:$C$564),0),COLUMNS($A$5:H$5)),"")} | ... J14: {=IFERROR(INDEX(②金銭出納簿!$C$4:$M$564,MATCH(LARGE((②金銭出納簿!$G$4:$G$564=$A$1)*1/ROW(②金銭出納簿!$C$4:$C$564),ROWS($A$18:$A25)),1/ROW(②金銭出納簿!$C$4:$C$564),0),COLUMNS($A$5:J$5)),"")} | K14: =IFERROR(K13+I14,"") | L14: =IFERROR(L13+J14,"")
A15: {=IFERROR(INDEX(②金銭出納簿!$C$4:$M$564,MATCH(LARGE((②金銭出納簿!$G$4:$G$564=$A$1)*1/ROW(②金銭出納簿!$C$4:$C$564),ROWS($A$18:$A26)),1/ROW(②金銭出納簿!$C$4:$C$564),0),COLUMNS($A$5:A$5)),"")} | B15: {=IFERROR(INDEX(②金銭出納簿!$C$4:$M$564,MATCH(LARGE((②金銭出納簿!$G$4:$G$564=$A$1)*1/ROW(②金銭出納簿!$C$4:$C$564),ROWS($A$18:$A26)),1/ROW(②金銭出納簿!$C$4:$C$564),0),COLUMNS($A$5:B$5)),"")} | C15: {=IFERROR(INDEX(②金銭出納簿!$C$4:$M$564,MATCH(LARGE((②金銭出納簿!$G$4:$G$564=$A$1)*1/ROW(②金銭出納簿!$C$4:$C$564),ROWS($A$18:$A26)),1/ROW(②金銭出納簿!$C$4:$C$564),0),COLUMNS($A$5:C$5)),"")} | D15: {=IFERROR(INDEX(②金銭出納簿!$C$4:$M$564,MATCH(LARGE((②金銭出納簿!$G$4:$G$564=$A$1)*1/ROW(②金銭出納簿!$C$4:$C$564),ROWS($A$18:$A26)),1/ROW(②金銭出納簿!$C$4:$C$564),0),COLUMNS($A$5:D$5)),"")} | E15: {=IFERROR(INDEX(②金銭出納簿!$C$4:$M$564,MATCH(LARGE((②金銭出納簿!$G$4:$G$564=$A$1)*1/ROW(②金銭出納簿!$C$4:$C$564),ROWS($A$18:$A26)),1/ROW(②金銭出納簿!$C$4:$C$564),0),COLUMNS($A$5:E$5)),"")} | F15: {=IFERROR(INDEX(②金銭出納簿!$C$4:$M$564,MATCH(LARGE((②金銭出納簿!$G$4:$G$564=$A$1)*1/ROW(②金銭出納簿!$C$4:$C$564),ROWS($A$18:$A26)),1/ROW(②金銭出納簿!$C$4:$C$564),0),COLUMNS($A$5:F$5)),"")} | G15: {=IFERROR(INDEX(②金銭出納簿!$C$4:$M$564,MATCH(LARGE((②金銭出納簿!$G$4:$G$564=$A$1)*1/ROW(②金銭出納簿!$C$4:$C$564),ROWS($A$18:$A26)),1/ROW(②金銭出納簿!$C$4:$C$564),0),COLUMNS($A$5:G$5)),"")} | H15: {=IFERROR(INDEX(②金銭出納簿!$C$4:$M$564,MATCH(LARGE((②金銭出納簿!$G$4:$G$564=$A$1)*1/ROW(②金銭出納簿!$C$4:$C$564),ROWS($A$18:$A26)),1/ROW(②金銭出納簿!$C$4:$C$564),0),COLUMNS($A$5:H$5)),"")} | ... J15: {=IFERROR(INDEX(②金銭出納簿!$C$4:$M$564,MATCH(LARGE((②金銭出納簿!$G$4:$G$564=$A$1)*1/ROW(②金銭出納簿!$C$4:$C$564),ROWS($A$18:$A26)),1/ROW(②金銭出納簿!$C$4:$C$564),0),COLUMNS($A$5:J$5)),"")} | K15: =IFERROR(K14+I15,"") | L15: =IFERROR(L14+J15,"")
A16: {=IFERROR(INDEX(②金銭出納簿!$C$4:$M$564,MATCH(LARGE((②金銭出納簿!$G$4:$G$564=$A$1)*1/ROW(②金銭出納簿!$C$4:$C$564),ROWS($A$18:$A27)),1/ROW(②金銭出納簿!$C$4:$C$564),0),COLUMNS($A$5:A$5)),"")} | B16: {=IFERROR(INDEX(②金銭出納簿!$C$4:$M$564,MATCH(LARGE((②金銭出納簿!$G$4:$G$564=$A$1)*1/ROW(②金銭出納簿!$C$4:$C$564),ROWS($A$18:$A27)),1/ROW(②金銭出納簿!$C$4:$C$564),0),COLUMNS($A$5:B$5)),"")} | C16: {=IFERROR(INDEX(②金銭出納簿!$C$4:$M$564,MATCH(LARGE((②金銭出納簿!$G$4:$G$564=$A$1)*1/ROW(②金銭出納簿!$C$4:$C$564),ROWS($A$18:$A27)),1/ROW(②金銭出納簿!$C$4:$C$564),0),COLUMNS($A$5:C$5)),"")} | D16: {=IFERROR(INDEX(②金銭出納簿!$C$4:$M$564,MATCH(LARGE((②金銭出納簿!$G$4:$G$564=$A$1)*1/ROW(②金銭出納簿!$C$4:$C$564),ROWS($A$18:$A27)),1/ROW(②金銭出納簿!$C$4:$C$564),0),COLUMNS($A$5:D$5)),"")} | E16: {=IFERROR(INDEX(②金銭出納簿!$C$4:$M$564,MATCH(LARGE((②金銭出納簿!$G$4:$G$564=$A$1)*1/ROW(②金銭出納簿!$C$4:$C$564),ROWS($A$18:$A27)),1/ROW(②金銭出納簿!$C$4:$C$564),0),COLUMNS($A$5:E$5)),"")} | F16: {=IFERROR(INDEX(②金銭出納簿!$C$4:$M$564,MATCH(LARGE((②金銭出納簿!$G$4:$G$564=$A$1)*1/ROW(②金銭出納簿!$C$4:$C$564),ROWS($A$18:$A27)),1/ROW(②金銭出納簿!$C$4:$C$564),0),COLUMNS($A$5:F$5)),"")} | G16: {=IFERROR(INDEX(②金銭出納簿!$C$4:$M$564,MATCH(LARGE((②金銭出納簿!$G$4:$G$564=$A$1)*1/ROW(②金銭出納簿!$C$4:$C$564),ROWS($A$18:$A27)),1/ROW(②金銭出納簿!$C$4:$C$564),0),COLUMNS($A$5:G$5)),"")} | H16: {=IFERROR(INDEX(②金銭出納簿!$C$4:$M$564,MATCH(LARGE((②金銭出納簿!$G$4:$G$564=$A$1)*1/ROW(②金銭出納簿!$C$4:$C$564),ROWS($A$18:$A27)),1/ROW(②金銭出納簿!$C$4:$C$564),0),COLUMNS($A$5:H$5)),"")} | ... J16: {=IFERROR(INDEX(②金銭出納簿!$C$4:$M$564,MATCH(LARGE((②金銭出納簿!$G$4:$G$564=$A$1)*1/ROW(②金銭出納簿!$C$4:$C$564),ROWS($A$18:$A27)),1/ROW(②金銭出納簿!$C$4:$C$564),0),COLUMNS($A$5:J$5)),"")} | K16: =IFERROR(K15+I16,"") | L16: =IFERROR(L15+J16,"")
A17: {=IFERROR(INDEX(②金銭出納簿!$C$4:$M$564,MATCH(LARGE((②金銭出納簿!$G$4:$G$564=$A$1)*1/ROW(②金銭出納簿!$C$4:$C$564),ROWS($A$18:$A28)),1/ROW(②金銭出納簿!$C$4:$C$564),0),COLUMNS($A$5:A$5)),"")} | B17: {=IFERROR(INDEX(②金銭出納簿!$C$4:$M$564,MATCH(LARGE((②金銭出納簿!$G$4:$G$564=$A$1)*1/ROW(②金銭出納簿!$C$4:$C$564),ROWS($A$18:$A28)),1/ROW(②金銭出納簿!$C$4:$C$564),0),COLUMNS($A$5:B$5)),"")} | C17: {=IFERROR(INDEX(②金銭出納簿!$C$4:$M$564,MATCH(LARGE((②金銭出納簿!$G$4:$G$564=$A$1)*1/ROW(②金銭出納簿!$C$4:$C$564),ROWS($A$18:$A28)),1/ROW(②金銭出納簿!$C$4:$C$564),0),COLUMNS($A$5:C$5)),"")} | D17: {=IFERROR(INDEX(②金銭出納簿!$C$4:$M$564,MATCH(LARGE((②金銭出納簿!$G$4:$G$564=$A$1)*1/ROW(②金銭出納簿!$C$4:$C$564),ROWS($A$18:$A28)),1/ROW(②金銭出納簿!$C$4:$C$564),0),COLUMNS($A$5:D$5)),"")} | E17: {=IFERROR(INDEX(②金銭出納簿!$C$4:$M$564,MATCH(LARGE((②金銭出納簿!$G$4:$G$564=$A$1)*1/ROW(②金銭出納簿!$C$4:$C$564),ROWS($A$18:$A28)),1/ROW(②金銭出納簿!$C$4:$C$564),0),COLUMNS($A$5:E$5)),"")} | F17: {=IFERROR(INDEX(②金銭出納簿!$C$4:$M$564,MATCH(LARGE((②金銭出納簿!$G$4:$G$564=$A$1)*1/ROW(②金銭出納簿!$C$4:$C$564),ROWS($A$18:$A28)),1/ROW(②金銭出納簿!$C$4:$C$564),0),COLUMNS($A$5:F$5)),"")} | G17: {=IFERROR(INDEX(②金銭出納簿!$C$4:$M$564,MATCH(LARGE((②金銭出納簿!$G$4:$G$564=$A$1)*1/ROW(②金銭出納簿!$C$4:$C$564),ROWS($A$18:$A28)),1/ROW(②金銭出納簿!$C$4:$C$564),0),COLUMNS($A$5:G$5)),"")} | H17: {=IFERROR(INDEX(②金銭出納簿!$C$4:$M$564,MATCH(LARGE((②金銭出納簿!$G$4:$G$564=$A$1)*1/ROW(②金銭出納簿!$C$4:$C$564),ROWS($A$18:$A28)),1/ROW(②金銭出納簿!$C$4:$C$564),0),COLUMNS($A$5:H$5)),"")} | ... J17: {=IFERROR(INDEX(②金銭出納簿!$C$4:$M$564,MATCH(LARGE((②金銭出納簿!$G$4:$G$564=$A$1)*1/ROW(②金銭出納簿!$C$4:$C$564),ROWS($A$18:$A28)),1/ROW(②金銭出納簿!$C$4:$C$564),0),COLUMNS($A$5:J$5)),"")} | K17: =IFERROR(K16+I17,"") | L17: =IFERROR(L16+J17,"")
A18: {=IFERROR(INDEX(②金銭出納簿!$C$4:$M$564,MATCH(LARGE((②金銭出納簿!$G$4:$G$564=$A$1)*1/ROW(②金銭出納簿!$C$4:$C$564),ROWS($A$18:$A29)),1/ROW(②金銭出納簿!$C$4:$C$564),0),COLUMNS($A$5:A$5)),"")} | B18: {=IFERROR(INDEX(②金銭出納簿!$C$4:$M$564,MATCH(LARGE((②金銭出納簿!$G$4:$G$564=$A$1)*1/ROW(②金銭出納簿!$C$4:$C$564),ROWS($A$18:$A29)),1/ROW(②金銭出納簿!$C$4:$C$564),0),COLUMNS($A$5:B$5)),"")} | C18: {=IFERROR(INDEX(②金銭出納簿!$C$4:$M$564,MATCH(LARGE((②金銭出納簿!$G$4:$G$564=$A$1)*1/ROW(②金銭出納簿!$C$4:$C$564),ROWS($A$18:$A29)),1/ROW(②金銭出納簿!$C$4:$C$564),0),COLUMNS($A$5:C$5)),"")} | D18: {=IFERROR(INDEX(②金銭出納簿!$C$4:$M$564,MATCH(LARGE((②金銭出納簿!$G$4:$G$564=$A$1)*1/ROW(②金銭出納簿!$C$4:$C$564),ROWS($A$18:$A29)),1/ROW(②金銭出納簿!$C$4:$C$564),0),COLUMNS($A$5:D$5)),"")} | E18: {=IFERROR(INDEX(②金銭出納簿!$C$4:$M$564,MATCH(LARGE((②金銭出納簿!$G$4:$G$564=$A$1)*1/ROW(②金銭出納簿!$C$4:$C$564),ROWS($A$18:$A29)),1/ROW(②金銭出納簿!$C$4:$C$564),0),COLUMNS($A$5:E$5)),"")} | F18: {=IFERROR(INDEX(②金銭出納簿!$C$4:$M$564,MATCH(LARGE((②金銭出納簿!$G$4:$G$564=$A$1)*1/ROW(②金銭出納簿!$C$4:$C$564),ROWS($A$18:$A29)),1/ROW(②金銭出納簿!$C$4:$C$564),0),COLUMNS($A$5:F$5)),"")} | G18: {=IFERROR(INDEX(②金銭出納簿!$C$4:$M$564,MATCH(LARGE((②金銭出納簿!$G$4:$G$564=$A$1)*1/ROW(②金銭出納簿!$C$4:$C$564),ROWS($A$18:$A29)),1/ROW(②金銭出納簿!$C$4:$C$564),0),COLUMNS($A$5:G$5)),"")} | H18: {=IFERROR(INDEX(②金銭出納簿!$C$4:$M$564,MATCH(LARGE((②金銭出納簿!$G$4:$G$564=$A$1)*1/ROW(②金銭出納簿!$C$4:$C$564),ROWS($A$18:$A29)),1/ROW(②金銭出納簿!$C$4:$C$564),0),COLUMNS($A$5:H$5)),"")} | ... J18: {=IFERROR(INDEX(②金銭出納簿!$C$4:$M$564,MATCH(LARGE((②金銭出納簿!$G$4:$G$564=$A$1)*1/ROW(②金銭出納簿!$C$4:$C$564),ROWS($A$18:$A29)),1/ROW(②金銭出納簿!$C$4:$C$564),0),COLUMNS($A$5:J$5)),"")} | K18: =IFERROR(K17+I18,"") | L18: =IFERROR(L17+J18,"")
A19: {=IFERROR(INDEX(②金銭出納簿!$C$4:$M$564,MATCH(LARGE((②金銭出納簿!$G$4:$G$564=$A$1)*1/ROW(②金銭出納簿!$C$4:$C$564),ROWS($A$18:$A30)),1/ROW(②金銭出納簿!$C$4:$C$564),0),COLUMNS($A$5:A$5)),"")} | B19: {=IFERROR(INDEX(②金銭出納簿!$C$4:$M$564,MATCH(LARGE((②金銭出納簿!$G$4:$G$564=$A$1)*1/ROW(②金銭出納簿!$C$4:$C$564),ROWS($A$18:$A30)),1/ROW(②金銭出納簿!$C$4:$C$564),0),COLUMNS($A$5:B$5)),"")} | C19: {=IFERROR(INDEX(②金銭出納簿!$C$4:$M$564,MATCH(LARGE((②金銭出納簿!$G$4:$G$564=$A$1)*1/ROW(②金銭出納簿!$C$4:$C$564),ROWS($A$18:$A30)),1/ROW(②金銭出納簿!$C$4:$C$564),0),COLUMNS($A$5:C$5)),"")} | D19: {=IFERROR(INDEX(②金銭出納簿!$C$4:$M$564,MATCH(LARGE((②金銭出納簿!$G$4:$G$564=$A$1)*1/ROW(②金銭出納簿!$C$4:$C$564),ROWS($A$18:$A30)),1/ROW(②金銭出納簿!$C$4:$C$564),0),COLUMNS($A$5:D$5)),"")} | E19: {=IFERROR(INDEX(②金銭出納簿!$C$4:$M$564,MATCH(LARGE((②金銭出納簿!$G$4:$G$564=$A$1)*1/ROW(②金銭出納簿!$C$4:$C$564),ROWS($A$18:$A30)),1/ROW(②金銭出納簿!$C$4:$C$564),0),COLUMNS($A$5:E$5)),"")} | F19: {=IFERROR(INDEX(②金銭出納簿!$C$4:$M$564,MATCH(LARGE((②金銭出納簿!$G$4:$G$564=$A$1)*1/ROW(②金銭出納簿!$C$4:$C$564),ROWS($A$18:$A30)),1/ROW(②金銭出納簿!$C$4:$C$564),0),COLUMNS($A$5:F$5)),"")} | G19: {=IFERROR(INDEX(②金銭出納簿!$C$4:$M$564,MATCH(LARGE((②金銭出納簿!$G$4:$G$564=$A$1)*1/ROW(②金銭出納簿!$C$4:$C$564),ROWS($A$18:$A30)),1/ROW(②金銭出納簿!$C$4:$C$564),0),COLUMNS($A$5:G$5)),"")} | H19: {=IFERROR(INDEX(②金銭出納簿!$C$4:$M$564,MATCH(LARGE((②金銭出納簿!$G$4:$G$564=$A$1)*1/ROW(②金銭出納簿!$C$4:$C$564),ROWS($A$18:$A30)),1/ROW(②金銭出納簿!$C$4:$C$564),0),COLUMNS($A$5:H$5)),"")} | ... J19: {=IFERROR(INDEX(②金銭出納簿!$C$4:$M$564,MATCH(LARGE((②金銭出納簿!$G$4:$G$564=$A$1)*1/ROW(②金銭出納簿!$C$4:$C$564),ROWS($A$18:$A30)),1/ROW(②金銭出納簿!$C$4:$C$564),0),COLUMNS($A$5:J$5)),"")} | K19: =IFERROR(K18+I19,"") | L19: =IFERROR(L18+J19,"")
... A639: {=IFERROR(INDEX(②金銭出納簿!$C$4:$M$564,MATCH(LARGE((②金銭出納簿!$G$4:$G$564=$A$1)*1/ROW(②金銭出納簿!$C$4:$C$564),ROWS($A$18:$A650)),1/ROW(②金銭出納簿!$C$4:$C$564),0),COLUMNS($A$5:A$5)),"")} | B639: {=IFERROR(INDEX(②金銭出納簿!$C$4:$M$564,MATCH(LARGE((②金銭出納簿!$G$4:$G$564=$A$1)*1/ROW(②金銭出納簿!$C$4:$C$564),ROWS($A$18:$A650)),1/ROW(②金銭出納簿!$C$4:$C$564),0),COLUMNS($A$5:B$5)),"")} | C639: {=IFERROR(INDEX(②金銭出納簿!$C$4:$M$564,MATCH(LARGE((②金銭出納簿!$G$4:$G$564=$A$1)*1/ROW(②金銭出納簿!$C$4:$C$564),ROWS($A$18:$A650)),1/ROW(②金銭出納簿!$C$4:$C$564),0),COLUMNS($A$5:C$5)),"")} | D639: {=IFERROR(INDEX(②金銭出納簿!$C$4:$M$564,MATCH(LARGE((②金銭出納簿!$G$4:$G$564=$A$1)*1/ROW(②金銭出納簿!$C$4:$C$564),ROWS($A$18:$A650)),1/ROW(②金銭出納簿!$C$4:$C$564),0),COLUMNS($A$5:D$5)),"")} | E639: {=IFERROR(INDEX(②金銭出納簿!$C$4:$M$564,MATCH(LARGE((②金銭出納簿!$G$4:$G$564=$A$1)*1/ROW(②金銭出納簿!$C$4:$C$564),ROWS($A$18:$A650)),1/ROW(②金銭出納簿!$C$4:$C$564),0),COLUMNS($A$5:E$5)),"")} | F639: {=IFERROR(INDEX(②金銭出納簿!$C$4:$M$564,MATCH(LARGE((②金銭出納簿!$G$4:$G$564=$A$1)*1/ROW(②金銭出納簿!$C$4:$C$564),ROWS($A$18:$A650)),1/ROW(②金銭出納簿!$C$4:$C$564),0),COLUMNS($A$5:F$5)),"")} | G639: {=IFERROR(INDEX(②金銭出納簿!$C$4:$M$564,MATCH(LARGE((②金銭出納簿!$G$4:$G$564=$A$1)*1/ROW(②金銭出納簿!$C$4:$C$564),ROWS($A$18:$A650)),1/ROW(②金銭出納簿!$C$4:$C$564),0),COLUMNS($A$5:G$5)),"")} | H639: {=IFERROR(INDEX(②金銭出納簿!$C$4:$M$564,MATCH(LARGE((②金銭出納簿!$G$4:$G$564=$A$1)*1/ROW(②金銭出納簿!$C$4:$C$564),ROWS($A$18:$A650)),1/ROW(②金銭出納簿!$C$4:$C$564),0),COLUMNS($A$5:H$5)),"")} | ... J639: {=IFERROR(INDEX(②金銭出納簿!$C$4:$M$564,MATCH(LARGE((②金銭出納簿!$G$4:$G$564=$A$1)*1/ROW(②金銭出納簿!$C$4:$C$564),ROWS($A$18:$A650)),1/ROW(②金銭出納簿!$C$4:$C$564),0),COLUMNS($A$5:J$5)),"")} | K639: =IFERROR(K638+I639,"") | L639: =IFERROR(L638+J639,"")

Sheet ⑨その他の事業
A1: 4 その他事業
H3: =SUM(H7:H53) -> 0 | I3: =SUM(I7:I53) -> 0 | J3: =SUM(J7:J53) -> 0
A4: 【その他の事業・補助対象外】
A5: 月 | B5: 日 | C5: № | E5: 区分 | F5: 摘要 | G5: 相手先 | H5: 収入金額 | I5: 支出 | K5: 累計
C6: 入 | D6: 出 | I6: 金額 | J6: 補助対象 | K6: 金額 | L6: 補助対象
A7: {=IFERROR(INDEX(②金銭出納簿!$C$4:$M$564,MATCH(LARGE((②金銭出納簿!$G$4:$G$564=$A$1)*1/ROW(②金銭出納簿!$C$4:$C$564),ROWS($A$18:$A18)),1/ROW(②金銭出納簿!$C$4:$C$564),0),COLUMNS($A$5:A$5)),"")} | B7: {=IFERROR(INDEX(②金銭出納簿!$C$4:$M$564,MATCH(LARGE((②金銭出納簿!$G$4:$G$564=$A$1)*1/ROW(②金銭出納簿!$C$4:$C$564),ROWS($A$18:$A18)),1/ROW(②金銭出納簿!$C$4:$C$564),0),COLUMNS($A$5:B$5)),"")} | C7: {=IFERROR(INDEX(②金銭出納簿!$C$4:$M$564,MATCH(LARGE((②金銭出納簿!$G$4:$G$564=$A$1)*1/ROW(②金銭出納簿!$C$4:$C$564),ROWS($A$18:$A18)),1/ROW(②金銭出納簿!$C$4:$C$564),0),COLUMNS($A$5:C$5)),"")} | D7: {=IFERROR(INDEX(②金銭出納簿!$C$4:$M$564,MATCH(LARGE((②金銭出納簿!$G$4:$G$564=$A$1)*1/ROW(②金銭出納簿!$C$4:$C$564),ROWS($A$18:$A18)),1/ROW(②金銭出納簿!$C$4:$C$564),0),COLUMNS($A$5:D$5)),"")} | E7: {=IFERROR(INDEX(②金銭出納簿!$C$4:$M$564,MATCH(LARGE((②金銭出納簿!$G$4:$G$564=$A$1)*1/ROW(②金銭出納簿!$C$4:$C$564),ROWS($A$18:$A18)),1/ROW(②金銭出納簿!$C$4:$C$564),0),COLUMNS($A$5:E$5)),"")} | F7: {=IFERROR(INDEX(②金銭出納簿!$C$4:$M$564,MATCH(LARGE((②金銭出納簿!$G$4:$G$564=$A$1)*1/ROW(②金銭出納簿!$C$4:$C$564),ROWS($A$18:$A18)),1/ROW(②金銭出納簿!$C$4:$C$564),0),COLUMNS($A$5:F$5)),"")} | G7: {=IFERROR(INDEX(②金銭出納簿!$C$4:$M$564,MATCH(LARGE((②金銭出納簿!$G$4:$G$564=$A$1)*1/ROW(②金銭出納簿!$C$4:$C$564),ROWS($A$18:$A18)),1/ROW(②金銭出納簿!$C$4:$C$564),0),COLUMNS($A$5:G$5)),"")} | H7: {=IFERROR(INDEX(②金銭出納簿!$C$4:$M$564,MATCH(LARGE((②金銭出納簿!$G$4:$G$564=$A$1)*1/ROW(②金銭出納簿!$C$4:$C$564),ROWS($A$18:$A18)),1/ROW(②金銭出納簿!$C$4:$C$564),0),COLUMNS($A$5:H$5)),"")} | ... J7: {=IFERROR(INDEX(②金銭出納簿!$C$4:$M$564,MATCH(LARGE((②金銭出納簿!$G$4:$G$564=$A$1)*1/ROW(②金銭出納簿!$C$4:$C$564),ROWS($A$18:$A18)),1/ROW(②金銭出納簿!$C$4:$C$564),0),COLUMNS($A$5:J$5)),"")} | K7: =I7 | L7: =J7 | M7: 金銭出納簿の「4 その他事業」のものが自動で入力されます
A8: {=IFERROR(INDEX(②金銭出納簿!$C$4:$M$564,MATCH(LARGE((②金銭出納簿!$G$4:$G$564=$A$1)*1/ROW(②金銭出納簿!$C$4:$C$564),ROWS($A$18:$A19)),1/ROW(②金銭出納簿!$C$4:$C$564),0),COLUMNS($A$5:A$5)),"")} | B8: {=IFERROR(INDEX(②金銭出納簿!$C$4:$M$564,MATCH(LARGE((②金銭出納簿!$G$4:$G$564=$A$1)*1/ROW(②金銭出納簿!$C$4:$C$564),ROWS($A$18:$A19)),1/ROW(②金銭出納簿!$C$4:$C$564),0),COLUMNS($A$5:B$5)),"")} | C8: {=IFERROR(INDEX(②金銭出納簿!$C$4:$M$564,MATCH(LARGE((②金銭出納簿!$G$4:$G$564=$A$1)*1/ROW(②金銭出納簿!$C$4:$C$564),ROWS($A$18:$A19)),1/ROW(②金銭出納簿!$C$4:$C$564),0),COLUMNS($A$5:C$5)),"")} | D8: {=IFERROR(INDEX(②金銭出納簿!$C$4:$M$564,MATCH(LARGE((②金銭出納簿!$G$4:$G$564=$A$1)*1/ROW(②金銭出納簿!$C$4:$C$564),ROWS($A$18:$A19)),1/ROW(②金銭出納簿!$C$4:$C$564),0),COLUMNS($A$5:D$5)),"")} | E8: {=IFERROR(INDEX(②金銭出納簿!$C$4:$M$564,MATCH(LARGE((②金銭出納簿!$G$4:$G$564=$A$1)*1/ROW(②金銭出納簿!$C$4:$C$564),ROWS($A$18:$A19)),1/ROW(②金銭出納簿!$C$4:$C$564),0),COLUMNS($A$5:E$5)),"")} | F8: {=IFERROR(INDEX(②金銭出納簿!$C$4:$M$564,MATCH(LARGE((②金銭出納簿!$G$4:$G$564=$A$1)*1/ROW(②金銭出納簿!$C$4:$C$564),ROWS($A$18:$A19)),1/ROW(②金銭出納簿!$C$4:$C$564),0),COLUMNS($A$5:F$5)),"")} | G8: {=IFERROR(INDEX(②金銭出納簿!$C$4:$M$564,MATCH(LARGE((②金銭出納簿!$G$4:$G$564=$A$1)*1/ROW(②金銭出納簿!$C$4:$C$564),ROWS($A$18:$A19)),1/ROW(②金銭出納簿!$C$4:$C$564),0),COLUMNS($A$5:G$5)),"")} | H8: {=IFERROR(INDEX(②金銭出納簿!$C$4:$M$564,MATCH(LARGE((②金銭出納簿!$G$4:$G$564=$A$1)*1/ROW(②金銭出納簿!$C$4:$C$564),ROWS($A$18:$A19)),1/ROW(②金銭出納簿!$C$4:$C$564),0),COLUMNS($A$5:H$5)),"")} | ... J8: {=IFERROR(INDEX(②金銭出納簿!$C$4:$M$564,MATCH(LARGE((②金銭出納簿!$G$4:$G$564=$A$1)*1/ROW(②金銭出納簿!$C$4:$C$564),ROWS($A$18:$A19)),1/ROW(②金銭出納簿!$C$4:$C$564),0),COLUMNS($A$5:J$5)),"")} | K8: =IFERROR(K7+I8,"") | L8: =IFERROR(L7+J8,"")
A9: {=IFERROR(INDEX(②金銭出納簿!$C$4:$M$564,MATCH(LARGE((②金銭出納簿!$G$4:$G$564=$A$1)*1/ROW(②金銭出納簿!$C$4:$C$564),ROWS($A$18:$A20)),1/ROW(②金銭出納簿!$C$4:$C$564),0),COLUMNS($A$5:A$5)),"")} | B9: {=IFERROR(INDEX(②金銭出納簿!$C$4:$M$564,MATCH(LARGE((②金銭出納簿!$G$4:$G$564=$A$1)*1/ROW(②金銭出納簿!$C$4:$C$564),ROWS($A$18:$A20)),1/ROW(②金銭出納簿!$C$4:$C$564),0),COLUMNS($A$5:B$5)),"")} | C9: {=IFERROR(INDEX(②金銭出納簿!$C$4:$M$564,MATCH(LARGE((②金銭出納簿!$G$4:$G$564=$A$1)*1/ROW(②金銭出納簿!$C$4:$C$564),ROWS($A$18:$A20)),1/ROW(②金銭出納簿!$C$4:$C$564),0),COLUMNS($A$5:C$5)),"")} | D9: {=IFERROR(INDEX(②金銭出納簿!$C$4:$M$564,MATCH(LARGE((②金銭出納簿!$G$4:$G$564=$A$1)*1/ROW(②金銭出納簿!$C$4:$C$564),ROWS($A$18:$A20)),1/ROW(②金銭出納簿!$C$4:$C$564),0),COLUMNS($A$5:D$5)),"")} | E9: {=IFERROR(INDEX(②金銭出納簿!$C$4:$M$564,MATCH(LARGE((②金銭出納簿!$G$4:$G$564=$A$1)*1/ROW(②金銭出納簿!$C$4:$C$564),ROWS($A$18:$A20)),1/ROW(②金銭出納簿!$C$4:$C$564),0),COLUMNS($A$5:E$5)),"")} | F9: {=IFERROR(INDEX(②金銭出納簿!$C$4:$M$564,MATCH(LARGE((②金銭出納簿!$G$4:$G$564=$A$1)*1/ROW(②金銭出納簿!$C$4:$C$564),ROWS($A$18:$A20)),1/ROW(②金銭出納簿!$C$4:$C$564),0),COLUMNS($A$5:F$5)),"")} | G9: {=IFERROR(INDEX(②金銭出納簿!$C$4:$M$564,MATCH(LARGE((②金銭出納簿!$G$4:$G$564=$A$1)*1/ROW(②金銭出納簿!$C$4:$C$564),ROWS($A$18:$A20)),1/ROW(②金銭出納簿!$C$4:$C$564),0),COLUMNS($A$5:G$5)),"")} | H9: {=IFERROR(INDEX(②金銭出納簿!$C$4:$M$564,MATCH(LARGE((②金銭出納簿!$G$4:$G$564=$A$1)*1/ROW(②金銭出納簿!$C$4:$C$564),ROWS($A$18:$A20)),1/ROW(②金銭出納簿!$C$4:$C$564),0),COLUMNS($A$5:H$5)),"")} | ... J9: {=IFERROR(INDEX(②金銭出納簿!$C$4:$M$564,MATCH(LARGE((②金銭出納簿!$G$4:$G$564=$A$1)*1/ROW(②金銭出納簿!$C$4:$C$564),ROWS($A$18:$A20)),1/ROW(②金銭出納簿!$C$4:$C$564),0),COLUMNS($A$5:J$5)),"")} | K9: =IFERROR(K8+I9,"") | L9: =IFERROR(L8+J9,"")
A10: {=IFERROR(INDEX(②金銭出納簿!$C$4:$M$564,MATCH(LARGE((②金銭出納簿!$G$4:$G$564=$A$1)*1/ROW(②金銭出納簿!$C$4:$C$564),ROWS($A$18:$A21)),1/ROW(②金銭出納簿!$C$4:$C$564),0),COLUMNS($A$5:A$5)),"")} | B10: {=IFERROR(INDEX(②金銭出納簿!$C$4:$M$564,MATCH(LARGE((②金銭出納簿!$G$4:$G$564=$A$1)*1/ROW(②金銭出納簿!$C$4:$C$564),ROWS($A$18:$A21)),1/ROW(②金銭出納簿!$C$4:$C$564),0),COLUMNS($A$5:B$5)),"")} | C10: {=IFERROR(INDEX(②金銭出納簿!$C$4:$M$564,MATCH(LARGE((②金銭出納簿!$G$4:$G$564=$A$1)*1/ROW(②金銭出納簿!$C$4:$C$564),ROWS($A$18:$A21)),1/ROW(②金銭出納簿!$C$4:$C$564),0),COLUMNS($A$5:C$5)),"")} | D10: {=IFERROR(INDEX(②金銭出納簿!$C$4:$M$564,MATCH(LARGE((②金銭出納簿!$G$4:$G$564=$A$1)*1/ROW(②金銭出納簿!$C$4:$C$564),ROWS($A$18:$A21)),1/ROW(②金銭出納簿!$C$4:$C$564),0),COLUMNS($A$5:D$5)),"")} | E10: {=IFERROR(INDEX(②金銭出納簿!$C$4:$M$564,MATCH(LARGE((②金銭出納簿!$G$4:$G$564=$A$1)*1/ROW(②金銭出納簿!$C$4:$C$564),ROWS($A$18:$A21)),1/ROW(②金銭出納簿!$C$4:$C$564),0),COLUMNS($A$5:E$5)),"")} | F10: {=IFERROR(INDEX(②金銭出納簿!$C$4:$M$564,MATCH(LARGE((②金銭出納簿!$G$4:$G$564=$A$1)*1/ROW(②金銭出納簿!$C$4:$C$564),ROWS($A$18:$A21)),1/ROW(②金銭出納簿!$C$4:$C$564),0),COLUMNS($A$5:F$5)),"")} | G10: {=IFERROR(INDEX(②金銭出納簿!$C$4:$M$564,MATCH(LARGE((②金銭出納簿!$G$4:$G$564=$A$1)*1/ROW(②金銭出納簿!$C$4:$C$564),ROWS($A$18:$A21)),1/ROW(②金銭出納簿!$C$4:$C$564),0),COLUMNS($A$5:G$5)),"")} | H10: {=IFERROR(INDEX(②金銭出納簿!$C$4:$M$564,MATCH(LARGE((②金銭出納簿!$G$4:$G$564=$A$1)*1/ROW(②金銭出納簿!$C$4:$C$564),ROWS($A$18:$A21)),1/ROW(②金銭出納簿!$C$4:$C$564),0),COLUMNS($A$5:H$5)),"")} | ... J10: {=IFERROR(INDEX(②金銭出納簿!$C$4:$M$564,MATCH(LARGE((②金銭出納簿!$G$4:$G$564=$A$1)*1/ROW(②金銭出納簿!$C$4:$C$564),ROWS($A$18:$A21)),1/ROW(②金銭出納簿!$C$4:$C$564),0),COLUMNS($A$5:J$5)),"")} | K10: =IFERROR(K9+I10,"") | L10: =IFERROR(L9+J10,"")
A11: {=IFERROR(INDEX(②金銭出納簿!$C$4:$M$564,MATCH(LARGE((②金銭出納簿!$G$4:$G$564=$A$1)*1/ROW(②金銭出納簿!$C$4:$C$564),ROWS($A$18:$A22)),1/ROW(②金銭出納簿!$C$4:$C$564),0),COLUMNS($A$5:A$5)),"")} | B11: {=IFERROR(INDEX(②金銭出納簿!$C$4:$M$564,MATCH(LARGE((②金銭出納簿!$G$4:$G$564=$A$1)*1/ROW(②金銭出納簿!$C$4:$C$564),ROWS($A$18:$A22)),1/ROW(②金銭出納簿!$C$4:$C$564),0),COLUMNS($A$5:B$5)),"")} | C11: {=IFERROR(INDEX(②金銭出納簿!$C$4:$M$564,MATCH(LARGE((②金銭出納簿!$G$4:$G$564=$A$1)*1/ROW(②金銭出納簿!$C$4:$C$564),ROWS($A$18:$A22)),1/ROW(②金銭出納簿!$C$4:$C$564),0),COLUMNS($A$5:C$5)),"")} | D11: {=IFERROR(INDEX(②金銭出納簿!$C$4:$M$564,MATCH(LARGE((②金銭出納簿!$G$4:$G$564=$A$1)*1/ROW(②金銭出納簿!$C$4:$C$564),ROWS($A$18:$A22)),1/ROW(②金銭出納簿!$C$4:$C$564),0),COLUMNS($A$5:D$5)),"")} | E11: {=IFERROR(INDEX(②金銭出納簿!$C$4:$M$564,MATCH(LARGE((②金銭出納簿!$G$4:$G$564=$A$1)*1/ROW(②金銭出納簿!$C$4:$C$564),ROWS($A$18:$A22)),1/ROW(②金銭出納簿!$C$4:$C$564),0),COLUMNS($A$5:E$5)),"")} | F11: {=IFERROR(INDEX(②金銭出納簿!$C$4:$M$564,MATCH(LARGE((②金銭出納簿!$G$4:$G$564=$A$1)*1/ROW(②金銭出納簿!$C$4:$C$564),ROWS($A$18:$A22)),1/ROW(②金銭出納簿!$C$4:$C$564),0),COLUMNS($A$5:F$5)),"")} | G11: {=IFERROR(INDEX(②金銭出納簿!$C$4:$M$564,MATCH(LARGE((②金銭出納簿!$G$4:$G$564=$A$1)*1/ROW(②金銭出納簿!$C$4:$C$564),ROWS($A$18:$A22)),1/ROW(②金銭出納簿!$C$4:$C$564),0),COLUMNS($A$5:G$5)),"")} | H11: {=IFERROR(INDEX(②金銭出納簿!$C$4:$M$564,MATCH(LARGE((②金銭出納簿!$G$4:$G$564=$A$1)*1/ROW(②金銭出納簿!$C$4:$C$564),ROWS($A$18:$A22)),1/ROW(②金銭出納簿!$C$4:$C$564),0),COLUMNS($A$5:H$5)),"")} | ... J11: {=IFERROR(INDEX(②金銭出納簿!$C$4:$M$564,MATCH(LARGE((②金銭出納簿!$G$4:$G$564=$A$1)*1/ROW(②金銭出納簿!$C$4:$C$564),ROWS($A$18:$A22)),1/ROW(②金銭出納簿!$C$4:$C$564),0),COLUMNS($A$5:J$5)),"")} | K11: =IFERROR(K10+I11,"") | L11: =IFERROR(L10+J11,"")
A12: {=IFERROR(INDEX(②金銭出納簿!$C$4:$M$564,MATCH(LARGE((②金銭出納簿!$G$4:$G$564=$A$1)*1/ROW(②金銭出納簿!$C$4:$C$564),ROWS($A$18:$A23)),1/ROW(②金銭出納簿!$C$4:$C$564),0),COLUMNS($A$5:A$5)),"")} | B12: {=IFERROR(INDEX(②金銭出納簿!$C$4:$M$564,MATCH(LARGE((②金銭出納簿!$G$4:$G$564=$A$1)*1/ROW(②金銭出納簿!$C$4:$C$564),ROWS($A$18:$A23)),1/ROW(②金銭出納簿!$C$4:$C$564),0),COLUMNS($A$5:B$5)),"")} | C12: {=IFERROR(INDEX(②金銭出納簿!$C$4:$M$564,MATCH(LARGE((②金銭出納簿!$G$4:$G$564=$A$1)*1/ROW(②金銭出納簿!$C$4:$C$564),ROWS($A$18:$A23)),1/ROW(②金銭出納簿!$C$4:$C$564),0),COLUMNS($A$5:C$5)),"")} | D12: {=IFERROR(INDEX(②金銭出納簿!$C$4:$M$564,MATCH(LARGE((②金銭出納簿!$G$4:$G$564=$A$1)*1/ROW(②金銭出納簿!$C$4:$C$564),ROWS($A$18:$A23)),1/ROW(②金銭出納簿!$C$4:$C$564),0),COLUMNS($A$5:D$5)),"")} | E12: {=IFERROR(INDEX(②金銭出納簿!$C$4:$M$564,MATCH(LARGE((②金銭出納簿!$G$4:$G$564=$A$1)*1/ROW(②金銭出納簿!$C$4:$C$564),ROWS($A$18:$A23)),1/ROW(②金銭出納簿!$C$4:$C$564),0),COLUMNS($A$5:E$5)),"")} | F12: {=IFERROR(INDEX(②金銭出納簿!$C$4:$M$564,MATCH(LARGE((②金銭出納簿!$G$4:$G$564=$A$1)*1/ROW(②金銭出納簿!$C$4:$C$564),ROWS($A$18:$A23)),1/ROW(②金銭出納簿!$C$4:$C$564),0),COLUMNS($A$5:F$5)),"")} | G12: {=IFERROR(INDEX(②金銭出納簿!$C$4:$M$564,MATCH(LARGE((②金銭出納簿!$G$4:$G$564=$A$1)*1/ROW(②金銭出納簿!$C$4:$C$564),ROWS($A$18:$A23)),1/ROW(②金銭出納簿!$C$4:$C$564),0),COLUMNS($A$5:G$5)),"")} | H12: {=IFERROR(INDEX(②金銭出納簿!$C$4:$M$564,MATCH(LARGE((②金銭出納簿!$G$4:$G$564=$A$1)*1/ROW(②金銭出納簿!$C$4:$C$564),ROWS($A$18:$A23)),1/ROW(②金銭出納簿!$C$4:$C$564),0),COLUMNS($A$5:H$5)),"")} | ... J12: {=IFERROR(INDEX(②金銭出納簿!$C$4:$M$564,MATCH(LARGE((②金銭出納簿!$G$4:$G$564=$A$1)*1/ROW(②金銭出納簿!$C$4:$C$564),ROWS($A$18:$A23)),1/ROW(②金銭出納簿!$C$4:$C$564),0),COLUMNS($A$5:J$5)),"")} | K12: =IFERROR(K11+I12,"") | L12: =IFERROR(L11+J12,"")
A13: {=IFERROR(INDEX(②金銭出納簿!$C$4:$M$564,MATCH(LARGE((②金銭出納簿!$G$4:$G$564=$A$1)*1/ROW(②金銭出納簿!$C$4:$C$564),ROWS($A$18:$A24)),1/ROW(②金銭出納簿!$C$4:$C$564),0),COLUMNS($A$5:A$5)),"")} | B13: {=IFERROR(INDEX(②金銭出納簿!$C$4:$M$564,MATCH(LARGE((②金銭出納簿!$G$4:$G$564=$A$1)*1/ROW(②金銭出納簿!$C$4:$C$564),ROWS($A$18:$A24)),1/ROW(②金銭出納簿!$C$4:$C$564),0),COLUMNS($A$5:B$5)),"")} | C13: {=IFERROR(INDEX(②金銭出納簿!$C$4:$M$564,MATCH(LARGE((②金銭出納簿!$G$4:$G$564=$A$1)*1/ROW(②金銭出納簿!$C$4:$C$564),ROWS($A$18:$A24)),1/ROW(②金銭出納簿!$C$4:$C$564),0),COLUMNS($A$5:C$5)),"")} | D13: {=IFERROR(INDEX(②金銭出納簿!$C$4:$M$564,MATCH(LARGE((②金銭出納簿!$G$4:$G$564=$A$1)*1/ROW(②金銭出納簿!$C$4:$C$564),ROWS($A$18:$A24)),1/ROW(②金銭出納簿!$C$4:$C$564),0),COLUMNS($A$5:D$5)),"")} | E13: {=IFERROR(INDEX(②金銭出納簿!$C$4:$M$564,MATCH(LARGE((②金銭出納簿!$G$4:$G$564=$A$1)*1/ROW(②金銭出納簿!$C$4:$C$564),ROWS($A$18:$A24)),1/ROW(②金銭出納簿!$C$4:$C$564),0),COLUMNS($A$5:E$5)),"")} | F13: {=IFERROR(INDEX(②金銭出納簿!$C$4:$M$564,MATCH(LARGE((②金銭出納簿!$G$4:$G$564=$A$1)*1/ROW(②金銭出納簿!$C$4:$C$564),ROWS($A$18:$A24)),1/ROW(②金銭出納簿!$C$4:$C$564),0),COLUMNS($A$5:F$5)),"")} | G13: {=IFERROR(INDEX(②金銭出納簿!$C$4:$M$564,MATCH(LARGE((②金銭出納簿!$G$4:$G$564=$A$1)*1/ROW(②金銭出納簿!$C$4:$C$564),ROWS($A$18:$A24)),1/ROW(②金銭出納簿!$C$4:$C$564),0),COLUMNS($A$5:G$5)),"")} | H13: {=IFERROR(INDEX(②金銭出納簿!$C$4:$M$564,MATCH(LARGE((②金銭出納簿!$G$4:$G$564=$A$1)*1/ROW(②金銭出納簿!$C$4:$C$564),ROWS($A$18:$A24)),1/ROW(②金銭出納簿!$C$4:$C$564),0),COLUMNS($A$5:H$5)),"")} | ... J13: {=IFERROR(INDEX(②金銭出納簿!$C$4:$M$564,MATCH(LARGE((②金銭出納簿!$G$4:$G$564=$A$1)*1/ROW(②金銭出納簿!$C$4:$C$564),ROWS($A$18:$A24)),1/ROW(②金銭出納簿!$C$4:$C$564),0),COLUMNS($A$5:J$5)),"")} | K13: =IFERROR(K12+I13,"") | L13: =IFERROR(L12+J13,"")
A14: {=IFERROR(INDEX(②金銭出納簿!$C$4:$M$564,MATCH(LARGE((②金銭出納簿!$G$4:$G$564=$A$1)*1/ROW(②金銭出納簿!$C$4:$C$564),ROWS($A$18:$A25)),1/ROW(②金銭出納簿!$C$4:$C$564),0),COLUMNS($A$5:A$5)),"")} | B14: {=IFERROR(INDEX(②金銭出納簿!$C$4:$M$564,MATCH(LARGE((②金銭出納簿!$G$4:$G$564=$A$1)*1/ROW(②金銭出納簿!$C$4:$C$564),ROWS($A$18:$A25)),1/ROW(②金銭出納簿!$C$4:$C$564),0),COLUMNS($A$5:B$5)),"")} | C14: {=IFERROR(INDEX(②金銭出納簿!$C$4:$M$564,MATCH(LARGE((②金銭出納簿!$G$4:$G$564=$A$1)*1/ROW(②金銭出納簿!$C$4:$C$564),ROWS($A$18:$A25)),1/ROW(②金銭出納簿!$C$4:$C$564),0),COLUMNS($A$5:C$5)),"")} | D14: {=IFERROR(INDEX(②金銭出納簿!$C$4:$M$564,MATCH(LARGE((②金銭出納簿!$G$4:$G$564=$A$1)*1/ROW(②金銭出納簿!$C$4:$C$564),ROWS($A$18:$A25)),1/ROW(②金銭出納簿!$C$4:$C$564),0),COLUMNS($A$5:D$5)),"")} | E14: {=IFERROR(INDEX(②金銭出納簿!$C$4:$M$564,MATCH(LARGE((②金銭出納簿!$G$4:$G$564=$A$1)*1/ROW(②金銭出納簿!$C$4:$C$564),ROWS($A$18:$A25)),1/ROW(②金銭出納簿!$C$4:$C$564),0),COLUMNS($A$5:E$5)),"")} | F14: {=IFERROR(INDEX(②金銭出納簿!$C$4:$M$564,MATCH(LARGE((②金銭出納簿!$G$4:$G$564=$A$1)*1/ROW(②金銭出納簿!$C$4:$C$564),ROWS($A$18:$A25)),1/ROW(②金銭出納簿!$C$4:$C$564),0),COLUMNS($A$5:F$5)),"")} | G14: {=IFERROR(INDEX(②金銭出納簿!$C$4:$M$564,MATCH(LARGE((②金銭出納簿!$G$4:$G$564=$A$1)*1/ROW(②金銭出納簿!$C$4:$C$564),ROWS($A$18:$A25)),1/ROW(②金銭出納簿!$C$4:$C$564),0),COLUMNS($A$5:G$5)),"")} | H14: {=IFERROR(INDEX(②金銭出納簿!$C$4:$M$564,MATCH(LARGE((②金銭出納簿!$G$4:$G$564=$A$1)*1/ROW(②金銭出納簿!$C$4:$C$564),ROWS($A$18:$A25)),1/ROW(②金銭出納簿!$C$4:$C$564),0),COLUMNS($A$5:H$5)),"")} | ... J14: {=IFERROR(INDEX(②金銭出納簿!$C$4:$M$564,MATCH(LARGE((②金銭出納簿!$G$4:$G$564=$A$1)*1/ROW(②金銭出納簿!$C$4:$C$564),ROWS($A$18:$A25)),1/ROW(②金銭出納簿!$C$4:$C$564),0),COLUMNS($A$5:J$5)),"")} | K14: =IFERROR(K13+I14,"") | L14: =IFERROR(L13+J14,"")
A15: {=IFERROR(INDEX(②金銭出納簿!$C$4:$M$564,MATCH(LARGE((②金銭出納簿!$G$4:$G$564=$A$1)*1/ROW(②金銭出納簿!$C$4:$C$564),ROWS($A$18:$A26)),1/ROW(②金銭出納簿!$C$4:$C$564),0),COLUMNS($A$5:A$5)),"")} | B15: {=IFERROR(INDEX(②金銭出納簿!$C$4:$M$564,MATCH(LARGE((②金銭出納簿!$G$4:$G$564=$A$1)*1/ROW(②金銭出納簿!$C$4:$C$564),ROWS($A$18:$A26)),1/ROW(②金銭出納簿!$C$4:$C$564),0),COLUMNS($A$5:B$5)),"")} | C15: {=IFERROR(INDEX(②金銭出納簿!$C$4:$M$564,MATCH(LARGE((②金銭出納簿!$G$4:$G$564=$A$1)*1/ROW(②金銭出納簿!$C$4:$C$564),ROWS($A$18:$A26)),1/ROW(②金銭出納簿!$C$4:$C$564),0),COLUMNS($A$5:C$5)),"")} | D15: {=IFERROR(INDEX(②金銭出納簿!$C$4:$M$564,MATCH(LARGE((②金銭出納簿!$G$4:$G$564=$A$1)*1/ROW(②金銭出納簿!$C$4:$C$564),ROWS($A$18:$A26)),1/ROW(②金銭出納簿!$C$4:$C$564),0),COLUMNS($A$5:D$5)),"")} | E15: {=IFERROR(INDEX(②金銭出納簿!$C$4:$M$564,MATCH(LARGE((②金銭出納簿!$G$4:$G$564=$A$1)*1/ROW(②金銭出納簿!$C$4:$C$564),ROWS($A$18:$A26)),1/ROW(②金銭出納簿!$C$4:$C$564),0),COLUMNS($A$5:E$5)),"")} | F15: {=IFERROR(INDEX(②金銭出納簿!$C$4:$M$564,MATCH(LARGE((②金銭出納簿!$G$4:$G$564=$A$1)*1/ROW(②金銭出納簿!$C$4:$C$564),ROWS($A$18:$A26)),1/ROW(②金銭出納簿!$C$4:$C$564),0),COLUMNS($A$5:F$5)),"")} | G15: {=IFERROR(INDEX(②金銭出納簿!$C$4:$M$564,MATCH(LARGE((②金銭出納簿!$G$4:$G$564=$A$1)*1/ROW(②金銭出納簿!$C$4:$C$564),ROWS($A$18:$A26)),1/ROW(②金銭出納簿!$C$4:$C$564),0),COLUMNS($A$5:G$5)),"")} | H15: {=IFERROR(INDEX(②金銭出納簿!$C$4:$M$564,MATCH(LARGE((②金銭出納簿!$G$4:$G$564=$A$1)*1/ROW(②金銭出納簿!$C$4:$C$564),ROWS($A$18:$A26)),1/ROW(②金銭出納簿!$C$4:$C$564),0),COLUMNS($A$5:H$5)),"")} | ... J15: {=IFERROR(INDEX(②金銭出納簿!$C$4:$M$564,MATCH(LARGE((②金銭出納簿!$G$4:$G$564=$A$1)*1/ROW(②金銭出納簿!$C$4:$C$564),ROWS($A$18:$A26)),1/ROW(②金銭出納簿!$C$4:$C$564),0),COLUMNS($A$5:J$5)),"")} | K15: =IFERROR(K14+I15,"") | L15: =IFERROR(L14+J15,"")
A16: {=IFERROR(INDEX(②金銭出納簿!$C$4:$M$564,MATCH(LARGE((②金銭出納簿!$G$4:$G$564=$A$1)*1/ROW(②金銭出納簿!$C$4:$C$564),ROWS($A$18:$A27)),1/ROW(②金銭出納簿!$C$4:$C$564),0),COLUMNS($A$5:A$5)),"")} | B16: {=IFERROR(INDEX(②金銭出納簿!$C$4:$M$564,MATCH(LARGE((②金銭出納簿!$G$4:$G$564=$A$1)*1/ROW(②金銭出納簿!$C$4:$C$564),ROWS($A$18:$A27)),1/ROW(②金銭出納簿!$C$4:$C$564),0),COLUMNS($A$5:B$5)),"")} | C16: {=IFERROR(INDEX(②金銭出納簿!$C$4:$M$564,MATCH(LARGE((②金銭出納簿!$G$4:$G$564=$A$1)*1/ROW(②金銭出納簿!$C$4:$C$564),ROWS($A$18:$A27)),1/ROW(②金銭出納簿!$C$4:$C$564),0),COLUMNS($A$5:C$5)),"")} | D16: {=IFERROR(INDEX(②金銭出納簿!$C$4:$M$564,MATCH(LARGE((②金銭出納簿!$G$4:$G$564=$A$1)*1/ROW(②金銭出納簿!$C$4:$C$564),ROWS($A$18:$A27)),1/ROW(②金銭出納簿!$C$4:$C$564),0),COLUMNS($A$5:D$5)),"")} | E16: {=IFERROR(INDEX(②金銭出納簿!$C$4:$M$564,MATCH(LARGE((②金銭出納簿!$G$4:$G$564=$A$1)*1/ROW(②金銭出納簿!$C$4:$C$564),ROWS($A$18:$A27)),1/ROW(②金銭出納簿!$C$4:$C$564),0),COLUMNS($A$5:E$5)),"")} | F16: {=IFERROR(INDEX(②金銭出納簿!$C$4:$M$564,MATCH(LARGE((②金銭出納簿!$G$4:$G$564=$A$1)*1/ROW(②金銭出納簿!$C$4:$C$564),ROWS($A$18:$A27)),1/ROW(②金銭出納簿!$C$4:$C$564),0),COLUMNS($A$5:F$5)),"")} | G16: {=IFERROR(INDEX(②金銭出納簿!$C$4:$M$564,MATCH(LARGE((②金銭出納簿!$G$4:$G$564=$A$1)*1/ROW(②金銭出納簿!$C$4:$C$564),ROWS($A$18:$A27)),1/ROW(②金銭出納簿!$C$4:$C$564),0),COLUMNS($A$5:G$5)),"")} | H16: {=IFERROR(INDEX(②金銭出納簿!$C$4:$M$564,MATCH(LARGE((②金銭出納簿!$G$4:$G$564=$A$1)*1/ROW(②金銭出納簿!$C$4:$C$564),ROWS($A$18:$A27)),1/ROW(②金銭出納簿!$C$4:$C$564),0),COLUMNS($A$5:H$5)),"")} | ... J16: {=IFERROR(INDEX(②金銭出納簿!$C$4:$M$564,MATCH(LARGE((②金銭出納簿!$G$4:$G$564=$A$1)*1/ROW(②金銭出納簿!$C$4:$C$564),ROWS($A$18:$A27)),1/ROW(②金銭出納簿!$C$4:$C$564),0),COLUMNS($A$5:J$5)),"")} | K16: =IFERROR(K15+I16,"") | L16: =IFERROR(L15+J16,"")
A17: {=IFERROR(INDEX(②金銭出納簿!$C$4:$M$564,MATCH(LARGE((②金銭出納簿!$G$4:$G$564=$A$1)*1/ROW(②金銭出納簿!$C$4:$C$564),ROWS($A$18:$A28)),1/ROW(②金銭出納簿!$C$4:$C$564),0),COLUMNS($A$5:A$5)),"")} | B17: {=IFERROR(INDEX(②金銭出納簿!$C$4:$M$564,MATCH(LARGE((②金銭出納簿!$G$4:$G$564=$A$1)*1/ROW(②金銭出納簿!$C$4:$C$564),ROWS($A$18:$A28)),1/ROW(②金銭出納簿!$C$4:$C$564),0),COLUMNS($A$5:B$5)),"")} | C17: {=IFERROR(INDEX(②金銭出納簿!$C$4:$M$564,MATCH(LARGE((②金銭出納簿!$G$4:$G$564=$A$1)*1/ROW(②金銭出納簿!$C$4:$C$564),ROWS($A$18:$A28)),1/ROW(②金銭出納簿!$C$4:$C$564),0),COLUMNS($A$5:C$5)),"")} | D17: {=IFERROR(INDEX(②金銭出納簿!$C$4:$M$564,MATCH(LARGE((②金銭出納簿!$G$4:$G$564=$A$1)*1/ROW(②金銭出納簿!$C$4:$C$564),ROWS($A$18:$A28)),1/ROW(②金銭出納簿!$C$4:$C$564),0),COLUMNS($A$5:D$5)),"")} | E17: {=IFERROR(INDEX(②金銭出納簿!$C$4:$M$564,MATCH(LARGE((②金銭出納簿!$G$4:$G$564=$A$1)*1/ROW(②金銭出納簿!$C$4:$C$564),ROWS($A$18:$A28)),1/ROW(②金銭出納簿!$C$4:$C$564),0),COLUMNS($A$5:E$5)),"")} | F17: {=IFERROR(INDEX(②金銭出納簿!$C$4:$M$564,MATCH(LARGE((②金銭出納簿!$G$4:$G$564=$A$1)*1/ROW(②金銭出納簿!$C$4:$C$564),ROWS($A$18:$A28)),1/ROW(②金銭出納簿!$C$4:$C$564),0),COLUMNS($A$5:F$5)),"")} | G17: {=IFERROR(INDEX(②金銭出納簿!$C$4:$M$564,MATCH(LARGE((②金銭出納簿!$G$4:$G$564=$A$1)*1/ROW(②金銭出納簿!$C$4:$C$564),ROWS($A$18:$A28)),1/ROW(②金銭出納簿!$C$4:$C$564),0),COLUMNS($A$5:G$5)),"")} | H17: {=IFERROR(INDEX(②金銭出納簿!$C$4:$M$564,MATCH(LARGE((②金銭出納簿!$G$4:$G$564=$A$1)*1/ROW(②金銭出納簿!$C$4:$C$564),ROWS($A$18:$A28)),1/ROW(②金銭出納簿!$C$4:$C$564),0),COLUMNS($A$5:H$5)),"")} | ... J17: {=IFERROR(INDEX(②金銭出納簿!$C$4:$M$564,MATCH(LARGE((②金銭出納簿!$G$4:$G$564=$A$1)*1/ROW(②金銭出納簿!$C$4:$C$564),ROWS($A$18:$A28)),1/ROW(②金銭出納簿!$C$4:$C$564),0),COLUMNS($A$5:J$5)),"")} | K17: =IFERROR(K16+I17,"") | L17: =IFERROR(L16+J17,"")
A18: {=IFERROR(INDEX(②金銭出納簿!$C$4:$M$564,MATCH(LARGE((②金銭出納簿!$G$4:$G$564=$A$1)*1/ROW(②金銭出納簿!$C$4:$C$564),ROWS($A$18:$A29)),1/ROW(②金銭出納簿!$C$4:$C$564),0),COLUMNS($A$5:A$5)),"")} | B18: {=IFERROR(INDEX(②金銭出納簿!$C$4:$M$564,MATCH(LARGE((②金銭出納簿!$G$4:$G$564=$A$1)*1/ROW(②金銭出納簿!$C$4:$C$564),ROWS($A$18:$A29)),1/ROW(②金銭出納簿!$C$4:$C$564),0),COLUMNS($A$5:B$5)),"")} | C18: {=IFERROR(INDEX(②金銭出納簿!$C$4:$M$564,MATCH(LARGE((②金銭出納簿!$G$4:$G$564=$A$1)*1/ROW(②金銭出納簿!$C$4:$C$564),ROWS($A$18:$A29)),1/ROW(②金銭出納簿!$C$4:$C$564),0),COLUMNS($A$5:C$5)),"")} | D18: {=IFERROR(INDEX(②金銭出納簿!$C$4:$M$564,MATCH(LARGE((②金銭出納簿!$G$4:$G$564=$A$1)*1/ROW(②金銭出納簿!$C$4:$C$564),ROWS($A$18:$A29)),1/ROW(②金銭出納簿!$C$4:$C$564),0),COLUMNS($A$5:D$5)),"")} | E18: {=IFERROR(INDEX(②金銭出納簿!$C$4:$M$564,MATCH(LARGE((②金銭出納簿!$G$4:$G$564=$A$1)*1/ROW(②金銭出納簿!$C$4:$C$564),ROWS($A$18:$A29)),1/ROW(②金銭出納簿!$C$4:$C$564),0),COLUMNS($A$5:E$5)),"")} | F18: {=IFERROR(INDEX(②金銭出納簿!$C$4:$M$564,MATCH(LARGE((②金銭出納簿!$G$4:$G$564=$A$1)*1/ROW(②金銭出納簿!$C$4:$C$564),ROWS($A$18:$A29)),1/ROW(②金銭出納簿!$C$4:$C$564),0),COLUMNS($A$5:F$5)),"")} | G18: {=IFERROR(INDEX(②金銭出納簿!$C$4:$M$564,MATCH(LARGE((②金銭出納簿!$G$4:$G$564=$A$1)*1/ROW(②金銭出納簿!$C$4:$C$564),ROWS($A$18:$A29)),1/ROW(②金銭出納簿!$C$4:$C$564),0),COLUMNS($A$5:G$5)),"")} | H18: {=IFERROR(INDEX(②金銭出納簿!$C$4:$M$564,MATCH(LARGE((②金銭出納簿!$G$4:$G$564=$A$1)*1/ROW(②金銭出納簿!$C$4:$C$564),ROWS($A$18:$A29)),1/ROW(②金銭出納簿!$C$4:$C$564),0),COLUMNS($A$5:H$5)),"")} | ... J18: {=IFERROR(INDEX(②金銭出納簿!$C$4:$M$564,MATCH(LARGE((②金銭出納簿!$G$4:$G$564=$A$1)*1/ROW(②金銭出納簿!$C$4:$C$564),ROWS($A$18:$A29)),1/ROW(②金銭出納簿!$C$4:$C$564),0),COLUMNS($A$5:J$5)),"")} | K18: =IFERROR(K17+I18,"") | L18: =IFERROR(L17+J18,"")
A19: {=IFERROR(INDEX(②金銭出納簿!$C$4:$M$564,MATCH(LARGE((②金銭出納簿!$G$4:$G$564=$A$1)*1/ROW(②金銭出納簿!$C$4:$C$564),ROWS($A$18:$A30)),1/ROW(②金銭出納簿!$C$4:$C$564),0),COLUMNS($A$5:A$5)),"")} | B19: {=IFERROR(INDEX(②金銭出納簿!$C$4:$M$564,MATCH(LARGE((②金銭出納簿!$G$4:$G$564=$A$1)*1/ROW(②金銭出納簿!$C$4:$C$564),ROWS($A$18:$A30)),1/ROW(②金銭出納簿!$C$4:$C$564),0),COLUMNS($A$5:B$5)),"")} | C19: {=IFERROR(INDEX(②金銭出納簿!$C$4:$M$564,MATCH(LARGE((②金銭出納簿!$G$4:$G$564=$A$1)*1/ROW(②金銭出納簿!$C$4:$C$564),ROWS($A$18:$A30)),1/ROW(②金銭出納簿!$C$4:$C$564),0),COLUMNS($A$5:C$5)),"")} | D19: {=IFERROR(INDEX(②金銭出納簿!$C$4:$M$564,MATCH(LARGE((②金銭出納簿!$G$4:$G$564=$A$1)*1/ROW(②金銭出納簿!$C$4:$C$564),ROWS($A$18:$A30)),1/ROW(②金銭出納簿!$C$4:$C$564),0),COLUMNS($A$5:D$5)),"")} | E19: {=IFERROR(INDEX(②金銭出納簿!$C$4:$M$564,MATCH(LARGE((②金銭出納簿!$G$4:$G$564=$A$1)*1/ROW(②金銭出納簿!$C$4:$C$564),ROWS($A$18:$A30)),1/ROW(②金銭出納簿!$C$4:$C$564),0),COLUMNS($A$5:E$5)),"")} | F19: {=IFERROR(INDEX(②金銭出納簿!$C$4:$M$564,MATCH(LARGE((②金銭出納簿!$G$4:$G$564=$A$1)*1/ROW(②金銭出納簿!$C$4:$C$564),ROWS($A$18:$A30)),1/ROW(②金銭出納簿!$C$4:$C$564),0),COLUMNS($A$5:F$5)),"")} | G19: {=IFERROR(INDEX(②金銭出納簿!$C$4:$M$564,MATCH(LARGE((②金銭出納簿!$G$4:$G$564=$A$1)*1/ROW(②金銭出納簿!$C$4:$C$564),ROWS($A$18:$A30)),1/ROW(②金銭出納簿!$C$4:$C$564),0),COLUMNS($A$5:G$5)),"")} | H19: {=IFERROR(INDEX(②金銭出納簿!$C$4:$M$564,MATCH(LARGE((②金銭出納簿!$G$4:$G$564=$A$1)*1/ROW(②金銭出納簿!$C$4:$C$564),ROWS($A$18:$A30)),1/ROW(②金銭出納簿!$C$4:$C$564),0),COLUMNS($A$5:H$5)),"")} | ... J19: {=IFERROR(INDEX(②金銭出納簿!$C$4:$M$564,MATCH(LARGE((②金銭出納簿!$G$4:$G$564=$A$1)*1/ROW(②金銭出納簿!$C$4:$C$564),ROWS($A$18:$A30)),1/ROW(②金銭出納簿!$C$4:$C$564),0),COLUMNS($A$5:J$5)),"")} | K19: =IFERROR(K18+I19,"") | L19: =IFERROR(L18+J19,"")
... A659: {=IFERROR(INDEX(②金銭出納簿!$C$4:$M$564,MATCH(LARGE((②金銭出納簿!$G$4:$G$564=$A$1)*1/ROW(②金銭出納簿!$C$4:$C$564),ROWS($A$18:$A670)),1/ROW(②金銭出納簿!$C$4:$C$564),0),COLUMNS($A$5:A$5)),"")} | B659: {=IFERROR(INDEX(②金銭出納簿!$C$4:$M$564,MATCH(LARGE((②金銭出納簿!$G$4:$G$564=$A$1)*1/ROW(②金銭出納簿!$C$4:$C$564),ROWS($A$18:$A670)),1/ROW(②金銭出納簿!$C$4:$C$564),0),COLUMNS($A$5:B$5)),"")} | C659: {=IFERROR(INDEX(②金銭出納簿!$C$4:$M$564,MATCH(LARGE((②金銭出納簿!$G$4:$G$564=$A$1)*1/ROW(②金銭出納簿!$C$4:$C$564),ROWS($A$18:$A670)),1/ROW(②金銭出納簿!$C$4:$C$564),0),COLUMNS($A$5:C$5)),"")} | D659: {=IFERROR(INDEX(②金銭出納簿!$C$4:$M$564,MATCH(LARGE((②金銭出納簿!$G$4:$G$564=$A$1)*1/ROW(②金銭出納簿!$C$4:$C$564),ROWS($A$18:$A670)),1/ROW(②金銭出納簿!$C$4:$C$564),0),COLUMNS($A$5:D$5)),"")} | E659: {=IFERROR(INDEX(②金銭出納簿!$C$4:$M$564,MATCH(LARGE((②金銭出納簿!$G$4:$G$564=$A$1)*1/ROW(②金銭出納簿!$C$4:$C$564),ROWS($A$18:$A670)),1/ROW(②金銭出納簿!$C$4:$C$564),0),COLUMNS($A$5:E$5)),"")} | F659: {=IFERROR(INDEX(②金銭出納簿!$C$4:$M$564,MATCH(LARGE((②金銭出納簿!$G$4:$G$564=$A$1)*1/ROW(②金銭出納簿!$C$4:$C$564),ROWS($A$18:$A670)),1/ROW(②金銭出納簿!$C$4:$C$564),0),COLUMNS($A$5:F$5)),"")} | G659: {=IFERROR(INDEX(②金銭出納簿!$C$4:$M$564,MATCH(LARGE((②金銭出納簿!$G$4:$G$564=$A$1)*1/ROW(②金銭出納簿!$C$4:$C$564),ROWS($A$18:$A670)),1/ROW(②金銭出納簿!$C$4:$C$564),0),COLUMNS($A$5:G$5)),"")} | H659: {=IFERROR(INDEX(②金銭出納簿!$C$4:$M$564,MATCH(LARGE((②金銭出納簿!$G$4:$G$564=$A$1)*1/ROW(②金銭出納簿!$C$4:$C$564),ROWS($A$18:$A670)),1/ROW(②金銭出納簿!$C$4:$C$564),0),COLUMNS($A$5:H$5)),"")} | ... J659: {=IFERROR(INDEX(②金銭出納簿!$C$4:$M$564,MATCH(LARGE((②金銭出納簿!$G$4:$G$564=$A$1)*1/ROW(②金銭出納簿!$C$4:$C$564),ROWS($A$18:$A670)),1/ROW(②金銭出納簿!$C$4:$C$564),0),COLUMNS($A$5:J$5)),"")} | K659: =IFERROR(K658+I659,"") | L659: =IFERROR(L658+J659,"")

Sheet ⑩実績報告書
A1: 様式第６号（第１１条関係）
A3: 補 助 事 業 等 実 績 報 告 書
AT4: 色がついているセルが入力箇所です 入力すると白くなります
AB6: 令和 | AE6: =DBCS(①補助金申請!O1+1) -> １ | AG6: 年 | AI6: 3 | AK6: 月 | AM6: 31 | AO6: 日
B8: 三 田 市 長 あて
S9: （申請者） | U9: 住所又は所在地
U11: 〒 | Z11: ‐
U14: 団体名または名称
U18: 氏名又は代表者名
S22: （担当者） | U22: 氏名
U24: 電話番号
U26: Email
C29: 令和 | H29: 年 | K29: 月 | N29: 日付三高指令第 | X29: 号により交付決定を受けた補助事業 | AU29: ← 交付決定通知書で日付と番号を確認して 入力してください。 不明であれば、空白でも可。
B30: 等について、三田市補助金等交付規則第１１条の規定により、下記のとおりその
B31: 実績を報告します。
V33: 記
C35: １ 補助金等の名称 | Q35: 三田市単位老人クラブ活動事業補助金
C38: ２ 補助金等交付決定額 | X38: 円
C41: ３ 補助金等の交付済額 | X41: 円
C44: ４ 補助事業の実績内容 | Q44: 別紙実績報告書のとおり
C47: ５ 添付書類
D49: ① 収支決算書
D51: ② その他
A57: （市処理欄） | G57: 本人確認 | M57: □ 顔写真付公的証明書 | Y57: □ その他（ | AQ57: ）
G58: 確認担当者 | M58: 所属： | P58: 高齢者支援課 | AD58: 氏名：
A59: ≪実績報告書ＮＯ．１≫ | AQ59: ="[クラブ名："&①補助金申請!$J$3&"]" -> [クラブ名：]
F61: 令和 | I61: =DBCS(①補助金申請!O1) | K61: 年度 老人クラブ活動事業 実績報告書
B63: 事業実施期間： 令和 | N63: =DBCS(①補助金申請!O1) | Q63: 年 ４月 １日 ～ 令和 | AD63: =DBCS(①補助金申請!O1+1) -> １ | AG63: 年 ３月 ３１日
A64: 【補助対象事業（①社会奉仕活動事業、②教養講座開催事業、③健康増進事業）】
A66: 活動 種別 | E66: 活動内容 | AB66: おもな活動場所 | AM66: 活動回数
A67: ① 社 会 奉 仕 活 動 事 業
A73: ① 教 養 講 座 開 催 事 業
A79: ① 健 康 増 進 事 業
A85: ≪実績報告書ＮＯ．２≫ | AQ85: ="[クラブ名："&①補助金申請!$J$3&"]" -> [クラブ名：]
A86: 【補助対象事業（④ふれあい推進事業 ⑤健康体操活動事業）】
A87: 活動種別 | K87: 活動内容 | Z87: おもな活動場所 | AI87: 活動 回数 | AM87: 活動に参加した 延べ人数
A88: ④ふれあい推進事業 | B88: 共生型助け合い（※必須） | D88: (1)体験交流
D91: (2)相談対応等
D92: (3)見守り
D93: (4)友愛訪問
D94: (5)移動支援
D95: (6)買い物支援 | AV95: 活動実績
D96: (7)ゴミ出し | AV96: 活動に参加した会員の延べ人数を記載
D97: (8)家事支援
D98: (9)その他
B99: クラブ活動継続の推進(任意) | D99: 活動種別 | K99: 活動内容 | Z99: おもな活動場所 | AI99: 活動 回数 | AM99: 活動によって 加入した人数
D100: (1)広報
D101: (2)体験参加 | AW101: 活動実績
D102: (3)オンライン活動 | AW102: これらの活動により、新たに加入した会員の延べ人数を記載
D103: (4)熱中症対策備品
D104: (5)その他
A105: ⑤健康体操活動事業
A108: 【補助対象外の事業】
A109: 活動内容 | AB109: おもな活動場所 | AL109: 活動回数
A113: 【備考・特記事項（今年度特に取り組んだことや課題等）】
M116: 令和 | P116: =DBCS(①補助金申請!O1) | S116: 年度 収入支出決算書
AQ117: ="[クラブ名："&①補助金申請!$J$3&"]" -> [クラブ名：]
K118: 収入 | O118: =I133 -> 0 | AB118: 円
K119: 支出 | O119: =I141 -> 0 | AB119: 円
K120: 差額 | O120: =O118-O119 -> 0 | AB120: 円
A121: 収入
A122: 科 目 | I122: 収入済額(円) | Q122: 摘 要
A123: 1 | B123: 前年度繰越金 | I123: =①補助金申請!I156 -> 0 | Q123: =①補助金申請!Q156 -> 0 | AS123: ←前年度の決算書と同年度の予算書に記入した繰越金と同額にしてください。
A124: 2 | B124: 会費 | AS124: ←会費の内訳もご記入ください。
A125: 3 | B125: 補助金 | I125: =SUM(AH126:AO129) -> 0 | Q125: 市補助金
Q126: ①社会奉仕②教養講座 ③健康増進 | AF126: 計 | AH126: =①補助金申請!AH159 -> 0 | AP126: 円
Q127: ④ふれあい推進 | AF127: 計 | AH127: =①補助金申請!AH160 -> 0 | AP127: 円
Q128: ⑤健康体操 | AF128: 計 | AH128: =①補助金申請!AH161 -> 0 | AP128: 円
Q129: その他補助金 | AF129: 計 | AH129: =①補助金申請!AH162 -> 0 | AP129: 円
A130: 4 | B130: 寄付金
A131: 5 | B131: 雑収入
A133: 合計 | I133: =SUM(I123:P131) -> 0
A135: 支出
A136: 事業名 | I136: 支出済額(円) | Q136: 摘 要
A137: 1 | B137: ①社会奉仕活動事業 ②教養講座開催事業 ③健康増進事業
A138: 2 | B138: ④ふれあい推進事業
A139: 3 | B139: ⑤健康体操活動事業
A140: 4 | B140: その他事業
A141: 合計 | I141: =SUM(I137:P140) -> 0
A143: ※ 収入合計額＝支出合計額となるようにしてください。

Sheet 申請書（印刷用_数式なし）
K1: 令和 | U1: 年度 | AA1: 役員名簿
A3: クラブ名
A4: 役職名 | J4: 氏名 | S4: 任期 | AB4: 住所・連絡先
A5: 会長 | S5: 自 | AB5: 三田市
S6: 至 | AB6: TEL
A7: 副会長 | S7: 自 | AB7: 三田市
S8: 至 | AB8: TEL
A9: 会計 | S9: 自 | AB9: 三田市
S10: 至 | AB10: TEL
A14: 【年齢別会員数 内訳】
B15: 年齢層 | J15: 男 | N15: 女 | R15: 計 | X15: 年齢層 | AF15: 男 | AJ15: 女 | AN15: 計
A16: 1 | B16: 59歳以下 | L16: 名 | P16: 名 | T16: 名 | V16: 5 | X16: 75歳～79歳 | AH16: 名 | AL16: 名 | AP16: 名
A17: 2 | B17: 60歳～64歳 | L17: 名 | P17: 名 | T17: 名 | V17: 6 | X17: 80歳～84歳 | AH17: 名 | AL17: 名 | AP17: 名
A18: 3 | B18: 65歳～69歳 | L18: 名 | P18: 名 | T18: 名 | V18: 7 | X18: 85歳以上 | AH18: 名 | AL18: 名 | AP18: 名
A19: 4 | B19: 70歳～74歳 | L19: 名 | P19: 名 | T19: 名 | V19: 合計 | AH19: 名 | AL19: 名 | AP19: 名
A21: ※会員数等は、老人クラブ連合会へ提出の会員名簿と必ず一致していること。（4/1現在）
A25: 【口座情報】
A26: 口座名義人 | G26: カナ
G27: 名義
A29: 金融機関名 | M29: □銀行□信用組合 | AB29: □本店□出張所 | AI29: 預金種目 | AM29: □普通
M30: □信用金庫□農協 | AB30: □支店 □支所 | AM30: □当座
A31: 金融機関 コード | O31: 店番号 | X31: 口座番号 (右詰め)
A36: 様式第１号（第４条関係）
A38: 補 助 金 等 交 付 申 請 書
AB41: 令和 | AE41: =DBCS(O1) | AG41: 年 | AI41: 4 | AK41: 月 | AM41: 1 | AO41: 日
B43: 三 田 市 長 あて
S44: （申請者） | U44: 住所又は所在地
U46: 〒 | Z46: ‐
V47: 三田市
U49: 団体名または名称
U53: 氏名又は代表者名
S57: （担当者） | U57: 氏名
U59: 電話番号
U61: Email
B64: 下記のとおり、補助金等の交付を受けたいので、三田市補助金等交付規則第４条の規定により申請します。
V67: 記
C69: １ 補助金等の名称 | S69: 三田市単位老人クラブ活動事業補助金
C72: ２ 補助事業等の目的 | S72: 単位老人クラブの円滑な事業遂行のため
C75: ３ 補助事業等の内容 | S75: ①社会奉仕活動事業 ②教養講座開催事業 ③健康増進事業
S76: ④ふれあい推進事業 | AC76: （ | AO76: ） | AU76: ←「3 補助事業等の内容」の④、⑤の申請は任意です。 「申請する」・「申請しない」のどちらかを記入してください。
S77: ⑤健康体操活動事業 | AC77: （ | AO77: ）
C79: ４ 補助金等の交付申請額 | S79: 金 | AA79: 円也
C82: ５ 添付書類
D84: ① 事業計画書
D86: ② 収支予算書
D88: ③ その他（役員名簿）
A91: （市処理欄） | G91: 本人確認 | M91: □ 顔写真付公的証明書 | Y91: □ その他（ | AQ91: ）
G92: 確認担当者 | M92: 所属： | P92: 高齢者支援課 | AD92: 氏名：
A93: ≪事業計画書ＮＯ．１≫ | AQ93: [クラブ名： ]
I95: 令和 | L95: =DBCS(O1) | O95: 年度 老人クラブ活動事業 事業計画書
C97: 事業実施期間： 令和 | O97: =DBCS(O1) | R97: 年 ４月 １日 ～ 令和 | AH97: 年 ３月 ３１日
A98: 【補助対象事業（①社会奉仕活動事業、②教養講座開催事業、③健康増進事業）】
A100: 活動 種別 | E100: 活動内容 | AB100: おもな活動場所 | AM100: 回数
A101: ① 社 会 奉 仕 活 動 事 業
A107: ① 教 養 講 座 開 催 事 業
A113: ① 健 康 増 進 事 業
A119: ≪事業計画書ＮＯ．２≫ | AQ119: [クラブ名： ]
A121: 【補助対象事業（④ふれあい推進事業 ⑤健康体操活動事業）】
A123: 活動種別 | K123: 活動内容 | AB123: おもな活動場所 | AL123: 活動回数
A124: ④ふれあい推進事業 | B124: 共生型助け合い（※必須） | D124: (1)体験交流
D127: (2)相談対応等
D128: (3)見守り
D129: (4)友愛訪問
D130: (5)移動支援
D131: (6)買い物支援
D132: (7)ゴミ出し
D133: (8)家事支援
D134: (9)その他
B135: クラブ活動継続の推進(任意) | D135: (1)広報
D136: (2)体験参加
D137: (3)オンライン活動
D138: (4)熱中症対策備品
D139: (5)その他
A140: ⑤健康体操活動事業
A143: 【補助対象外の事業】
A145: 活動内容 | AB145: おもな活動場所 | AL145: 活動回数
A149: 【備考・特記事項（今年度の取り組み予定等）】
M152: 令和 | S152: 年度 収入支出予算書
A153: 収入 | AQ153: [クラブ名： ]
A155: 科 目 | I155: 予算額（円） | Q155: 摘 要
A156: 1 | B156: 前年度繰越金
A157: 2 | B157: 会費
A158: 3 | B158: 補助金 | Q158: 市補助金
Q159: ①社会奉仕②教養講座 ③健康増進 | AF159: 計 | AP159: 円
Q160: ④ふれあい推進 | AF160: 計 | AP160: 円
Q161: ⑤健康体操 | AF161: 計 | AP161: 円
Q162: その他補助金 | AF162: 計 | AP162: 円
A163: 4 | B163: 寄付金
A164: 5 | B164: 雑収入
A166: 合計
A168: 支出
A170: 事業名 | I170: 予算額（円） | Q170: 摘 要
A171: 1 | B171: ①社会奉仕活動事業 ②教養講座開催事業 ③健康増進事業
A172: 2 | B172: ④ふれあい推進事業
A173: 3 | B173: ⑤健康体操活動事業
A174: 4 | B174: その他事業
A175: 合計
A177: ※ 収入合計額＝支出合計額となるようにしてください。

Sheet 報告書 (印刷用_数式なし)
A1: 様式第６号（第１１条関係）
A3: 補 助 事 業 等 実 績 報 告 書
AB6: 令和 | AG6: 年 | AK6: 月 | AO6: 日
B8: 三 田 市 長 あて
S9: （申請者） | U9: 住所又は所在地
U11: 〒 | Z11: ‐
U14: 団体名または名称
U18: 氏名又は代表者名
S22: （担当者） | U22: 氏名
U24: 電話番号
U26: Email
C29: 令和 | H29: 年 | K29: 月 | N29: 日付三高指令第 | X29: 号により交付決定を受けた補助事業 | AU29: ← 交付決定通知書で日付と番号を確認して 入力してください。 不明であれば、空白でも可。
B30: 等について、三田市補助金等交付規則第１１条の規定により、下記のとおりその
B31: 実績を報告します。
V33: 記
C35: １ 補助金等の名称 | Q35: 三田市単位老人クラブ活動事業補助金
C38: ２ 補助金等交付決定額 | X38: 円
C41: ３ 補助金等の交付済額 | X41: 円
C44: ４ 補助事業の実績内容 | Q44: 別紙実績報告書のとおり
C47: ５ 添付書類
D49: ① 収支決算書
D51: ② その他
A57: （市処理欄） | G57: 本人確認 | M57: □ 顔写真付公的証明書 | Y57: □ その他（ | AQ57: ）
G58: 確認担当者 | M58: 所属： | P58: 高齢者支援課 | AD58: 氏名：
A59: ≪実績報告書ＮＯ．１≫ | AQ59: [クラブ名： ]
F61: 令和 | I61: =DBCS(①補助金申請!O1) | K61: 年度 老人クラブ活動事業 実績報告書
B63: 事業実施期間： 令和 | N63: =DBCS(①補助金申請!O1) | Q63: 年 ４月 １日 ～ 令和 | AG63: 年 ３月 ３１日
A64: 【補助対象事業（①社会奉仕活動事業、②教養講座開催事業、③健康増進事業）】
A66: 活動 種別 | E66: 活動内容 | AB66: おもな活動場所 | AM66: 活動回数
A67: ① 社 会 奉 仕 活 動 事 業
A73: ① 教 養 講 座 開 催 事 業
A79: ① 健 康 増 進 事 業
A85: ≪実績報告書ＮＯ．２≫ | AQ85: [クラブ名： ]
A86: 【補助対象事業（④ふれあい推進事業 ⑤健康体操活動事業）】
A87: 活動種別 | K87: 活動内容 | Z87: おもな活動場所 | AI87: 活動 回数 | AM87: 活動に参加した 延べ人数
A88: ④ふれあい推進事業 | B88: 共生型助け合い（※必須） | D88: (1)体験交流
D91: (2)相談対応等
D92: (3)見守り
D93: (4)友愛訪問
D94: (5)移動支援
D95: (6)買い物支援 | AV95: 活動実績
D96: (7)ゴミ出し | AV96: 活動に参加した会員の延べ人数を記載
D97: (8)家事支援
D98: (9)その他
B99: クラブ活動継続の推進(任意) | D99: 活動種別 | K99: 活動内容 | Z99: おもな活動場所 | AI99: 活動 回数 | AM99: 活動によって 加入した人数
D100: (1)広報
D101: (2)体験参加 | AW101: 活動実績
D102: (3)オンライン活動 | AW102: これらの活動により、新たに加入した会員の延べ人数を記載
D103: (4)熱中症対策備品
D104: (5)その他
A105: ⑤健康体操活動事業
A108: 【補助対象外の事業】
A109: 活動内容 | AB109: おもな活動場所 | AL109: 活動回数
A113: 【備考・特記事項（今年度特に取り組んだことや課題等）】
M116: 令和 | P116: =DBCS(①補助金申請!O1) | S116: 年度 収入支出決算書
AQ117: [クラブ名： ]
K118: 収入 | AB118: 円
K119: 支出 | AB119: 円
K120: 差額 | AB120: 円
A121: 収入
A122: 科 目 | I122: 収入済額(円) | Q122: 摘 要
A123: 1 | B123: 前年度繰越金 | AS123: ←前年度の決算書と同年度の予算書に記入した繰越金と同額にしてください。
A124: 2 | B124: 会費 | AS124: ←会費の内訳もご記入ください。
A125: 3 | B125: 補助金 | Q125: 市補助金
Q126: ①社会奉仕②教養講座 ③健康増進 | AF126: 計 | AP126: 円
Q127: ④ふれあい推進 | AF127: 計 | AP127: 円
Q128: ⑤健康体操 | AF128: 計 | AP128: 円
Q129: その他補助金 | AF129: 計 | AP129: 円
A130: 4 | B130: 寄付金
A131: 5 | B131: 雑収入
A133: 合計
A135: 支出
A136: 事業名 | I136: 支出済額(円) | Q136: 摘 要
A137: 1 | B137: ①社会奉仕活動事業 ②教養講座開催事業 ③健康増進事業
A138: 2 | B138: ④ふれあい推進事業
A139: 3 | B139: ⑤健康体操活動事業
A140: 4 | B140: その他事業
A141: 合計
A143: ※ 収入合計額＝支出合計額となるようにしてください。
