Workbook

Sheet ①補助金申請
K1: 令和 | U1: 年度 | AA1: 役員名簿
AU2: 色がついているセルが入力箇所です 入力すると白くなります
A3: クラブ名
A4: 役職名 | J4: 氏名 | S4: 任期 | AB4: 住所・連絡先 | AU4: 数式等が入っていない申請書・報告書は末尾にあります。
A5: 会長 | S5: 自 | AB5: 三田市
S6: 至 | AB6: TEL | AU6: ←連絡のつく電話番号を記入ください
A7: 副会長 | S7: 自 | AB7: 三田市
S8: 至 | AB8: TEL
A9: 会計 | S9: 自 | AB9: 三田市
S10: 至 | AB10: TEL
A14: 【年齢別会員数 内訳】
B15: 年齢層 | J15: 男 | N15: 女 | R15: 計 | X15: 年齢層 | AF15: 男 | AJ15: 女 | AN15: 計
A16: 1 | B16: 59歳以下 | L16: 名 | P16: 名 | R16: =J16+N16 -> 0 | T16: 名 | V16: 5 | X16: 75歳～79歳 | AH16: 名 | AL16: 名 | AN16: =AF16+AJ16 -> 0 | AP16: 名
A17: 2 | B17: 60歳～64歳 | L17: 名 | P17: 名 | R17: =J17+N17 -> 0 | T17: 名 | V17: 6 | X17: 80歳～84歳 | AH17: 名 | AL17: 名 | AN17: =AF17+AJ17 -> 0 | AP17: 名
A18: 3 | B18: 65歳～69歳 | L18: 名 | P18: 名 | R18: =J18+N18 -> 0 | T18: 名 | V18: 7 | X18: 85歳以上 | AH18: 名 | AL18: 名 | AN18: =AF18+AJ18 -> 0 | AP18: 名
A19: 4 | B19: 70歳～74歳 | L19: 名 | P19: 名 | R19: =J19+N19 -> 0 | T19: 名 | V19: 合計 | AF19: =SUM(J16:K19,AF16:AG18) -> 0 | AH19: 名 | AJ19: =SUM(N16:O19,AJ16:AK18) -> 0 | AL19: 名 | AN19: =AF19+AJ19 -> 0 | AP19: 名
A21: ※会員数等は、老人クラブ連合会へ提出の会員名簿と必ず一致していること。（4/1現在）
A25: 【口座情報】
A26: 口座名義人 | G26: カナ
G27: 名義
A29: 金融機関名 | M29: □銀行□信用組合 | AB29: □本店□出張所 | AI29: 預金種目 | AM29: □普通 | AT29: ←当てはまるものに☑
M30: □信用金庫□農協 | AB30: □支店 □支所 | AM30: □当座
A31: 金融機関 コード | O31: 店番号 | X31: 口座番号 (右詰め)
A36: 様式第１号（第４条関係）
A38: 補 助 金 等 交 付 申 請 書
AB41: 令和 | AE41: =DBCS(O1) | AG41: 年 | AI41: 4 | AK41: 月 | AM41: 1 | AO41: 日
B43: 三 田 市 長 あて
S44: （申請者） | U44: 住所又は所在地
U46: 〒 | Z46: ‐
V47: 三田市 | Z47: =AF5 -> 0
U49: 団体名または名称
V51: =J3 -> 0
U53: 氏名又は代表者名
V55: =J5 -> 0
S57: （担当者） | U57: 氏名
U59: 電話番号 | AU59: ←連絡のつく電話番号を記入ください
U61: Email
B64: 下記のとおり、補助金等の交付を受けたいので、三田市補助金等交付規則第４条の規定により申請します。
V67: 記
C69: １ 補助金等の名称 | S69: 三田市単位老人クラブ活動事業補助金
...

Sheet ②金銭出納簿
A1: №と同番号が入ります | C1: 令和 | E1: =①補助金申請!O1 -> 0 | G1: 年度 | H1: 金銭出納簿（科目別）
C2: 月 | D2: 日 | E2: № | G2: 区分 | H2: 摘要 | I2: 相手先 | J2: 収入金額 | K2: 支出 | M2: 残額
A3: 入 | B3: 出 | E3: 入 | F3: 出 | K3: 金額 | L3: 補助対象
A4: =E4 -> 1 | B4: =F4 -> 0 | C4: 4 | D4: 1 | E4: 1 | G4: 0 収入 | H4: 前年度繰越金 | I4: 前年度 | M4: =J4 -> 0 | P4: 0 収入
A5: =E5 -> 0 | B5: =F5 -> 0 | M5: =M4+J5-K5 -> 0 | P5: 1 奉仕、教養、健康
A6: =E6 -> 0 | B6: =F6 -> 0 | M6: =M5+J6-K6 -> 0 | P6: 2 ふれあい事業
A7: =E7 -> 0 | B7: =F7 -> 0 | M7: =M6+J7-K7 -> 0 | P7: 3 健康体操
A8: =E8 -> 0 | B8: =F8 -> 0 | M8: =M7+J8-K8 -> 0 | P8: 4 その他事業
A9: =E9 -> 0 | B9: =F9 -> 0 | M9: =M8+J9-K9 -> 0
A10: =E10 -> 0 | B10: =F10 -> 0 | M10: =M9+J10-K10 -> 0
A11: =E11 -> 0 | B11: =F11 -> 0 | M11: =M10+J11-K11 -> 0
A12: =E12 -> 0 | B12: =F12 -> 0 | M12: =M11+J12-K12 -> 0
A13: =E13 -> 0 | B13: =F13 -> 0 | M13: =M12+J13-K13 -> 0
A14: =E14 -> 0 | B14: =F14 -> 0 | M14: =M13+J14-K14 -> 0
A15: =E15 -> 0 | B15: =F15 -> 0 | M15: =M14+J15-K15 -> 0
A16: =E16 -> 0 | B16: =F16 -> 0 | M16: =M15+J16-K16 -> 0
A17: =E17 -> 0 | B17: =F17 -> 0 | M17: =M16+J17-K17 -> 0
A18: =E18 -> 0 | B18: =F18 -> 0 | M18: =M17+J18-K18 -> 0
A19: =E19 -> 0 | B19: =F19 -> 0 | M19: =M18+J19-K19 -> 0
A20: =E20 -> 0 | B20: =F20 -> 0 | M20: =M19+J20-K20 -> 0
... A559: =E559 -> 0 | B559: =F559 -> 0 | M559: =M558+J559-K559 -> 0
H560: 合計 | J560: =SUM(J4:J559) -> 0 | K560: =SUM(K4:K559) -> 0 | L560: =SUM(L4:L559) -> 0 | M560: =J560-K560 -> 0

Sheet ③支出調書
B2: 支出番号 | C2: 1 | D2: ← | E2: 支出番号を入力すると、金銭出納簿の内容が表示されます。
B7: 監査印
B8: 支出番号 | H8: 第 | I8: =VLOOKUP($C$2,②金銭出納簿!$B$4:$L$600,5,FALSE) -> #N/A | L8: 号 | N8: 支出科目
B9: 支出年月日 | F9: 令和 | H9: =IF(J9<=3,②金銭出納簿!$E$1+1,②金銭出納簿!$E$1) -> #N/A | I9: 年 | J9: =VLOOKUP($C$2,②金銭出納簿!$B$4:$L$600,2,FALSE) -> #N/A | K9: 月 | L9: =VLOOKUP($C$2,②金銭出納簿!$B$4:$L$600,3,FALSE) -> #N/A | M9: 日 | N9: =VLOOKUP($C$2,②金銭出納簿!$B$4:$L$600,6,FALSE) -> #N/A
B10: 老人クラブ会長印 | N10: 支出先
C11: 金 | D11: =VLOOKUP($C$2,②金銭出納簿!$B$4:$L$600,10,FALSE) -> #N/A | L11: 円也 | N11: =VLOOKUP($C$2,②金銭出納簿!$B$4:$L$600,8,FALSE) -> #N/A
B12: うち補助対象経費 | G12: 金 | H12: =VLOOKUP($C$2,②金銭出納簿!$B$4:$L$600,11,FALSE) -> #N/A | M12: 円
B13: 支出内訳 | E13: =VLOOKUP($C$2,②金銭出納簿!$B$4:$L$600,7,FALSE) -> #N/A
C16: 上記のとおり支出しました。
D18: =F9&H9&I9&J9&K9&L9&M9 -> #N/A
D20: 老人クラブ会長 様 | N20: 老人クラブ会計
P21: 氏名 | W21: 印
C23: ※領収証等を裏面に添付（関係書類添付 | M23: 葉）

Sheet ④収入調書
B2: 収入番号 | C2: 1 | E2: 収入科目を入れるには、収入のワークシートの収支決算書作成の列を選択してください。
B7: 監査印
B8: 収入番号 | H8: 第 | I8: =VLOOKUP(C2,②金銭出納簿!$A$4:$L$600,5,FALSE) -> 1 | L8: 号 | N8: 収入科目
B9: 収入年月日 | F9: 令和 | H9: =IF($J$9<=3,②金銭出納簿!$E$1+1,②金銭出納簿!$E$1) -> 0 | I9: 年 | J9: =VLOOKUP(C2,②金銭出納簿!$A$4:$L$600,3,FALSE) -> 4 | K9: 月 | L9: =VLOOKUP(C2,②金銭出納簿!$A$4:$L$600,4,FALSE) -> 1 | M9: 日 | N9: =VLOOKUP($C$2,⑤収入!$C$7:$M$600,11,TRUE) -> 0 | Y9: ←収入科目は「⑤収入」のシート で記入したものが反映されます
B10: 老人クラブ会長印 | N10: 収入先
C11: 金 | D11: =VLOOKUP($C$2,②金銭出納簿!$A$4:$L$600,10,FALSE) -> 0 | L11: 円也 | N11: =IF(Z11=0,"",Z11) -> 前年度 | Z11: =VLOOKUP($C$2,②金銭出納簿!$A$4:$L$600,9,FALSE) -> 前年度
B13: 内 訳 | E13: =VLOOKUP($C$2,②金銭出納簿!$A$4:$L$600,8,FALSE) -> 前年度繰越金
C16: 上記のとおり収入しました。
D18: =F9&H9&I9&J9&K9&L9&M9 -> 令和0年4月1日
D20: 老人クラブ会長 様 | N20: 老人クラブ会計
P21: 氏名 | W21: 印
C23: ※関係書類等を裏面に添付（ | K23: 葉）

Sheet ⑤収入
A1: 0 収入
H3: =SUM(H7:H53) -> 0 | I3: =SUM(I7:I53) -> 0 | J3: =SUM(J7:J53) -> 0
A4: 【収入】 | L4: 金銭出納簿の「区分0 収入」のものが自動で入力されます
A5: 月 | B5: 日 | C5: № | E5: 区分 | F5: 摘要 | G5: 相手先 | H5: 収入金額 | I5: 支出 | K5: 累計 | M5: ↓収入調書に反映 されます。収入科目 を選択してください 用に
C6: 入 | D6: 出 | I6: 金額 | J6: 補助対象 | Q6: 収入区分
A7: {=IFERROR(INDEX(②金銭出納簿!$C$4:$M$564,MATCH(LARGE((②金銭出納簿!$G$4:$G$564=$A$1)*1/ROW(②金銭出納簿!$C$4:$C$564),ROWS($A$18:$A18)),1/ROW(②金銭出納簿!$C$4:$C$564),0),COLUMNS($A$5:A$5)),"")} -> 4 | B7: {=IFERROR(INDEX(②金銭出納簿!$C$4:$M$564,MATCH(LARGE((②金銭出納簿!$G$4:$G$564=$A$1)*1/ROW(②金銭出納簿!$C$4:$C$564),ROWS($A$18:$A18)),1/ROW(②金銭出納簿!$C$4:$C$564),0),COLUMNS($A$5:B$5)),"")} -> 1 | C7: {=IFERROR(INDEX(②金銭出納簿!$C$4:$M$564,MATCH(LARGE((②金銭出納簿!$G$4:$G$564=$A$1)*1/ROW(②金銭出納簿!$C$4:$C$564),ROWS($A$18:$A18)),1/ROW(②金銭出納簿!$C$4:$C$564),0),COLUMNS($A$5:C$5)),"")} -> 1 | D7: {=IFERROR(INDEX(②金銭出納簿!$C$4:$M$564,MATCH(LARGE((②金銭出納簿!$G$4:$G$564=$A$1)*1/ROW(②金銭出納簿!$C$4:$C$564),ROWS($A$18:$A18)),1/ROW(②金銭出納簿!$C$4:$C$564),0),COLUMNS($A$5:D$5)),"")} -> 0 | E7: {=IFERROR(INDEX(②金銭出納簿!$C$4:$M$564,MATCH(LARGE((②金銭出納簿!$G$4:$G$564=$A$1)*1/ROW(②金銭出納簿!$C$4:$C$564),ROWS($A$18:$A18)),1/ROW(②金銭出納簿!$C$4:$C$564),0),COLUMNS($A$5:E$5)),"")} -> 0 収入 | F7: {=IFERROR(INDEX(②金銭出納簿!$C$4:$M$564,MATCH(LARGE((②金銭出納簿!$G$4:$G$564=$A$1)*1/ROW(②金銭出納簿!$C$4:$C$564),ROWS($A$18:$A18)),1/ROW(②金銭出納簿!$C$4:$C$564),0),COLUMNS($A$5:F$5)),"")} -> 前年度繰越金 | G7: {=IFERROR(INDEX(②金銭出納簿!$C$4:$M$564,MATCH(LARGE((②金銭出納簿!$G$4:$G$564=$A$1)*1/ROW(②金銭出納簿!$C$4:$C$564),ROWS($A$18:$A18)),1/ROW(②金銭出納簿!$C$4:$C$564),0),COLUMNS($A$5:G$5)),"")} -> 前年度 | H7: {=IFERROR(INDEX(②金銭出納簿!$C$4:$M$564,MATCH(LARGE((②金銭出納簿!$G$4:$G$564=$A$1)*1/ROW(②金銭出納簿!$C$4:$C$564),ROWS($A$18:$A18)),1/ROW(②金銭出納簿!$C$4:$C$564),0),COLUMNS($A$5:H$5)),"")} -> 0 | ... J7: {=IFERROR(INDEX(②金銭出納簿!$C$4:$M$564,MATCH(LARGE((②金銭出納簿!$G$4:$G$564=$A$1)*1/ROW(②金銭出納簿!$C$4:$C$564),ROWS($A$18:$A18)),1/ROW(②金銭出納簿!$C$4:$C$564),0),COLUMNS($A$5:J$5)),"")} -> 0 | K7: =H7 -> 0 | N7: =IF(ISBLANK(M7),"←選択してください","") -> ←選択してください | Q7: 01 会費 | R7: =SUMIF($M$7:$M$53,Q7,$H$7:$H$53) -> 0
A8: {=IFERROR(INDEX(②金銭出納簿!$C$4:$M$564,MATCH(LARGE((②金銭出納簿!$G$4:$G$564=$A$1)*1/ROW(②金銭出納簿!$C$4:$C$564),ROWS($A$18:$A19)),1/ROW(②金銭出納簿!$C$4:$C$564),0),COLUMNS($A$5:A$5)),"")} | B8: {=IFERROR(INDEX(②金銭出納簿!$C$4:$M$564,MATCH(LARGE((②金銭出納簿!$G$4:$G$564=$A$1)*1/ROW(②金銭出納簿!$C$4:$C$564),ROWS($A$18:$A19)),1/ROW(②金銭出納簿!$C$4:$C$564),0),COLUMNS($A$5:B$5)),"")} | C8: {=IFERROR(INDEX(②金銭出納簿!$C$4:$M$564,MATCH(LARGE((②金銭出納簿!$G$4:$G$564=$A$1)*1/ROW(②金銭出納簿!$C$4:$C$564),ROWS($A$18:$A19)),1/ROW(②金銭出納簿!$C$4:$C$564),0),COLUMNS($A$5:C$5)),"")} | D8: {=IFERROR(INDEX(②金銭出納簿!$C$4:$M$564,MATCH(LARGE((②金銭出納簿!$G$4:$G$564=$A$1)*1/ROW(②金銭出納簿!$C$4:$C$564),ROWS($A$18:$A19)),1/ROW(②金銭出納簿!$C$4:$C$564),0),COLUMNS($A$5:D$5)),"")} | E8: {=IFERROR(INDEX(②金銭出納簿!$C$4:$M$564,MATCH(LARGE((②金銭出納簿!$G$4:$G$564=$A$1)*1/ROW(②金銭出納簿!$C$4:$C$564),ROWS($A$18:$A19)),1/ROW(②金銭出納簿!$C$4:$C$564),0),COLUMNS($A$5:E$5)),"")} | F8: {=IFERROR(INDEX(②金銭出納簿!$C$4:$M$564,MATCH(LARGE((②金銭出納簿!$G$4:$G$564=$A$1)*1/ROW(②金銭出納簿!$C$4:$C$564),ROWS($A$18:$A19)),1/ROW(②金銭出納簿!$C$4:$C$564),0),COLUMNS($A$5:F$5)),"")} | G8: {=IFERROR(INDEX(②金銭出納簿!$C$4:$M$564,MATCH(LARGE((②金銭出納簿!$G$4:$G$564=$A$1)*1/ROW(②金銭出納簿!$C$4:$C$564),ROWS($A$18:$A19)),1/ROW(②金銭出納簿!$C$4:$C$564),0),COLUMNS($A$5:G$5)),"")} | H8: {=IFERROR(INDEX(②金銭出納簿!$C$4:$M$564,MATCH(LARGE((②金銭出納簿!$G$4:$G$564=$A$1)*1/ROW(②金銭出納簿!$C$4:$C$564),ROWS($A$18:$A19)),1/ROW(②金銭出納簿!$C$4:$C$564),0),COLUMNS($A$5:H$5)),"")} | ... J8: {=IFERROR(INDEX(②金銭出納簿!$C$4:$M$564,MATCH(LARGE((②金銭出納簿!$G$4:$G$564=$A$1)*1/ROW(②金銭出納簿!$C$4:$C$564),ROWS($A$18:$A19)),1/ROW(②金銭出納簿!$C$4:$C$564),0),COLUMNS($A$5:J$5)),"")} | K8: =IFERROR(K7+H8,"") | N8: =IF(ISBLANK(M8),"←選択してください","") -> ←選択してください | Q8: 02 市補助金 | R8: =SUMIF($M$7:$M$53,Q8,$H$7:$H$53) -> 0
A9: {=IFERROR(INDEX(②金銭出納簿!$C$4:$M$564,MATCH(LARGE((②金銭出納簿!$G$4:$G$564=$A$1)*1/ROW(②金銭出納簿!$C$4:$C$564),ROWS($A$18:$A20)),1/ROW(②金銭出納簿!$C$4:$C$564),0),COLUMNS($A$5:A$5)),"")} | B9: {=IFERROR(INDEX(②金銭出納簿!$C$4:$M$564,MATCH(LARGE((②金銭出納簿!$G$4:$G$564=$A$1)*1/ROW(②金銭出納簿!$C$4:$C$564),ROWS($A$18:$A20)),1/ROW(②金銭出納簿!$C$4:$C$564),0),COLUMNS($A$5:B$5)),"")} | C9: {=IFERROR(INDEX(②金銭出納簿!$C$4:$M$564,MATCH(LARGE((②金銭出納簿!$G$4:$G$564=$A$1)*1/ROW(②金銭出納簿!$C$4:$C$564),ROWS($A$18:$A20)),1/ROW(②金銭出納簿!$C$4:$C$564),0),COLUMNS($A$5:C$5)),"")} | D9: {=IFERROR(INDEX(②金銭出納簿!$C$4:$M$564,MATCH(LARGE((②金銭出納簿!$G$4:$G$564=$A$1)*1/ROW(②金銭出納簿!$C$4:$C$564),ROWS($A$18:$A20)),1/ROW(②金銭出納簿!$C$4:$C$564),0),COLUMNS($A$5:D$5)),"")} | E9: {=IFERROR(INDEX(②金銭出納簿!$C$4:$M$564,MATCH(LARGE((②金銭出納簿!$G$4:$G$564=$A$1)*1/ROW(②金銭出納簿!$C$4:$C$564),ROWS($A$18:$A20)),1/ROW(②金銭出納簿!$C$4:$C$564),0),COLUMNS($A$5:E$5)),"")} | F9: {=IFERROR(INDEX(②金銭出納簿!$C$4:$M$564,MATCH(LARGE((②金銭出納簿!$G$4:$G$564=$A$1)*1/ROW(②金銭出納簿!$C$4:$C$564),ROWS($A$18:$A20)),1/ROW(②金銭出納簿!$C$4:$C$564),0),COLUMNS($A$5:F$5)),"")} | G9: {=IFERROR(INDEX(②金銭出納簿!$C$4:$M$564,MATCH(LARGE((②金銭出納簿!$G$4:$G$564=$A$1)*1/ROW(②金銭出納簿!$C$4:$C$564),ROWS($A$18:$A20)),1/ROW(②金銭出納簿!$C$4:$C$564),0),COLUMNS($A$5:G$5)),"")} | H9: {=IFERROR(INDEX(②金銭出納簿!$C$4:$M$564,MATCH(LARGE((②金銭出納簿!$G$4:$G$564=$A$1)*1/ROW(②金銭出納簿!$C$4:$C$564),ROWS($A$18:$A20)),1/ROW(②金銭出納簿!$C$4:$C$564),0),COLUMNS($A$5:H$5)),"")} | ... J9: {=IFERROR(INDEX(②金銭出納簿!$C$4:$M$564,MATCH(LARGE((②金銭出納簿!$G$4:$G$564=$A$1)*1/ROW(②金銭出納簿!$C$4:$C$564),ROWS($A$18:$A20)),1/ROW(②金銭出納簿!$C$4:$C$564),0),COLUMNS($A$5:J$5)),"")} | K9: =IFERROR(K8+H9,"") | N9: =IF(ISBLANK(M9),"←選択してください","") -> ←選択してください | Q9: 03 その他補助金 | R9: =SUMIF($M$7:$M$53,Q9,$H$7:$H$53) -> 0
A10: {=IFERROR(INDEX(②金銭出納簿!$C$4:$M$564,MATCH(LARGE((②金銭出納簿!$G$4:$G$564=$A$1)*1/ROW(②金銭出納簿!$C$4:$C$564),ROWS($A$18:$A21)),1/ROW(②金銭出納簿!$C$4:$C$564),0),COLUMNS($A$5:A$5)),"")} | B10: {=IFERROR(INDEX(②金銭出納簿!$C$4:$M$564,MATCH(LARGE((②金銭出納簿!$G$4:$G$564=$A$1)*1/ROW(②金銭出納簿!$C$4:$C$564),ROWS($A$18:$A21)),1/ROW(②金銭出納簿!$C$4:$C$564),0),COLUMNS($A$5:B$5)),"")} | C10: {=IFERROR(INDEX(②金銭出納簿!$C$4:$M$564,MATCH(LARGE((②金銭出納簿!$G$4:$G$564=$A$1)*1/ROW(②金銭出納簿!$C$4:$C$564),ROWS($A$18:$A21)),1/ROW(②金銭出納簿!$C$4:$C$564),0),COLUMNS($A$5:C$5)),"")} | D10: {=IFERROR(INDEX(②金銭出納簿!$C$4:$M$564,MATCH(LARGE((②金銭出納簿!$G$4:$G$564=$A$1)*1/ROW(②金銭出納簿!$C$4:$C$564),ROWS($A$18:$A21)),1/ROW(②金銭出納簿!$C$4:$C$564),0),COLUMNS($A$5:D$5)),"")} | E10: {=IFERROR(INDEX(②金銭出納簿!$C$4:$M$564,MATCH(LARGE((②金銭出納簿!$G$4:$G$564=$A$1)*1/ROW(②金銭出納簿!$C$4:$C$564),ROWS($A$18:$A21)),1/ROW(②金銭出納簿!$C$4:$C$564),0),COLUMNS($A$5:E$5)),"")} | F10: {=IFERROR(INDEX(②金銭出納簿!$C$4:$M$564,MATCH(LARGE((②金銭出納簿!$G$4:$G$564=$A$1)*1/ROW(②金銭出納簿!$C$4:$C$564),ROWS($A$18:$A21)),1/ROW(②金銭出納簿!$C$4:$C$564),0),COLUMNS($A$5:F$5)),"")} | G10: {=IFERROR(INDEX(②金銭出納簿!$C$4:$M$564,MATCH(LARGE((②金銭出納簿!$G$4:$G$564=$A$1)*1/ROW(②金銭出納簿!$C$4:$C$564),ROWS($A$18:$A21)),1/ROW(②金銭出納簿!$C$4:$C$564),0),COLUMNS($A$5:G$5)),"")} | H10: {=IFERROR(INDEX(②金銭出納簿!$C$4:$M$564,MATCH(LARGE((②金銭出納簿!$G$4:$G$564=$A$1)*1/ROW(②金銭出納簿!$C$4:$C$564),ROWS($A$18:$A21)),1/ROW(②金銭出納簿!$C$4:$C$564),0),COLUMNS($A$5:H$5)),"")} | ... J10: {=IFERROR(INDEX(②金銭出納簿!$C$4:$M$564,MATCH(LARGE((②金銭出納簿!$G$4:$G$564=$A$1)*1/ROW(②金銭出納簿!$C$4:$C$564),ROWS($A$18:$A21)),1/ROW(②金銭出納簿!$C$4:$C$564),0),COLUMNS($A$5:J$5)),"")} | K10: =IFERROR(K9+H10,"") | N10: =IF(ISBLANK(M10),"←選択してください","") -> ←選択してください | Q10: 04 寄付金 | R10: =SUMIF($M$7:$M$53,Q10,$H$7:$H$53) -> 0
A11: {=IFERROR(INDEX(②金銭出納簿!$C$4:$M$564,MATCH(LARGE((②金銭出納簿!$G$4:$G$564=$A$1)*1/ROW(②金銭出納簿!$C$4:$C$564),ROWS($A$18:$A22)),1/ROW(②金銭出納簿!$C$4:$C$564),0),COLUMNS($A$5:A$5)),"")} | B11: {=IFERROR(INDEX(②金銭出納簿!$C$4:$M$564,MATCH(LARGE((②金銭出納簿!$G$4:$G$564=$A$1)*1/ROW(②金銭出納簿!$C$4:$C$564),ROWS($A$18:$A22)),1/ROW(②金銭出納簿!$C$4:$C$564),0),COLUMNS($A$5:B$5)),"")} | C11: {=IFERROR(INDEX(②金銭出納簿!$C$4:$M$564,MATCH(LARGE((②金銭出納簿!$G$4:$G$564=$A$1)*1/ROW(②金銭出納簿!$C$4:$C$564),ROWS($A$18:$A22)),1/ROW(②金銭出納簿!$C$4:$C$564),0),COLUMNS($A$5:C$5)),"")} | D11: {=IFERROR(INDEX(②金銭出納簿!$C$4:$M$564,MATCH(LARGE((②金銭出納簿!$G$4:$G$564=$A$1)*1/ROW(②金銭出納簿!$C$4:$C$564),ROWS($A$18:$A22)),1/ROW(②金銭出納簿!$C$4:$C$564),0),COLUMNS($A$5:D$5)),"")} | E11: {=IFERROR(INDEX(②金銭出納簿!$C$4:$M$564,MATCH(LARGE((②金銭出納簿!$G$4:$G$564=$A$1)*1/ROW(②金銭出納簿!$C$4:$C$564),ROWS($A$18:$A22)),1/ROW(②金銭出納簿!$C$4:$C$564),0),COLUMNS($A$5:E$5)),"")} | F11: {=IFERROR(INDEX(②金銭出納簿!$C$4:$M$564,MATCH(LARGE((②金銭出納簿!$G$4:$G$564=$A$1)*1/ROW(②金銭出納簿!$C$4:$C$564),ROWS($A$18:$A22)),1/ROW(②金銭出納簿!$C$4:$C$564),0),COLUMNS($A$5:F$5)),"")} | G11: {=IFERROR(INDEX(②金銭出納簿!$C$4:$M$564,MATCH(LARGE((②金銭出納簿!$G$4:$G$564=$A$1)*1/ROW(②金銭出納簿!$C$4:$C$564),ROWS($A$18:$A22)),1/ROW(②金銭出納簿!$C$4:$C$564),0),COLUMNS($A$5:G$5)),"")} | H11: {=IFERROR(INDEX(②金銭出納簿!$C$4:$M$564,MATCH(LARGE((②金銭出納簿!$G$4:$G$564=$A$1)*1/ROW(②金銭出納簿!$C$4:$C$564),ROWS($A$18:$A22)),1/ROW(②金銭出納簿!$C$4:$C$564),0),COLUMNS($A$5:H$5)),"")} | ... J11: {=IFERROR(INDEX(②金銭出納簿!$C$4:$M$564,MATCH(LARGE((②金銭出納簿!$G$4:$G$564=$A$1)*1/ROW(②金銭出納簿!$C$4:$C$564),ROWS($A$18:$A22)),1/ROW(②金銭出納簿!$C$4:$C$564),0),COLUMNS($A$5:J$5)),"")} | K11: =IFERROR(K10+H11,"") | N11: =IF(ISBLANK(M11),"←選択してください","") -> ←選択してください | Q11: 05 雑収入 | R11: =SUMIF($M$7:$M$53,Q11,$H$7:$H$53) -> 0
A12: {=IFERROR(INDEX(②金銭出納簿!$C$4:$M$564,MATCH(LARGE((②金銭出納簿!$G$4:$G$564=$A$1)*1/ROW(②金銭出納簿!$C$4:$C$564),ROWS($A$18:$A23)),1/ROW(②金銭出納簿!$C$4:$C$564),0),COLUMNS($A$5:A$5)),"")} | B12: {=IFERROR(INDEX(②金銭出納簿!$C$4:$M$564,MATCH(LARGE((②金銭出納簿!$G$4:$G$564=$A$1)*1/ROW(②金銭出納簿!$C$4:$C$564),ROWS($A$18:$A23)),1/ROW(②金銭出納簿!$C$4:$C$564),0),COLUMNS($A$5:B$5)),"")} | C12: {=IFERROR(INDEX(②金銭出納簿!$C$4:$M$564,MATCH(LARGE((②金銭出納簿!$G$4:$G$564=$A$1)*1/ROW(②金銭出納簿!$C$4:$C$564),ROWS($A$18:$A23)),1/ROW(②金銭出納簿!$C$4:$C$564),0),COLUMNS($A$5:C$5)),"")} | D12: {=IFERROR(INDEX(②金銭出納簿!$C$4:$M$564,MATCH(LARGE((②金銭出納簿!$G$4:$G$564=$A$1)*1/ROW(②金銭出納簿!$C$4:$C$564),ROWS($A$18:$A23)),1/ROW(②金銭出納簿!$C$4:$C$564),0),COLUMNS($A$5:D$5)),"")} | E12: {=IFERROR(INDEX(②金銭出納簿!$C$4:$M$564,MATCH(LARGE((②金銭出納簿!$G$4:$G$564=$A$1)*1/ROW(②金銭出納簿!$C$4:$C$564),ROWS($A$18:$A23)),1/ROW(②金銭出納簿!$C$4:$C$564),0),COLUMNS($A$5:E$5)),"")} | F12: {=IFERROR(INDEX(②金銭出納簿!$C$4:$M$564,MATCH(LARGE((②金銭出納簿!$G$4:$G$564=$A$1)*1/ROW(②金銭出納簿!$C$4:$C$564),ROWS($A$18:$A23)),1/ROW(②金銭出納簿!$C$4:$C$564),0),COLUMNS($A$5:F$5)),"")} | G12: {=IFERROR(INDEX(②金銭出納簿!$C$4:$M$564,MATCH(LARGE((②金銭出納簿!$G$4:$G$564=$A$1)*1/ROW(②金銭出納簿!$C$4:$C$564),ROWS($A$18:$A23)),1/ROW(②金銭出納簿!$C$4:$C$564),0),COLUMNS($A$5:G$5)),"")} | H12: {=IFERROR(INDEX(②金銭出納簿!$C$4:$M$564,MATCH(LARGE((②金銭出納簿!$G$4:$G$564=$A$1)*1/ROW(②金銭出納簿!$C$4:$C$564),ROWS($A$18:$A23)),1/ROW(②金銭出納簿!$C$4:$C$564),0),COLUMNS($A$5:H$5)),"")} | ... J12: {=IFERROR(INDEX(②金銭出納簿!$C$4:$M$564,MATCH(LARGE((②金銭出納簿!$G$4:$G$564=$A$1)*1/ROW(②金銭出納簿!$C$4:$C$564),ROWS($A$18:$A23)),1/ROW(②金銭出納簿!$C$4:$C$564),0),COLUMNS($A$5:J$5)),"")} | K12: =IFERROR(K11+H12,"") | N12: =IF(ISBLANK(M12),"←選択してください","") -> ←選択してください | Q12: 06 前年度繰越金 | R12: =SUMIF($M$7:$M$53,Q12,$H$7:$H$53) -> 0
A13: {=IFERROR(INDEX(②金銭出納簿!$C$4:$M$564,MATCH(LARGE((②金銭出納簿!$G$4:$G$564=$A$1)*1/ROW(②金銭出納簿!$C$4:$C$564),ROWS($A$18:$A24)),1/ROW(②金銭出納簿!$C$4:$C$564),0),COLUMNS($A$5:A$5)),"")} | B13: {=IFERROR(INDEX(②金銭出納簿!$C$4:$M$564,MATCH(LARGE((②金銭出納簿!$G$4:$G$564=$A$1)*1/ROW(②金銭出納簿!$C$4:$C$564),ROWS($A$18:$A24)),1/ROW(②金銭出納簿!$C$4:$C$564),0),COLUMNS($A$5:B$5)),"")} | C13: {=IFERROR(INDEX(②金銭出納簿!$C$4:$M$564,MATCH(LARGE((②金銭出納簿!$G$4:$G$564=$A$1)*1/ROW(②金銭出納簿!$C$4:$C$564),ROWS($A$18:$A24)),1/ROW(②金銭出納簿!$C$4:$C$564),0),COLUMNS($A$5:C$5)),"")} | D13: {=IFERROR(INDEX(②金銭出納簿!$C$4:$M$564,MATCH(LARGE((②金銭出納簿!$G$4:$G$564=$A$1)*1/ROW(②金銭出納簿!$C$4:$C$564),ROWS($A$18:$A24)),1/ROW(②金銭出納簿!$C$4:$C$564),0),COLUMNS($A$5:D$5)),"")} | E13: {=IFERROR(INDEX(②金銭出納簿!$C$4:$M$564,MATCH(LARGE((②金銭出納簿!$G$4:$G$564=$A$1)*1/ROW(②金銭出納簿!$C$4:$C$564),ROWS($A$18:$A24)),1/ROW(②金銭出納簿!$C$4:$C$564),0),COLUMNS($A$5:E$5)),"")} | F13: {=IFERROR(INDEX(②金銭出納簿!$C$4:$M$564,MATCH(LARGE((②金銭出納簿!$G$4:$G$564=$A$1)*1/ROW(②金銭出納簿!$C$4:$C$564),ROWS($A$18:$A24)),1/ROW(②金銭出納簿!$C$4:$C$564),0),COLUMNS($A$5:F$5)),"")} | G13: {=IFERROR(INDEX(②金銭出納簿!$C$4:$M$564,MATCH(LARGE((②金銭出納簿!$G$4:$G$564=$A$1)*1/ROW(②金銭出納簿!$C$4:$C$564),ROWS($A$18:$A24)),1/ROW(②金銭出納簿!$C$4:$C$564),0),COLUMNS($A$5:G$5)),"")} | H13: {=IFERROR(INDEX(②金銭出納簿!$C$4:$M$564,MATCH(LARGE((②金銭出納簿!$G$4:$G$564=$A$1)*1/ROW(②金銭出納簿!$C$4:$C$564),ROWS($A$18:$A24)),1/ROW(②金銭出納簿!$C$4:$C$564),0),COLUMNS($A$5:H$5)),"")} | ... J13: {=IFERROR(INDEX(②金銭出納簿!$C$4:$M$564,MATCH(LARGE((②金銭出納簿!$G$4:$G$564=$A$1)*1/ROW(②金銭出納簿!$C$4:$C$564),ROWS($A$18:$A24)),1/ROW(②金銭出納簿!$C$4:$C$564),0),COLUMNS($A$5:J$5)),"")} | K13: =IFERROR(K12+H13,"") | N13: =IF(ISBLANK(M13),"←選択してください","") -> ←選択してください | Q13: 07 その他 | R13: =SUMIF($M$7:$M$53,Q13,$H$7:$H$53) -> 0
A14: {=IFERROR(INDEX(②金銭出納簿!$C$4:$M$564,MATCH(LARGE((②金銭出納簿!$G$4:$G$564=$A$1)*1/ROW(②金銭出納簿!$C$4:$C$564),ROWS($A$18:$A25)),1/ROW(②金銭出納簿!$C$4:$C$564),0),COLUMNS($A$5:A$5)),"")} | B14: {=IFERROR(INDEX(②金銭出納簿!$C$4:$M$564,MATCH(LARGE((②金銭出納簿!$G$4:$G$564=$A$1)*1/ROW(②金銭出納簿!$C$4:$C$564),ROWS($A$18:$A25)),1/ROW(②金銭出納簿!$C$4:$C$564),0),COLUMNS($A$5:B$5)),"")} | C14: {=IFERROR(INDEX(②金銭出納簿!$C$4:$M$564,MATCH(LARGE((②金銭出納簿!$G$4:$G$564=$A$1)*1/ROW(②金銭出納簿!$C$4:$C$564),ROWS($A$18:$A25)),1/ROW(②金銭出納簿!$C$4:$C$564),0),COLUMNS($A$5:C$5)),"")} | D14: {=IFERROR(INDEX(②金銭出納簿!$C$4:$M$564,MATCH(LARGE((②金銭出納簿!$G$4:$G$564=$A$1)*1/ROW(②金銭出納簿!$C$4:$C$564),ROWS($A$18:$A25)),1/ROW(②金銭出納簿!$C$4:$C$564),0),COLUMNS($A$5:D$5)),"")} | E14: {=IFERROR(INDEX(②金銭出納簿!$C$4:$M$564,MATCH(LARGE((②金銭出納簿!$G$4:$G$564=$A$1)*1/ROW(②金銭出納簿!$C$4:$C$564),ROWS($A$18:$A25)),1/ROW(②金銭出納簿!$C$4:$C$564),0),COLUMNS($A$5:E$5)),"")} | F14: {=IFERROR(INDEX(②金銭出納簿!$C$4:$M$564,MATCH(LARGE((②金銭出納簿!$G$4:$G$564=$A$1)*1/ROW(②金銭出納簿!$C$4:$C$564),ROWS($A$18:$A25)),1/ROW(②金銭出納簿!$C$4:$C$564),0),COLUMNS($A$5:F$5)),"")} | G14: {=IFERROR(INDEX(②金銭出納簿!$C$4:$M$564,MATCH(LARGE((②金銭出納簿!$G$4:$G$564=$A$1)*1/ROW(②金銭出納簿!$C$4:$C$564),ROWS($A$18:$A25)),1/ROW(②金銭出納簿!$C$4:$C$564),0),COLUMNS($A$5:G$5)),"")} | H14: {=IFERROR(INDEX(②金銭出納簿!$C$4:$M$564,MATCH(LARGE((②金銭出納簿!$G$4:$G$564=$A$1)*1/ROW(②金銭出納簿!$C$4:$C$564),ROWS($A$18:$A25)),1/ROW(②金銭出納簿!$C$4:$C$564),0),COLUMNS($A$5:H$5)),"")} | ... J14: {=IFERROR(INDEX(②金銭出納簿!$C$4:$M$564,MATCH(LARGE((②金銭出納簿!$G$4:$G$564=$A$1)*1/ROW(②金銭出納簿!$C$4:$C$564),ROWS($A$18:$A25)),1/ROW(②金銭出納簿!$C$4:$C$564),0),COLUMNS($A$5:J$5)),"")} | K14: =IFERROR(K13+H14,"") | N14: =IF(ISBLANK(M14),"←選択してください","") -> ←選択してください | Q14: 収入合計 | R14: =SUM(R7:R13) -> 0
A15: {=IFERROR(INDEX(②金銭出納簿!$C$4:$M$564,MATCH(LARGE((②金銭出納簿!$G$4:$G$564=$A$1)*1/ROW(②金銭出納簿!$C$4:$C$564),ROWS($A$18:$A26)),1/ROW(②金銭出納簿!$C$4:$C$564),0),COLUMNS($A$5:A$5)),"")} | B15: {=IFERROR(INDEX(②金銭出納簿!$C$4:$M$564,MATCH(LARGE((②金銭出納簿!$G$4:$G$564=$A$1)*1/ROW(②金銭出納簿!$C$4:$C$564),ROWS($A$18:$A26)),1/ROW(②金銭出納簿!$C$4:$C$564),0),COLUMNS($A$5:B$5)),"")} | C15: {=IFERROR(INDEX(②金銭出納簿!$C$4:$M$564,MATCH(LARGE((②金銭出納簿!$G$4:$G$564=$A$1)*1/ROW(②金銭出納簿!$C$4:$C$564),ROWS($A$18:$A26)),1/ROW(②金銭出納簿!$C$4:$C$564),0),COLUMNS($A$5:C$5)),"")} | D15: {=IFERROR(INDEX(②金銭出納簿!$C$4:$M$564,MATCH(LARGE((②金銭出納簿!$G$4:$G$564=$A$1)*1/ROW(②金銭出納簿!$C$4:$C$564),ROWS($A$18:$A26)),1/ROW(②金銭出納簿!$C$4:$C$564),0),COLUMNS($A$5:D$5)),"")} | E15: {=IFERROR(INDEX(②金銭出納簿!$C$4:$M$564,MATCH(LARGE((②金銭出納簿!$G$4:$G$564=$A$1)*1/ROW(②金銭出納簿!$C$4:$C$564),ROWS($A$18:$A26)),1/ROW(②金銭出納簿!$C$4:$C$564),0),COLUMNS($A$5:E$5)),"")} | F15: {=IFERROR(INDEX(②金銭出納簿!$C$4:$M$564,MATCH(LARGE((②金銭出納簿!$G$4:$G$564=$A$1)*1/ROW(②金銭出納簿!$C$4:$C$564),ROWS($A$18:$A26)),1/ROW(②金銭出納簿!$C$4:$C$564),0),COLUMNS($A$5:F$5)),"")} | G15: {=IFERROR(INDEX(②金銭出納簿!$C$4:$M$564,MATCH(LARGE((②金銭出納簿!$G$4:$G$564=$A$1)*1/ROW(②金銭出納簿!$C$4:$C$564),ROWS($A$18:$A26)),1/ROW(②金銭出納簿!$C$4:$C$564),0),COLUMNS($A$5:G$5)),"")} | H15: {=IFERROR(INDEX(②金銭出納簿!$C$4:$M$564,MATCH(LARGE((②金銭出納簿!$G$4:$G$564=$A$1)*1/ROW(②金銭出納簿!$C$4:$C$564),ROWS($A$18:$A26)),1/ROW(②金銭出納簿!$C$4:$C$564),0),COLUMNS($A$5:H$5)),"")} | ... J15: {=IFERROR(INDEX(②金銭出納簿!$C$4:$M$564,MATCH(LARGE((②金銭出納簿!$G$4:$G$564=$A$1)*1/ROW(②金銭出納簿!$C$4:$C$564),ROWS($A$18:$A26)),1/ROW(②金銭出納簿!$C$4:$C$564),0),COLUMNS($A$5:J$5)),"")} | K15: =IFERROR(K14+H15,"") | N15: =IF(ISBLANK(M15),"←選択してください","") -> ←選択してください
A16: {=IFERROR(INDEX(②金銭出納簿!$C$4:$M$564,MATCH(LARGE((②金銭出納簿!$G$4:$G$564=$A$1)*1/ROW(②金銭出納簿!$C$4:$C$564),ROWS($A$18:$A27)),1/ROW(②金銭出納簿!$C$4:$C$564),0),COLUMNS($A$5:A$5)),"")} | B16: {=IFERROR(INDEX(②金銭出納簿!$C$4:$M$564,MATCH(LARGE((②金銭出納簿!$G$4:$G$564=$A$1)*1/ROW(②金銭出納簿!$C$4:$C$564),ROWS($A$18:$A27)),1/ROW(②金銭出納簿!$C$4:$C$564),0),COLUMNS($A$5:B$5)),"")} | C16: {=IFERROR(INDEX(②金銭出納簿!$C$4:$M$564,MATCH(LARGE((②金銭出納簿!$G$4:$G$564=$A$1)*1/ROW(②金銭出納簿!$C$4:$C$564),ROWS($A$18:$A27)),1/ROW(②金銭出納簿!$C$4:$C$564),0),COLUMNS($A$5:C$5)),"")} | D16: {=IFERROR(INDEX(②金銭出納簿!$C$4:$M$564,MATCH(LARGE((②金銭出納簿!$G$4:$G$564=$A$1)*1/ROW(②金銭出納簿!$C$4:$C$564),ROWS($A$18:$A27)),1/ROW(②金銭出納簿!$C$4:$C$564),0),COLUMNS($A$5:D$5)),"")} | E16: {=IFERROR(INDEX(②金銭出納簿!$C$4:$M$564,MATCH(LARGE((②金銭出納簿!$G$4:$G$564=$A$1)*1/ROW(②金銭出納簿!$C$4:$C$564),ROWS($A$18:$A27)),1/ROW(②金銭出納簿!$C$4:$C$564),0),COLUMNS($A$5:E$5)),"")} | F16: {=IFERROR(INDEX(②金銭出納簿!$C$4:$M$564,MATCH(LARGE((②金銭出納簿!$G$4:$G$564=$A$1)*1/ROW(②金銭出納簿!$C$4:$C$564),ROWS($A$18:$A27)),1/ROW(②金銭出納簿!$C$4:$C$564),0),COLUMNS($A$5:F$5)),"")} | G16: {=IFERROR(INDEX(②金銭出納簿!$C$4:$M$564,MATCH(LARGE((②金銭出納簿!$G$4:$G$564=$A$1)*1/ROW(②金銭出納簿!$C$4:$C$564),ROWS($A$18:$A27)),1/ROW(②金銭出納簿!$C$4:$C$564),0),COLUMNS($A$5:G$5)),"")} | H16: {=IFERROR(INDEX(②金銭出納簿!$C$4:$M$564,MATCH(LARGE((②金銭出納簿!$G$4:$G$564=$A$1)*1/ROW(②金銭出納簿!$C$4:$C$564),ROWS($A$18:$A27)),1/ROW(②金銭出納簿!$C$4:$C$564),0),COLUMNS($A$5:H$5)),"")} | ... J16: {=IFERROR(INDEX(②金銭出納簿!$C$4:$M$564,MATCH(LARGE((②金銭出納簿!$G$4:$G$564=$A$1)*1/ROW(②金銭出納簿!$C$4:$C$564),ROWS($A$18:$A27)),1/ROW(②金銭出納簿!$C$4:$C$564),0),COLUMNS($A$5:J$5)),"")} | K16: =IFERROR(K15+H16,"") | N16: =IF(ISBLANK(M16),"←選択してください","") -> ←選択してください
A17: {=IFERROR(INDEX(②金銭出納簿!$C$4:$M$564,MATCH(LARGE((②金銭出納簿!$G$4:$G$564=$A$1)*1/ROW(②金銭出納簿!$C$4:$C$564),ROWS($A$18:$A28)),1/ROW(②金銭出納簿!$C$4:$C$564),0),COLUMNS($A$5:A$5)),"")} | B17: {=IFERROR(INDEX(②金銭出納簿!$C$4:$M$564,MATCH(LARGE((②金銭出納簿!$G$4:$G$564=$A$1)*1/ROW(②金銭出納簿!$C$4:$C$564),ROWS($A$18:$A28)),1/ROW(②金銭出納簿!$C$4:$C$564),0),COLUMNS($A$5:B$5)),"")} | C17: {=IFERROR(INDEX(②金銭出納簿!$C$4:$M$564,MATCH(LARGE((②金銭出納簿!$G$4:$G$564=$A$1)*1/ROW(②金銭出納簿!$C$4:$C$564),ROWS($A$18:$A28)),1/ROW(②金銭出納簿!$C$4:$C$564),0),COLUMNS($A$5:C$5)),"")} | D17: {=IFERROR(INDEX(②金銭出納簿!$C$4:$M$564,MATCH(LARGE((②金銭出納簿!$G$4:$G$564=$A$1)*1/ROW(②金銭出納簿!$C$4:$C$564),ROWS($A$18:$A28)),1/ROW(②金銭出納簿!$C$4:$C$564),0),COLUMNS($A$5:D$5)),"")} | E17: {=IFERROR(INDEX(②金銭出納簿!$C$4:$M$564,MATCH(LARGE((②金銭出納簿!$G$4:$G$564=$A$1)*1/ROW(②金銭出納簿!$C$4:$C$564),ROWS($A$18:$A28)),1/ROW(②金銭出納簿!$C$4:$C$564),0),COLUMNS($A$5:E$5)),"")} | F17: {=IFERROR(INDEX(②金銭出納簿!$C$4:$M$564,MATCH(LARGE((②金銭出納簿!$G$4:$G$564=$A$1)*1/ROW(②金銭出納簿!$C$4:$C$564),ROWS($A$18:$A28)),1/ROW(②金銭出納簿!$C$4:$C$564),0),COLUMNS($A$5:F$5)),"")} | G17: {=IFERROR(INDEX(②金銭出納簿!$C$4:$M$564,MATCH(LARGE((②金銭出納簿!$G$4:$G$564=$A$1)*1/ROW(②金銭出納簿!$C$4:$C$564),ROWS($A$18:$A28)),1/ROW(②金銭出納簿!$C$4:$C$564),0),COLUMNS($A$5:G$5)),"")} | H17: {=IFERROR(INDEX(②金銭出納簿!$C$4:$M$564,MATCH(LARGE((②金銭出納簿!$G$4:$G$564=$A$1)*1/ROW(②金銭出納簿!$C$4:$C$564),ROWS($A$18:$A28)),1/ROW(②金銭出納簿!$C$4:$C$564),0),COLUMNS($A$5:H$5)),"")} | ... J17: {=IFERROR(INDEX(②金銭出納簿!$C$4:$M$564,MATCH(LARGE((②金銭出納簿!$G$4:$G$564=$A$1)*1/ROW(②金銭出納簿!$C$4:$C$564),ROWS($A$18:$A28)),1/ROW(②金銭出納簿!$C$4:$C$564),0),COLUMNS($A$5:J$5)),"")} | K17: =IFERROR(K16+H17,"") | N17: =IF(ISBLANK(M17),"←選択してください","") -> ←選択してください
A18: {=IFERROR(INDEX(②金銭出納簿!$C$4:$M$564,MATCH(LARGE((②金銭出納簿!$G$4:$G$564=$A$1)*1/ROW(②金銭出納簿!$C$4:$C$564),ROWS($A$18:$A29)),1/ROW(②金銭出納簿!$C$4:$C$564),0),COLUMNS($A$5:A$5)),"")} | B18: {=IFERROR(INDEX(②金銭出納簿!$C$4:$M$564,MATCH(LARGE((②金銭出納簿!$G$4:$G$564=$A$1)*1/ROW(②金銭出納簿!$C$4:$C$564),ROWS($A$18:$A29)),1/ROW(②金銭出納簿!$C$4:$C$564),0),COLUMNS($A$5:B$5)),"")} | C18: {=IFERROR(INDEX(②金銭出納簿!$C$4:$M$564,MATCH(LARGE((②金銭出納簿!$G$4:$G$564=$A$1)*1/ROW(②金銭出納簿!$C$4:$C$564),ROWS($A$18:$A29)),1/ROW(②金銭出納簿!$C$4:$C$564),0),COLUMNS($A$5:C$5)),"")} | D18: {=IFERROR(INDEX(②金銭出納簿!$C$4:$M$564,MATCH(LARGE((②金銭出納簿!$G$4:$G$564=$A$1)*1/ROW(②金銭出納簿!$C$4:$C$564),ROWS($A$18:$A29)),1/ROW(②金銭出納簿!$C$4:$C$564),0),COLUMNS($A$5:D$5)),"")} | E18: {=IFERROR(INDEX(②金銭出納簿!$C$4:$M$564,MATCH(LARGE((②金銭出納簿!$G$4:$G$564=$A$1)*1/ROW(②金銭出納簿!$C$4:$C$564),ROWS($A$18:$A29)),1/ROW(②金銭出納簿!$C$4:$C$564),0),COLUMNS($A$5:E$5)),"")} | F18: {=IFERROR(INDEX(②金銭出納簿!$C$4:$M$564,MATCH(LARGE((②金銭出納簿!$G$4:$G$564=$A$1)*1/ROW(②金銭出納簿!$C$4:$C$564),ROWS($A$18:$A29)),1/ROW(②金銭出納簿!$C$4:$C$564),0),COLUMNS($A$5:F$5)),"")} | G18: {=IFERROR(INDEX(②金銭出納簿!$C$4:$M$564,MATCH(LARGE((②金銭出納簿!$G$4:$G$564=$A$1)*1/ROW(②金銭出納簿!$C$4:$C$564),ROWS($A$18:$A29)),1/ROW(②金銭出納簿!$C$4:$C$564),0),COLUMNS($A$5:G$5)),"")} | H18: {=IFERROR(INDEX(②金銭出納簿!$C$4:$M$564,MATCH(LARGE((②金銭出納簿!$G$4:$G$564=$A$1)*1/ROW(②金銭出納簿!$C$4:$C$564),ROWS($A$18:$A29)),1/ROW(②金銭出納簿!$C$4:$C$564),0),COLUMNS($A$5:H$5)),"")} | ... J18: {=IFERROR(INDEX(②金銭出納簿!$C$4:$M$564,MATCH(LARGE((②金銭出納簿!$G$4:$G$564=$A$1)*1/ROW(②金銭出納簿!$C$4:$C$564),ROWS($A$18:$A29)),1/ROW(②金銭出納簿!$C$4:$C$564),0),COLUMNS($A$5:J$5)),"")} | K18: =IFERROR(K17+H18,"") | N18: =IF(ISBLANK(M18),"←選択してください","") -> ←選択してください
A19: {=IFERROR(INDEX(②金銭出納簿!$C$4:$M$564,MATCH(LARGE((②金銭出納簿!$G$4:$G$564=$A$1)*1/ROW(②金銭出納簿!$C$4:$C$564),ROWS($A$18:$A30)),1/ROW(②金銭出納簿!$C$4:$C$564),0),COLUMNS($A$5:A$5)),"")} | B19: {=IFERROR(INDEX(②金銭出納簿!$C$4:$M$564,MATCH(LARGE((②金銭出納簿!$G$4:$G$564=$A$1)*1/ROW(②金銭出納簿!$C$4:$C$564),ROWS($A$18:$A30)),1/ROW(②金銭出納簿!$C$4:$C$564),0),COLUMNS($A$5:B$5)),"")} | C19: {=IFERROR(INDEX(②金銭出納簿!$C$4:$M$564,MATCH(LARGE((②金銭出納簿!$G$4:$G$564=$A$1)*1/ROW(②金銭出納簿!$C$4:$C$564),ROWS($A$18:$A30)),1/ROW(②金銭出納簿!$C$4:$C$564),0),COLUMNS($A$5:C$5)),"")} | D19: {=IFERROR(INDEX(②金銭出納簿!$C$4:$M$564,MATCH(LARGE((②金銭出納簿!$G$4:$G$564=$A$1)*1/ROW(②金銭出納簿!$C$4:$C$564),ROWS($A$18:$A30)),1/ROW(②金銭出納簿!$C$4:$C$564),0),COLUMNS($A$5:D$5)),"")} | E19: {=IFERROR(INDEX(②金銭出納簿!$C$4:$M$564,MATCH(LARGE((②金銭出納簿!$G$4:$G$564=$A$1)*1/ROW(②金銭出納簿!$C$4:$C$564),ROWS($A$18:$A30)),1/ROW(②金銭出納簿!$C$4:$C$564),0),COLUMNS($A$5:E$5)),"")} | F19: {=IFERROR(INDEX(②金銭出納簿!$C$4:$M$564,MATCH(LARGE((②金銭出納簿!$G$4:$G$564=$A$1)*1/ROW(②金銭出納簿!$C$4:$C$564),ROWS($A$18:$A30)),1/ROW(②金銭出納簿!$C$4:$C$564),0),COLUMNS($A$5:F$5)),"")} | G19: {=IFERROR(INDEX(②金銭出納簿!$C$4:$M$564,MATCH(LARGE((②金銭出納簿!$G$4:$G$564=$A$1)*1/ROW(②金銭出納簿!$C$4:$C$564),ROWS($A$18:$A30)),1/ROW(②金銭出納簿!$C$4:$C$564),0),COLUMNS($A$5:G$5)),"")} | H19: {=IFERROR(INDEX(②金銭出納簿!$C$4:$M$564,MATCH(LARGE((②金銭出納簿!$G$4:$G$564=$A$1)*1/ROW(②金銭出納簿!$C$4:$C$564),ROWS($A$18:$A30)),1/ROW(②金銭出納簿!$C$4:$C$564),0),COLUMNS($A$5:H$5)),"")} | ... J19: {=IFERROR(INDEX(②金銭出納簿!$C$4:$M$564,MATCH(LARGE((②金銭出納簿!$G$4:$G$564=$A$1)*1/ROW(②金銭出納簿!$C$4:$C$564),ROWS($A$18:$A30)),1/ROW(②金銭出納簿!$C$4:$C$564),0),COLUMNS($A$5:J$5)),"")} | K19: =IFERROR(K18+H19,"") | N19: =IF(ISBLANK(M19),"←選択してください","") -> ←選択してください
A20: {=IFERROR(INDEX(②金銭出納簿!$C$4:$M$564,MATCH(LARGE((②金銭出納簿!$G$4:$G$564=$A$1)*1/ROW(②金銭出納簿!$C$4:$C$564),ROWS($A$18:$A31)),1/ROW(②金銭出納簿!$C$4:$C$564),0),COLUMNS($A$5:A$5)),"")} | B20: {=IFERROR(INDEX(②金銭出納簿!$C$4:$M$564,MATCH(LARGE((②金銭出納簿!$G$4:$G$564=$A$1)*1/ROW(②金銭出納簿!$C$4:$C$564),ROWS($A$18:$A31)),1/ROW(②金銭出納簿!$C$4:$C$564),0),COLUMNS($A$5:B$5)),"")} | C20: {=IFERROR(INDEX(②金銭出納簿!$C$4:$M$564,MATCH(LARGE((②金銭出納簿!$G$4:$G$564=$A$1)*1/ROW(②金銭出納簿!$C$4:$C$564),ROWS($A$18:$A31)),1/ROW(②金銭出納簿!$C$4:$C$564),0),COLUMNS($A$5:C$5)),"")} | D20: {=IFERROR(INDEX(②金銭出納簿!$C$4:$M$564,MATCH(LARGE((②金銭出納簿!$G$4:$G$564=$A$1)*1/ROW(②金銭出納簿!$C$4:$C$564),ROWS($A$18:$A31)),1/ROW(②金銭出納簿!$C$4:$C$564),0),COLUMNS($A$5:D$5)),"")} | E20: {=IFERROR(INDEX(②金銭出納簿!$C$4:$M$564,MATCH(LARGE((②金銭出納簿!$G$4:$G$564=$A$1)*1/ROW(②金銭出納簿!$C$4:$C$564),ROWS($A$18:$A31)),1/ROW(②金銭出納簿!$C$4:$C$564),0),COLUMNS($A$5:E$5)),"")} | F20: {=IFERROR(INDEX(②金銭出納簿!$C$4:$M$564,MATCH(LARGE((②金銭出納簿!$G$4:$G$564=$A$1)*1/ROW(②金銭出納簿!$C$4:$C$564),ROWS($A$18:$A31)),1/ROW(②金銭出納簿!$C$4:$C$564),0),COLUMNS($A$5:F$5)),"")} | G20: {=IFERROR(INDEX(②金銭出納簿!$C$4:$M$564,MATCH(LARGE((②金銭出納簿!$G$4:$G$564=$A$1)*1/ROW(②金銭出納簿!$C$4:$C$564),ROWS($A$18:$A31)),1/ROW(②金銭出納簿!$C$4:$C$564),0),COLUMNS($A$5:G$5)),"")} | H20: {=IFERROR(INDEX(②金銭出納簿!$C$4:$M$564,MATCH(LARGE((②金銭出納簿!$G$4:$G$564=$A$1)*1/ROW(②金銭出納簿!$C$4:$C$564),ROWS($A$18:$A31)),1/ROW(②金銭出納簿!$C$4:$C$564),0),COLUMNS($A$5:H$5)),"")} | ... J20: {=IFERROR(INDEX(②金銭出納簿!$C$4:$M$564,MATCH(LARGE((②金銭出納簿!$G$4:$G$564=$A$1)*1/ROW(②金銭出納簿!$C$4:$C$564),ROWS($A$18:$A31)),1/ROW(②金銭出納簿!$C$4:$C$564),0),COLUMNS($A$5:J$5)),"")} | K20: =IFERROR(K19+H20,"") | N20: =IF(ISBLANK(M20),"←選択してください","") -> ←選択してください
A21: {=IFERROR(INDEX(②金銭出納簿!$C$4:$M$564,MATCH(LARGE((②金銭出納簿!$G$4:$G$564=$A$1)*1/ROW(②金銭出納簿!$C$4:$C$564),ROWS($A$18:$A32)),1/ROW(②金銭出納簿!$C$4:$C$564),0),COLUMNS($A$5:A$5)),"")} | B21: {=IFERROR(INDEX(②金銭出納簿!$C$4:$M$564,MATCH(LARGE((②金銭出納簿!$G$4:$G$564=$A$1)*1/ROW(②金銭出納簿!$C$4:$C$564),ROWS($A$18:$A32)),1/ROW(②金銭出納簿!$C$4:$C$564),0),COLUMNS($A$5:B$5)),"")} | C21: {=IFERROR(INDEX(②金銭出納簿!$C$4:$M$564,MATCH(LARGE((②金銭出納簿!$G$4:$G$564=$A$1)*1/ROW(②金銭出納簿!$C$4:$C$564),ROWS($A$18:$A32)),1/ROW(②金銭出納簿!$C$4:$C$564),0),COLUMNS($A$5:C$5)),"")} | D21: {=IFERROR(INDEX(②金銭出納簿!$C$4:$M$564,MATCH(LARGE((②金銭出納簿!$G$4:$G$564=$A$1)*1/ROW(②金銭出納簿!$C$4:$C$564),ROWS($A$18:$A32)),1/ROW(②金銭出納簿!$C$4:$C$564),0),COLUMNS($A$5:D$5)),"")} | E21: {=IFERROR(INDEX(②金銭出納簿!$C$4:$M$564,MATCH(LARGE((②金銭出納簿!$G$4:$G$564=$A$1)*1/ROW(②金銭出納簿!$C$4:$C$564),ROWS($A$18:$A32)),1/ROW(②金銭出納簿!$C$4:$C$564),0),COLUMNS($A$5:E$5)),"")} | F21: {=IFERROR(INDEX(②金銭出納簿!$C$4:$M$564,MATCH(LARGE((②金銭出納簿!$G$4:$G$564=$A$1)*1/ROW(②金銭出納簿!$C$4:$C$564),ROWS($A$18:$A32)),1/ROW(②金銭出納簿!$C$4:$C$564),0),COLUMNS($A$5:F$5)),"")} | G21: {=IFERROR(INDEX(②金銭出納簿!$C$4:$M$564,MATCH(LARGE((②金銭出納簿!$G$4:$G$564=$A$1)*1/ROW(②金銭出納簿!$C$4:$C$564),ROWS($A$18:$A32)),1/ROW(②金銭出納簿!$C$4:$C$564),0),COLUMNS($A$5:G$5)),"")} | H21: {=IFERROR(INDEX(②金銭出納簿!$C$4:$M$564,MATCH(LARGE((②金銭出納簿!$G$4:$G$564=$A$1)*1/ROW(②金銭出納簿!$C$4:$C$564),ROWS($A$18:$A32)),1/ROW(②金銭出納簿!$C$4:$C$564),0),COLUMNS($A$5:H$5)),"")} | ... J21: {=IFERROR(INDEX(②金銭出納簿!$C$4:$M$564,MATCH(LARGE((②金銭出納簿!$G$4:$G$564=$A$1)*1/ROW(②金銭出納簿!$C$4:$C$564),ROWS($A$18:$A32)),1/ROW(②金銭出納簿!$C$4:$C$564),0),COLUMNS($A$5:J$5)),"")} | K21: =IFERROR(K20+H21,"") | N21: =IF(ISBLANK(M21),"←選択してください","") -> ←選択してください
A22: {=IFERROR(INDEX(②金銭出納簿!$C$4:$M$564,MATCH(LARGE((②金銭出納簿!$G$4:$G$564=$A$1)*1/ROW(②金銭出納簿!$C$4:$C$564),ROWS($A$18:$A33)),1/ROW(②金銭出納簿!$C$4:$C$564),0),COLUMNS($A$5:A$5)),"")} | B22: {=IFERROR(INDEX(②金銭出納簿!$C$4:$M$564,MATCH(LARGE((②金銭出納簿!$G$4:$G$564=$A$1)*1/ROW(②金銭出納簿!$C$4:$C$564),ROWS($A$18:$A33)),1/ROW(②金銭出納簿!$C$4:$C$564),0),COLUMNS($A$5:B$5)),"")} | C22: {=IFERROR(INDEX(②金銭出納簿!$C$4:$M$564,MATCH(LARGE((②金銭出納簿!$G$4:$G$564=$A$1)*1/ROW(②金銭出納簿!$C$4:$C$564),ROWS($A$18:$A33)),1/ROW(②金銭出納簿!$C$4:$C$564),0),COLUMNS($A$5:C$5)),"")} | D22: {=IFERROR(INDEX(②金銭出納簿!$C$4:$M$564,MATCH(LARGE((②金銭出納簿!$G$4:$G$564=$A$1)*1/ROW(②金銭出納簿!$C$4:$C$564),ROWS($A$18:$A33)),1/ROW(②金銭出納簿!$C$4:$C$564),0),COLUMNS($A$5:D$5)),"")} | E22: {=IFERROR(INDEX(②金銭出納簿!$C$4:$M$564,MATCH(LARGE((②金銭出納簿!$G$4:$G$564=$A$1)*1/ROW(②金銭出納簿!$C$4:$C$564),ROWS($A$18:$A33)),1/ROW(②金銭出納簿!$C$4:$C$564),0),COLUMNS($A$5:E$5)),"")} | F22: {=IFERROR(INDEX(②金銭出納簿!$C$4:$M$564,MATCH(LARGE((②金銭出納簿!$G$4:$G$564=$A$1)*1/ROW(②金銭出納簿!$C$4:$C$564),ROWS($A$18:$A33)),1/ROW(②金銭出納簿!$C$4:$C$564),0),COLUMNS($A$5:F$5)),"")} | G22: {=IFERROR(INDEX(②金銭出納簿!$C$4:$M$564,MATCH(LARGE((②金銭出納簿!$G$4:$G$564=$A$1)*1/ROW(②金銭出納簿!$C$4:$C$564),ROWS($A$18:$A33)),1/ROW(②金銭出納簿!$C$4:$C$564),0),COLUMNS($A$5:G$5)),"")} | H22: {=IFERROR(INDEX(②金銭出納簿!$C$4:$M$564,MATCH(LARGE((②金銭出納簿!$G$4:$G$564=$A$1)*1/ROW(②金銭出納簿!$C$4:$C$564),ROWS($A$18:$A33)),1/ROW(②金銭出納簿!$C$4:$C$564),0),COLUMNS($A$5:H$5)),"")} | ... J22: {=IFERROR(INDEX(②金銭出納簿!$C$4:$M$564,MATCH(LARGE((②金銭出納簿!$G$4:$G$564=$A$1)*1/ROW(②金銭出納簿!$C$4:$C$564),ROWS($A$18:$A33)),1/ROW(②金銭出納簿!$C$4:$C$564),0),COLUMNS($A$5:J$5)),"")} | K22: =IFERROR(K21+H22,"") | N22: =IF(ISBLANK(M22),"←選択してください","") -> ←選択してください
A23: {=IFERROR(INDEX(②金銭出納簿!$C$4:$M$564,MATCH(LARGE((②金銭出納簿!$G$4:$G$564=$A$1)*1/ROW(②金銭出納簿!$C$4:$C$564),ROWS($A$18:$A34)),1/ROW(②金銭出納簿!$C$4:$C$564),0),COLUMNS($A$5:A$5)),"")} | B23: {=IFERROR(INDEX(②金銭出納簿!$C$4:$M$564,MATCH(LARGE((②金銭出納簿!$G$4:$G$564=$A$1)*1/ROW(②金銭出納簿!$C$4:$C$564),ROWS($A$18:$A34)),1/ROW(②金銭出納簿!$C$4:$C$564),0),COLUMNS($A$5:B$5)),"")} | C23: {=IFERROR(INDEX(②金銭出納簿!$C$4:$M$564,MATCH(LARGE((②金銭出納簿!$G$4:$G$564=$A$1)*1/ROW(②金銭出納簿!$C$4:$C$564),ROWS($A$18:$A34)),1/ROW(②金銭出納簿!$C$4:$C$564),0),COLUMNS($A$5:C$5)),"")} | D23: {=IFERROR(INDEX(②金銭出納簿!$C$4:$M$564,MATCH(LARGE((②金銭出納簿!$G$4:$G$564=$A$1)*1/ROW(②金銭出納簿!$C$4:$C$564),ROWS($A$18:$A34)),1/ROW(②金銭出納簿!$C$4:$C$564),0),COLUMNS($A$5:D$5)),"")} | E23: {=IFERROR(INDEX(②金銭出納簿!$C$4:$M$564,MATCH(LARGE((②金銭出納簿!$G$4:$G$564=$A$1)*1/ROW(②金銭出納簿!$C$4:$C$564),ROWS($A$18:$A34)),1/ROW(②金銭出納簿!$C$4:$C$564),0),COLUMNS($A$5:E$5)),"")} | F23: {=IFERROR(INDEX(②金銭出納簿!$C$4:$M$564,MATCH(LARGE((②金銭出納簿!$G$4:$G$564=$A$1)*1/ROW(②金銭出納簿!$C$4:$C$564),ROWS($A$18:$A34)),1/ROW(②金銭出納簿!$C$4:$C$564),0),COLUMNS($A$5:F$5)),"")} | G23: {=IFERROR(INDEX(②金銭出納簿!$C$4:$M$564,MATCH(LARGE((②金銭出納簿!$G$4:$G$564=$A$1)*1/ROW(②金銭出納簿!$C$4:$C$564),ROWS($A$18:$A34)),1/ROW(②金銭出納簿!$C$4:$C$564),0),COLUMNS($A$5:G$5)),"")} | H23: {=IFERROR(INDEX(②金銭出納簿!$C$4:$M$564,MATCH(LARGE((②金銭出納簿!$G$4:$G$564=$A$1)*1/ROW(②金銭出納簿!$C$4:$C$564),ROWS($A$18:$A34)),1/ROW(②金銭出納簿!$C$4:$C$564),0),COLUMNS($A$5:H$5)),"")} | ... J23: {=IFERROR(INDEX(②金銭出納簿!$C$4:$M$564,MATCH(LARGE((②金銭出納簿!$G$4:$G$564=$A$1)*1/ROW(②金銭出納簿!$C$4:$C$564),ROWS($A$18:$A34)),1/ROW(②金銭出納簿!$C$4:$C$564),0),COLUMNS($A$5:J$5)),"")} | K23: =IFERROR(K22+H23,"") | N23: =IF(ISBLANK(M23),"←選択してください","") -> ←選択してください
A24: {=IFERROR(INDEX(②金銭出納簿!$C$4:$M$564,MATCH(LARGE((②金銭出納簿!$G$4:$G$564=$A$1)*1/ROW(②金銭出納簿!$C$4:$C$564),ROWS($A$18:$A35)),1/ROW(②金銭出納簿!$C$4:$C$564),0),COLUMNS($A$5:A$5)),"")} | B24: {=IFERROR(INDEX(②金銭出納簿!$C$4:$M$564,MATCH(LARGE((②金銭出納簿!$G$4:$G$564=$A$1)*1/ROW(②金銭出納簿!$C$4:$C$564),ROWS($A$18:$A35)),1/ROW(②金銭出納簿!$C$4:$C$564),0),COLUMNS($A$5:B$5)),"")} | C24: {=IFERROR(INDEX(②金銭出納簿!$C$4:$M$564,MATCH(LARGE((②金銭出納簿!$G$4:$G$564=$A$1)*1/ROW(②金銭出納簿!$C$4:$C$564),ROWS($A$18:$A35)),1/ROW(②金銭出納簿!$C$4:$C$564),0),COLUMNS($A$5:C$5)),"")} | D24: {=IFERROR(INDEX(②金銭出納簿!$C$4:$M$564,MATCH(LARGE((②金銭出納簿!$G$4:$G$564=$A$1)*1/ROW(②金銭出納簿!$C$4:$C$564),ROWS($A$18:$A35)),1/ROW(②金銭出納簿!$C$4:$C$564),0),COLUMNS($A$5:D$5)),"")} | E24: {=IFERROR(INDEX(②金銭出納簿!$C$4:$M$564,MATCH(LARGE((②金銭出納簿!$G$4:$G$564=$A$1)*1/ROW(②金銭出納簿!$C$4:$C$564),ROWS($A$18:$A35)),1/ROW(②金銭出納簿!$C$4:$C$564),0),COLUMNS($A$5:E$5)),"")} | F24: {=IFERROR(INDEX(②金銭出納簿!$C$4:$M$564,MATCH(LARGE((②金銭出納簿!$G$4:$G$564=$A$1)*1/ROW(②金銭出納簿!$C$4:$C$564),ROWS($A$18:$A35)),1/ROW(②金銭出納簿!$C$4:$C$564),0),COLUMNS($A$5:F$5)),"")} | G24: {=IFERROR(INDEX(②金銭出納簿!$C$4:$M$564,MATCH(LARGE((②金銭出納簿!$G$4:$G$564=$A$1)*1/ROW(②金銭出納簿!$C$4:$C$564),ROWS($A$18:$A35)),1/ROW(②金銭出納簿!$C$4:$C$564),0),COLUMNS($A$5:G$5)),"")} | H24: {=IFERROR(INDEX(②金銭出納簿!$C$4:$M$564,MATCH(LARGE((②金銭出納簿!$G$4:$G$564=$A$1)*1/ROW(②金銭出納簿!$C$4:$C$564),ROWS($A$18:$A35)),1/ROW(②金銭出納簿!$C$4:$C$564),0),COLUMNS($A$5:H$5)),"")} | ... J24: {=IFERROR(INDEX(②金銭出納簿!$C$4:$M$564,MATCH(LARGE((②金銭出納簿!$G$4:$G$564=$A$1)*1/ROW(②金銭出納簿!$C$4:$C$564),ROWS($A$18:$A35)),1/ROW(②金銭出納簿!$C$4:$C$564),0),COLUMNS($A$5:J$5)),"")} | K24: =IFERROR(K23+H24,"") | N24: =IF(ISBLANK(M24),"←選択してください","") -> ←選択してください
A25: {=IFERROR(INDEX(②金銭出納簿!$C$4:$M$564,MATCH(LARGE((②金銭出納簿!$G$4:$G$564=$A$1)*1/ROW(②金銭出納簿!$C$4:$C$564),ROWS($A$18:$A36)),1/ROW(②金銭出納簿!$C$4:$C$564),0),COLUMNS($A$5:A$5)),"")} | B25: {=IFERROR(INDEX(②金銭出納簿!$C$4:$M$564,MATCH(LARGE((②金銭出納簿!$G$4:$G$564=$A$1)*1/ROW(②金銭出納簿!$C$4:$C$564),ROWS($A$18:$A36)),1/ROW(②金銭出納簿!$C$4:$C$564),0),COLUMNS($A$5:B$5)),"")} | C25: {=IFERROR(INDEX(②金銭出納簿!$C$4:$M$564,MATCH(LARGE((②金銭出納簿!$G$4:$G$564=$A$1)*1/ROW(②金銭出納簿!$C$4:$C$564),ROWS($A$18:$A36)),1/ROW(②金銭出納簿!$C$4:$C$564),0),COLUMNS($A$5:C$5)),"")} | D25: {=IFERROR(INDEX(②金銭出納簿!$C$4:$M$564,MATCH(LARGE((②金銭出納簿!$G$4:$G$564=$A$1)*1/ROW(②金銭出納簿!$C$4:$C$564),ROWS($A$18:$A36)),1/ROW(②金銭出納簿!$C$4:$C$564),0),COLUMNS($A$5:D$5)),"")} | E25: {=IFERROR(INDEX(②金銭出納簿!$C$4:$M$564,MATCH(LARGE((②金銭出納簿!$G$4:$G$564=$A$1)*1/ROW(②金銭出納簿!$C$4:$C$564),ROWS($A$18:$A36)),1/ROW(②金銭出納簿!$C$4:$C$564),0),COLUMNS($A$5:E$5)),"")} | F25: {=IFERROR(INDEX(②金銭出納簿!$C$4:$M$564,MATCH(LARGE((②金銭出納簿!$G$4:$G$564=$A$1)*1/ROW(②金銭出納簿!$C$4:$C$564),ROWS($A$18:$A36)),1/ROW(②金銭出納簿!$C$4:$C$564),0),COLUMNS($A$5:F$5)),"")} | G25: {=IFERROR(INDEX(②金銭出納簿!$C$4:$M$564,MATCH(LARGE((②金銭出納簿!$G$4:$G$564=$A$1)*1/ROW(②金銭出納簿!$C$4:$C$564),ROWS($A$18:$A36)),1/ROW(②金銭出納簿!$C$4:$C$564),0),COLUMNS($A$5:G$5)),"")} | H25: {=IFERROR(INDEX(②金銭出納簿!$C$4:$M$564,MATCH(LARGE((②金銭出納簿!$G$4:$G$564=$A$1)*1/ROW(②金銭出納簿!$C$4:$C$564),ROWS($A$18:$A36)),1/ROW(②金銭出納簿!$C$4:$C$564),0),COLUMNS($A$5:H$5)),"")} | ... J25: {=IFERROR(INDEX(②金銭出納簿!$C$4:$M$564,MATCH(LARGE((②金銭出納簿!$G$4:$G$564=$A$1)*1/ROW(②金銭出納簿!$C$4:$C$564),ROWS($A$18:$A36)),1/ROW(②金銭出納簿!$C$4:$C$564),0),COLUMNS($A$5:J$5)),"")} | K25: =IFERROR(K24+H25,"") | N25: =IF(ISBLANK(M25),"←選択してください","") -> ←選択してください
A26: {=IFERROR(INDEX(②金銭出納簿!$C$4:$M$564,MATCH(LARGE((②金銭出納簿!$G$4:$G$564=$A$1)*1/ROW(②金銭出納簿!$C$4:$C$564),ROWS($A$18:$A37)),1/ROW(②金銭出納簿!$C$4:$C$564),0),COLUMNS($A$5:A$5)),"")} | B26: {=IFERROR(INDEX(②金銭出納簿!$C$4:$M$564,MATCH(LARGE((②金銭出納簿!$G$4:$G$564=$A$1)*1/ROW(②金銭出納簿!$C$4:$C$564),ROWS($A$18:$A37)),1/ROW(②金銭出納簿!$C$4:$C$564),0),COLUMNS($A$5:B$5)),"")} | C26: {=IFERROR(INDEX(②金銭出納簿!$C$4:$M$564,MATCH(LARGE((②金銭出納簿!$G$4:$G$564=$A$1)*1/ROW(②金銭出納簿!$C$4:$C$564),ROWS($A$18:$A37)),1/ROW(②金銭出納簿!$C$4:$C$564),0),COLUMNS($A$5:C$5)),"")} | D26: {=IFERROR(INDEX(②金銭出納簿!$C$4:$M$564,MATCH(LARGE((②金銭出納簿!$G$4:$G$564=$A$1)*1/ROW(②金銭出納簿!$C$4:$C$564),ROWS($A$18:$A37)),1/ROW(②金銭出納簿!$C$4:$C$564),0),COLUMNS($A$5:D$5)),"")} | E26: {=IFERROR(INDEX(②金銭出納簿!$C$4:$M$564,MATCH(LARGE((②金銭出納簿!$G$4:$G$564=$A$1)*1/ROW(②金銭出納簿!$C$4:$C$564),ROWS($A$18:$A37)),1/ROW(②金銭出納簿!$C$4:$C$564),0),COLUMNS($A$5:E$5)),"")} | F26: {=IFERROR(INDEX(②金銭出納簿!$C$4:$M$564,MATCH(LARGE((②金銭出納簿!$G$4:$G$564=$A$1)*1/ROW(②金銭出納簿!$C$4:$C$564),ROWS($A$18:$A37)),1/ROW(②金銭出納簿!$C$4:$C$564),0),COLUMNS($A$5:F$5)),"")} | G26: {=IFERROR(INDEX(②金銭出納簿!$C$4:$M$564,MATCH(LARGE((②金銭出納簿!$G$4:$G$564=$A$1)*1/ROW(②金銭出納簿!$C$4:$C$564),ROWS($A$18:$A37)),1/ROW(②金銭出納簿!$C$4:$C$564),0),COLUMNS($A$5:G$5)),"")} | H26: {=IFERROR(INDEX(②金銭出納簿!$C$4:$M$564,MATCH(LARGE((②金銭出納簿!$G$4:$G$564=$A$1)*1/ROW(②金銭出納簿!$C$4:$C$564),ROWS($A$18:$A37)),1/ROW(②金銭出納簿!$C$4:$C$564),0),COLUMNS($A$5:H$5)),"")} | ... J26: {=IFERROR(INDEX(②金銭出納簿!$C$4:$M$564,MATCH(LARGE((②金銭出納簿!$G$4:$G$564=$A$1)*1/ROW(②金銭出納簿!$C$4:$C$564),ROWS($A$18:$A37)),1/ROW(②金銭出納簿!$C$4:$C$564),0),COLUMNS($A$5:J$5)),"")} | K26: =IFERROR(K25+H26,"") | N26: =IF(ISBLANK(M26),"←選択してください","") -> ←選択してください
... A53: {=IFERROR(INDEX(②金銭出納簿!$C$4:$M$564,MATCH(LARGE((②金銭出納簿!$G$4:$G$564=$A$1)*1/ROW(②金銭出納簿!$C$4:$C$564),ROWS($A$18:$A64)),1/ROW(②金銭出納簿!$C$4:$C$564),0),COLUMNS($A$5:A$5)),"")} | B53: {=IFERROR(INDEX(②金銭出納簿!$C$4:$M$564,MATCH(LARGE((②金銭出納簿!$G$4:$G$564=$A$1)*1/ROW(②金銭出納簿!$C$4:$C$564),ROWS($A$18:$A64)),1/ROW(②金銭出納簿!$C$4:$C$564),0),COLUMNS($A$5:B$5)),"")} | C53: {=IFERROR(INDEX(②金銭出納簿!$C$4:$M$564,MATCH(LARGE((②金銭出納簿!$G$4:$G$564=$A$1)*1/ROW(②金銭出納簿!$C$4:$C$564),ROWS($A$18:$A64)),1/ROW(②金銭出納簿!$C$4:$C$564),0),COLUMNS($A$5:C$5)),"")} | D53: {=IFERROR(INDEX(②金銭出納簿!$C$4:$M$564,MATCH(LARGE((②金銭出納簿!$G$4:$G$564=$A$1)*1/ROW(②金銭出納簿!$C$4:$C$564),ROWS($A$18:$A64)),1/ROW(②金銭出納簿!$C$4:$C$564),0),COLUMNS($A$5:D$5)),"")} | E53: {=IFERROR(INDEX(②金銭出納簿!$C$4:$M$564,MATCH(LARGE((②金銭出納簿!$G$4:$G$564=$A$1)*1/ROW(②金銭出納簿!$C$4:$C$564),ROWS($A$18:$A64)),1/ROW(②金銭出納簿!$C$4:$C$564),0),COLUMNS($A$5:E$5)),"")} | F53: {=IFERROR(INDEX(②金銭出納簿!$C$4:$M$564,MATCH(LARGE((②金銭出納簿!$G$4:$G$564=$A$1)*1/ROW(②金銭出納簿!$C$4:$C$564),ROWS($A$18:$A64)),1/ROW(②金銭出納簿!$C$4:$C$564),0),COLUMNS($A$5:F$5)),"")} | G53: {=IFERROR(INDEX(②金銭出納簿!$C$4:$M$564,MATCH(LARGE((②金銭出納簿!$G$4:$G$564=$A$1)*1/ROW(②金銭出納簿!$C$4:$C$564),ROWS($A$18:$A64)),1/ROW(②金銭出納簿!$C$4:$C$564),0),COLUMNS($A$5:G$5)),"")} | H53: {=IFERROR(INDEX(②金銭出納簿!$C$4:$M$564,MATCH(LARGE((②金銭出納簿!$G$4:$G$564=$A$1)*1/ROW(②金銭出納簿!$C$4:$C$564),ROWS($A$18:$A64)),1/ROW(②金銭出納簿!$C$4:$C$564),0),COLUMNS($A$5:H$5)),"")} | ... J53: {=IFERROR(INDEX(②金銭出納簿!$C$4:$M$564,MATCH(LARGE((②金銭出納簿!$G$4:$G$564=$A$1)*1/ROW(②金銭出納簿!$C$4:$C$564),ROWS($A$18:$A64)),1/ROW(②金銭出納簿!$C$4:$C$564),0),COLUMNS($A$5:J$5)),"")} | K53: =IFERROR(K52+H53,"") | N53: =IF(ISBLANK(M53),"←選択してください","") -> ←選択してください

Sheet ⑥社会奉仕等
A1: 1 奉仕、教養、健康
H3: =SUM(H7:H53) -> 0 | I3: =SUM(I7:I53) -> 0 | J3: =SUM(J7:J53) -> 0
A4: 【社会奉仕、教養講座、健康増進】
A5: 月 | B5: 日 | C5: № | E5: 区分 | F5: 摘要 | G5: 相手先 | H5: 収入金額 | I5: 支出 | K5: 累計
C6: 入 | D6: 出 | I6: 金額 | J6: 補助対象 | K6: 金額 | L6: 補助対象
A7: {=IFERROR(INDEX(②金銭出納簿!$C$4:$M$564,MATCH(LARGE((②金銭出納簿!$G$4:$G$564=$A$1)*1/ROW(②金銭出納簿!$C$4:$C$564),ROWS($A$18:$A18)),1/ROW(②金銭出納簿!$C$4:$C$564),0),COLUMNS($A$5:A$5)),"")} | B7: {=IFERROR(INDEX(②金銭出納簿!$C$4:$M$564,MATCH(LARGE((②金銭出納簿!$G$4:$G$564=$A$1)*1/ROW(②金銭出納簿!$C$4:$C$564),ROWS($A$18:$A18)),1/ROW(②金銭出納簿!$C$4:$C$564),0),COLUMNS($A$5:B$5)),"")} | C7: {=IFERROR(INDEX(②金銭出納簿!$C$4:$M$564,MATCH(LARGE((②金銭出納簿!$G$4:$G$564=$A$1)*1/ROW(②金銭出納簿!$C$4:$C$564),ROWS($A$18:$A18)),1/ROW(②金銭出納簿!$C$4:$C$564),0),COLUMNS($A$5:C$5)),"")} | D7: {=IFERROR(INDEX(②金銭出納簿!$C$4:$M$564,MATCH(LARGE((②金銭出納簿!$G$4:$G$564=$A$1)*1/ROW(②金銭出納簿!$C$4:$C$564),ROWS($A$18:$A18)),1/ROW(②金銭出納簿!$C$4:$C$564),0),COLUMNS($A$5:D$5)),"")} | E7: {=IFERROR(INDEX(②金銭出納簿!$C$4:$M$564,MATCH(LARGE((②金銭出納簿!$G$4:$G$564=$A$1)*1/ROW(②金銭出納簿!$C$4:$C$564),ROWS($A$18:$A18)),1/ROW(②金銭出納簿!$C$4:$C$564),0),COLUMNS($A$5:E$5)),"")} | F7: {=IFERROR(INDEX(②金銭出納簿!$C$4:$M$564,MATCH(LARGE((②金銭出納簿!$G$4:$G$564=$A$1)*1/ROW(②金銭出納簿!$C$4:$C$564),ROWS($A$18:$A18)),1/ROW(②金銭出納簿!$C$4:$C$564),0),COLUMNS($A$5:F$5)),"")} | G7: {=IFERROR(INDEX(②金銭出納簿!$C$4:$M$564,MATCH(LARGE((②金銭出納簿!$G$4:$G$564=$A$1)*1/ROW(②金銭出納簿!$C$4:$C$564),ROWS($A$18:$A18)),1/ROW(②金銭出納簿!$C$4:$C$564),0),COLUMNS($A$5:G$5)),"")} | H7: {=IFERROR(INDEX(②金銭出納簿!$C$4:$M$564,MATCH(LARGE((②金銭出納簿!$G$4:$G$564=$A$1)*1/ROW(②金銭出納簿!$C$4:$C$564),ROWS($A$18:$A18)),1/ROW(②金銭出納簿!$C$4:$C$564),0),COLUMNS($A$5:H$5)),"")} | ... J7: {=IFERROR(INDEX(②金銭出納簿!$C$4:$M$564,MATCH(LARGE((②金銭出納簿!$G$4:$G$564=$A$1)*1/ROW(②金銭出納簿!$C$4:$C$564),ROWS($A$18:$A18)),1/ROW(②金銭出納簿!$C$4:$C$564),0),COLUMNS($A$5:J$5)),"")} | K7: =I7 | L7: =J7 | M7: 金銭出納簿の「1 奉仕、教養、健康」のものが自動で入力されます
A8: {=IFERROR(INDEX(②金銭出納簿!$C$4:$M$564,MATCH(LARGE((②金銭出納簿!$G$4:$G$564=$A$1)*1/ROW(②金銭出納簿!$C$4:$C$564),ROWS($A$18:$A19)),1/ROW(②金銭出納簿!$C$4:$C$564),0),COLUMNS($A$5:A$5)),"")} | B8: {=IFERROR(INDEX(②金銭出納簿!$C$4:$M$564,MATCH(LARGE((②金銭出納簿!$G$4:$G$564=$A$1)*1/ROW(②金銭出納簿!$C$4:$C$564),ROWS($A$18:$A19)),1/ROW(②金銭出納簿!$C$4:$C$564),0),COLUMNS($A$5:B$5)),"")} | C8: {=IFERROR(INDEX(②金銭出納簿!$C$4:$M$564,MATCH(LARGE((②金銭出納簿!$G$4:$G$564=$A$1)*1/ROW(②金銭出納簿!$C$4:$C$564),ROWS($A$18:$A19)),1/ROW(②金銭出納簿!$C$4:$C$564),0),COLUMNS($A$5:C$5)),"")} | D8: {=IFERROR(INDEX(②金銭出納簿!$C$4:$M$564,MATCH(LARGE((②金銭出納簿!$G$4:$G$564=$A$1)*1/ROW(②金銭出納簿!$C$4:$C$564),ROWS($A$18:$A19)),1/ROW(②金銭出納簿!$C$4:$C$564),0),COLUMNS($A$5:D$5)),"")} | E8: {=IFERROR(INDEX(②金銭出納簿!$C$4:$M$564,MATCH(LARGE((②金銭出納簿!$G$4:$G$564=$A$1)*1/ROW(②金銭出納簿!$C$4:$C$564),ROWS($A$18:$A19)),1/ROW(②金銭出納簿!$C$4:$C$564),0),COLUMNS($A$5:E$5)),"")} | F8: {=IFERROR(INDEX(②金銭出納簿!$C$4:$M$564,MATCH(LARGE((②金銭出納簿!$G$4:$G$564=$A$1)*1/ROW(②金銭出納簿!$C$4:$C$564),ROWS($A$18:$A19)),1/ROW(②金銭出納簿!$C$4:$C$564),0),COLUMNS($A$5:F$5)),"")} | G8: {=IFERROR(INDEX(②金銭出納簿!$C$4:$M$564,MATCH(LARGE((②金銭出納簿!$G$4:$G$564=$A$1)*1/ROW(②金銭出納簿!$C$4:$C$564),ROWS($A$18:$A19)),1/ROW(②金銭出納簿!$C$4:$C$564),0),COLUMNS($A$5:G$5)),"")} | H8: {=IFERROR(INDEX(②金銭出納簿!$C$4:$M$564,MATCH(LARGE((②金銭出納簿!$G$4:$G$564=$A$1)*1/ROW(②金銭出納簿!$C$4:$C$564),ROWS($A$18:$A19)),1/ROW(②金銭出納簿!$C$4:$C$564),0),COLUMNS($A$5:H$5)),"")} | ... J8: {=IFERROR(INDEX(②金銭出納簿!$C$4:$M$564,MATCH(LARGE((②金銭出納簿!$G$4:$G$564=$A$1)*1/ROW(②金銭出納簿!$C$4:$C$564),ROWS($A$18:$A19)),1/ROW(②金銭出納簿!$C$4:$C$564),0),COLUMNS($A$5:J$5)),"")} | K8: =IFERROR(K7+I8,"") | L8: =IFERROR(L7+J8,"")
A9: {=IFERROR(INDEX(②金銭出納簿!$C$4:$M$564,MATCH(LARGE((②金銭出納簿!$G$4:$G$564=$A$1)*1/ROW(②金銭出納簿!$C$4:$C$564),ROWS($A$18:$A20)),1/ROW(②金銭出納簿!$C$4:$C$564),0),COLUMNS($A$5:A$5)),"")} | B9: {=IFERROR(INDEX(②金銭出納簿!$C$4:$M$564,MATCH(LARGE((②金銭出納簿!$G$4:$G$564=$A$1)*1/ROW(②金銭出納簿!$C$4:$C$564),ROWS($A$18:$A20)),1/ROW(②金銭出納簿!$C$4:$C$564),0),COLUMNS($A$5:B$5)),"")} | C9: {=IFERROR(INDEX(②金銭出納簿!$C$4:$M$564,MATCH(LARGE((②金銭出納簿!$G$4:$G$564=$A$1)*1/ROW(②金銭出納簿!$C$4:$C$564),ROWS($A$18:$A20)),1/ROW(②金銭出納簿!$C$4:$C$564),0),COLUMNS($A$5:C$5)),"")} | D9: {=IFERROR(INDEX(②金銭出納簿!$C$4:$M$564,MATCH(LARGE((②金銭出納簿!$G$4:$G$564=$A$1)*1/ROW(②金銭出納簿!$C$4:$C$564),ROWS($A$18:$A20)),1/ROW(②金銭出納簿!$C$4:$C$564),0),COLUMNS($A$5:D$5)),"")} | E9: {=IFERROR(INDEX(②金銭出納簿!$C$4:$M$564,MATCH(LARGE((②金銭出納簿!$G$4:$G$564=$A$1)*1/ROW(②金銭出納簿!$C$4:$C$564),ROWS($A$18:$A20)),1/ROW(②金銭出納簿!$C$4:$C$564),0),COLUMNS($A$5:E$5)),"")} | F9: {=IFERROR(INDEX(②金銭出納簿!$C$4:$M$564,MATCH(LARGE((②金銭出納簿!$G$4:$G$564=$A$1)*1/ROW(②金銭出納簿!$C$4:$C$564),ROWS($A$18:$A20)),1/ROW(②金銭出納簿!$C$4:$C$564),0),COLUMNS($A$5:F$5)),"")} | G9: {=IFERROR(INDEX(②金銭出納簿!$C$4:$M$564,MATCH(LARGE((②金銭出納簿!$G$4:$G$564=$A$1)*1/ROW(②金銭出納簿!$C$4:$C$564),ROWS($A$18:$A20)),1/ROW(②金銭出納簿!$C$4:$C$564),0),COLUMNS($A$5:G$5)),"")} | H9: {=IFERROR(INDEX(②金銭出納簿!$C$4:$M$564,MATCH(LARGE((②金銭出納簿!$G$4:$G$564=$A$1)*1/ROW(②金銭出納簿!$C$4:$C$564),ROWS($A$18:$A20)),1/ROW(②金銭出納簿!$C$4:$C$564),0),COLUMNS($A$5:H$5)),"")} | ... J9: {=IFERROR(INDEX(②金銭出納簿!$C$4:$M$564,MATCH(LARGE((②金銭出納簿!$G$4:$G$564=$A$1)*1/ROW(②金銭出納簿!$C$4:$C$564),ROWS($A$18:$A20)),1/ROW(②金銭出納簿!$C$4:$C$564),0),COLUMNS($A$5:J$5)),"")} | K9: =IFERROR(K8+I9,"") | L9: =IFERROR(L8+J9,"")
A10: {=IFERROR(INDEX(②金銭出納簿!$C$4:$M$564,MATCH(LARGE((②金銭出納簿!$G$4:$G$564=$A$1)*1/ROW(②金銭出納簿!$C$4:$C$564),ROWS($A$18:$A21)),1/ROW(②金銭出納簿!$C$4:$C$564),0),COLUMNS($A$5:A$5)),"")} | B10: {=IFERROR(INDEX(②金銭出納簿!$C$4:$M$564,MATCH(LARGE((②金銭出納簿!$G$4:$G$564=$A$1)*1/ROW(②金銭出納簿!$C$4:$C$564),ROWS($A$18:$A21)),1/ROW(②金銭出納簿!$C$4:$C$564),0),COLUMNS($A$5:B$5)),"")} | C10: {=IFERROR(INDEX(②金銭出納簿!$C$4:$M$564,MATCH(LARGE((②金銭出納簿!$G$4:$G$564=$A$1)*1/ROW(②金銭出納簿!$C$4:$C$564),ROWS($A$18:$A21)),1/ROW(②金銭出納簿!$C$4:$C$564),0),COLUMNS($A$5:C$5)),"")} | D10: {=IFERROR(INDEX(②金銭出納簿!$C$4:$M$564,MATCH(LARGE((②金銭出納簿!$G$4:$G$564=$A$1)*1/ROW(②金銭出納簿!$C$4:$C$564),ROWS($A$18:$A21)),1/ROW(②金銭出納簿!$C$4:$C$564),0),COLUMNS($A$5:D$5)),"")} | E10: {=IFERROR(INDEX(②金銭出納簿!$C$4:$M$564,MATCH(LARGE((②金銭出納簿!$G$4:$G$564=$A$1)*1/ROW(②金銭出納簿!$C$4:$C$564),ROWS($A$18:$A21)),1/ROW(②金銭出納簿!$C$4:$C$564),0),COLUMNS($A$5:E$5)),"")} | F10: {=IFERROR(INDEX(②金銭出納簿!$C$4:$M$564,MATCH(LARGE((②金銭出納簿!$G$4:$G$564=$A$1)*1/ROW(②金銭出納簿!$C$4:$C$564),ROWS($A$18:$A21)),1/ROW(②金銭出納簿!$C$4:$C$564),0),COLUMNS($A$5:F$5)),"")} | G10: {=IFERROR(INDEX(②金銭出納簿!$C$4:$M$564,MATCH(LARGE((②金銭出納簿!$G$4:$G$564=$A$1)*1/ROW(②金銭出納簿!$C$4:$C$564),ROWS($A$18:$A21)),1/ROW(②金銭出納簿!$C$4:$C$564),0),COLUMNS($A$5:G$5)),"")} | H10: {=IFERROR(INDEX(②金銭出納簿!$C$4:$M$564,MATCH(LARGE((②金銭出納簿!$G$4:$G$564=$A$1)*1/ROW(②金銭出納簿!$C$4:$C$564),ROWS($A$18:$A21)),1/ROW(②金銭出納簿!$C$4:$C$564),0),COLUMNS($A$5:H$5)),"")} | ... J10: {=IFERROR(INDEX(②金銭出納簿!$C$4:$M$564,MATCH(LARGE((②金銭出納簿!$G$4:$G$564=$A$1)*1/ROW(②金銭出納簿!$C$4:$C$564),ROWS($A$18:$A21)),1/ROW(②金銭出納簿!$C$4:$C$564),0),COLUMNS($A$5:J$5)),"")} | K10: =IFERROR(K9+I10,"") | L10: =IFERROR(L9+J10,"")
A11: {=IFERROR(INDEX(②金銭出納簿!$C$4:$M$564,MATCH(LARGE((②金銭出納簿!$G$4:$G$564=$A$1)*1/ROW(②金銭出納簿!$C$4:$C$564),ROWS($A$18:$A22)),1/ROW(②金銭出納簿!$C$4:$C$564),0),COLUMNS($A$5:A$5)),"")} | B11: {=IFERROR(INDEX(②金銭出納簿!$C$4:$M$564,MATCH(LARGE((②金銭出納簿!$G$4:$G$564=$A$1)*1/ROW(②金銭出納簿!$C$4:$C$564),ROWS($A$18:$A22)),1/ROW(②金銭出納簿!$C$4:$C$564),0),COLUMNS($A$5:B$5)),"")} | C11: {=IFERROR(INDEX(②金銭出納簿!$C$4:$M$564,MATCH(LARGE((②金銭出納簿!$G$4:$G$564=$A$1)*1/ROW(②金銭出納簿!$C$4:$C$564),ROWS($A$18:$A22)),1/ROW(②金銭出納簿!$C$4:$C$564),0),COLUMNS($A$5:C$5)),"")} | D11: {=IFERROR(INDEX(②金銭出納簿!$C$4:$M$564,MATCH(LARGE((②金銭出納簿!$G$4:$G$564=$A$1)*1/ROW(②金銭出納簿!$C$4:$C$564),ROWS($A$18:$A22)),1/ROW(②金銭出納簿!$C$4:$C$564),0),COLUMNS($A$5:D$5)),"")} | E11: {=IFERROR(INDEX(②金銭出納簿!$C$4:$M$564,MATCH(LARGE((②金銭出納簿!$G$4:$G$564=$A$1)*1/ROW(②金銭出納簿!$C$4:$C$564),ROWS($A$18:$A22)),1/ROW(②金銭出納簿!$C$4:$C$564),0),COLUMNS($A$5:E$5)),"")} | F11: {=IFERROR(INDEX(②金銭出納簿!$C$4:$M$564,MATCH(LARGE((②金銭出納簿!$G$4:$G$564=$A$1)*1/ROW(②金銭出納簿!$C$4:$C$564),ROWS($A$18:$A22)),1/ROW(②金銭出納簿!$C$4:$C$564),0),COLUMNS($A$5:F$5)),"")} | G11: {=IFERROR(INDEX(②金銭出納簿!$C$4:$M$564,MATCH(LARGE((②金銭出納簿!$G$4:$G$564=$A$1)*1/ROW(②金銭出納簿!$C$4:$C$564),ROWS($A$18:$A22)),1/ROW(②金銭出納簿!$C$4:$C$564),0),COLUMNS($A$5:G$5)),"")} | H11: {=IFERROR(INDEX(②金銭出納簿!$C$4:$M$564,MATCH(LARGE((②金銭出納簿!$G$4:$G$564=$A$1)*1/ROW(②金銭出納簿!$C$4:$C$564),ROWS($A$18:$A22)),1/ROW(②金銭出納簿!$C$4:$C$564),0),COLUMNS($A$5:H$5)),"")} | ... J11: {=IFERROR(INDEX(②金銭出納簿!$C$4:$M$564,MATCH(LARGE((②金銭出納簿!$G$4:$G$564=$A$1)*1/ROW(②金銭出納簿!$C$4:$C$564),ROWS($A$18:$A22)),1/ROW(②金銭出納簿!$C$4:$C$564),0),COLUMNS($A$5:J$5)),"")} | K11: =IFERROR(K10+I11,"") | L11: =IFERROR(L10+J11,"")
A12: {=IFERROR(INDEX(②金銭出納簿!$C$4:$M$564,MATCH(LARGE((②金銭出納簿!$G$4:$G$564=$A$1)*1/ROW(②金銭出納簿!$C$4:$C$564),ROWS($A$18:$A23)),1/ROW(②金銭出納簿!$C$4:$C$564),0),COLUMNS($A$5:A$5)),"")} | B12: {=IFERROR(INDEX(②金銭出納簿!$C$4:$M$564,MATCH(LARGE((②金銭出納簿!$G$4:$G$564=$A$1)*1/ROW(②金銭出納簿!$C$4:$C$564),ROWS($A$18:$A23)),1/ROW(②金銭出納簿!$C$4:$C$564),0),COLUMNS($A$5:B$5)),"")} | C12: {=IFERROR(INDEX(②金銭出納簿!$C$4:$M$564,MATCH(LARGE((②金銭出納簿!$G$4:$G$564=$A$1)*1/ROW(②金銭出納簿!$C$4:$C$564),ROWS($A$18:$A23)),1/ROW(②金銭出納簿!$C$4:$C$564),0),COLUMNS($A$5:C$5)),"")} | D12: {=IFERROR(INDEX(②金銭出納簿!$C$4:$M$564,MATCH(LARGE((②金銭出納簿!$G$4:$G$564=$A$1)*1/ROW(②金銭出納簿!$C$4:$C$564),ROWS($A$18:$A23)),1/ROW(②金銭出納簿!$C$4:$C$564),0),COLUMNS($A$5:D$5)),"")} | E12: {=IFERROR(INDEX(②金銭出納簿!$C$4:$M$564,MATCH(LARGE((②金銭出納簿!$G$4:$G$564=$A$1)*1/ROW(②金銭出納簿!$C$4:$C$564),ROWS($A$18:$A23)),1/ROW(②金銭出納簿!$C$4:$C$564),0),COLUMNS($A$5:E$5)),"")} | F12: {=IFERROR(INDEX(②金銭出納簿!$C$4:$M$564,MATCH(LARGE((②金銭出納簿!$G$4:$G$564=$A$1)*1/ROW(②金銭出納簿!$C$4:$C$564),ROWS($A$18:$A23)),1/ROW(②金銭出納簿!$C$4:$C$564),0),COLUMNS($A$5:F$5)),"")} | G12: {=IFERROR(INDEX(②金銭出納簿!$C$4:$M$564,MATCH(LARGE((②金銭出納簿!$G$4:$G$564=$A$1)*1/ROW(②金銭出納簿!$C$4:$C$564),ROWS($A$18:$A23)),1/ROW(②金銭出納簿!$C$4:$C$564),0),COLUMNS($A$5:G$5)),"")} | H12: {=IFERROR(INDEX(②金銭出納簿!$C$4:$M$564,MATCH(LARGE((②金銭出納簿!$G$4:$G$564=$A$1)*1/ROW(②金銭出納簿!$C$4:$C$564),ROWS($A$18:$A23)),1/ROW(②金銭出納簿!$C$4:$C$564),0),COLUMNS($A$5:H$5)),"")} | ... J12: {=IFERROR(INDEX(②金銭出納簿!$C$4:$M$564,MATCH(LARGE((②金銭出納簿!$G$4:$G$564=$A$1)*1/ROW(②金銭出納簿!$C$4:$C$564),ROWS($A$18:$A23)),1/ROW(②金銭出納簿!$C$4:$C$564),0),COLUMNS($A$5:J$5)),"")} | K12: =IFERROR(K11+I12,"") | L12: =IFERROR(L11+J12,"")
A13: {=IFERROR(INDEX(②金銭出納簿!$C$4:$M$564,MATCH(LARGE((②金銭出納簿!$G$4:$G$564=$A$1)*1/ROW(②金銭出納簿!$C$4:$C$564),ROWS($A$18:$A24)),1/ROW(②金銭出納簿!$C$4:$C$564),0),COLUMNS($A$5:A$5)),"")} | B13: {=IFERROR(INDEX(②金銭出納簿!$C$4:$M$564,MATCH(LARGE((②金銭出納簿!$G$4:$G$564=$A$1)*1/ROW(②金銭出納簿!$C$4:$C$564),ROWS($A$18:$A24)),1/ROW(②金銭出納簿!$C$4:$C$564),0),COLUMNS($A$5:B$5)),"")} | C13: {=IFERROR(INDEX(②金銭出納簿!$C$4:$M$564,MATCH(LARGE((②金銭出納簿!$G$4:$G$564=$A$1)*1/ROW(②金銭出納簿!$C$4:$C$564),ROWS($A$18:$A24)),1/ROW(②金銭出納簿!$C$4:$C$564),0),COLUMNS($A$5:C$5)),"")} | D13: {=IFERROR(INDEX(②金銭出納簿!$C$4:$M$564,MATCH(LARGE((②金銭出納簿!$G$4:$G$564=$A$1)*1/ROW(②金銭出納簿!$C$4:$C$564),ROWS($A$18:$A24)),1/ROW(②金銭出納簿!$C$4:$C$564),0),COLUMNS($A$5:D$5)),"")} | E13: {=IFERROR(INDEX(②金銭出納簿!$C$4:$M$564,MATCH(LARGE((②金銭出納簿!$G$4:$G$564=$A$1)*1/ROW(②金銭出納簿!$C$4:$C$564),ROWS($A$18:$A24)),1/ROW(②金銭出納簿!$C$4:$C$564),0),COLUMNS($A$5:E$5)),"")} | F13: {=IFERROR(INDEX(②金銭出納簿!$C$4:$M$564,MATCH(LARGE((②金銭出納簿!$G$4:$G$564=$A$1)*1/ROW(②金銭出納簿!$C$4:$C$564),ROWS($A$18:$A24)),1/ROW(②金銭出納簿!$C$4:$C$564),0),COLUMNS($A$5:F$5)),"")} | G13: {=IFERROR(INDEX(②金銭出納簿!$C$4:$M$564,MATCH(LARGE((②金銭出納簿!$G$4:$G$564=$A$1)*1/ROW(②金銭出納簿!$C$4:$C$564),ROWS($A$18:$A24)),1/ROW(②金銭出納簿!$C$4:$C$564),0),COLUMNS($A$5:G$5)),"")} | H13: {=IFERROR(INDEX(②金銭出納簿!$C$4:$M$564,MATCH(LARGE((②金銭出納簿!$G$4:$G$564=$A$1)*1/ROW(②金銭出納簿!$C$4:$C$564),ROWS($A$18:$A24)),1/ROW(②金銭出納簿!$C$4:$C$564),0),COLUMNS($A$5:H$5)),"")} | ... J13: {=IFERROR(INDEX(②金銭出納簿!$C$4:$M$564,MATCH(LARGE((②金銭出納簿!$G$4:$G$564=$A$1)*1/ROW(②金銭出納簿!$C$4:$C$564),ROWS($A$18:$A24)),1/ROW(②金銭出納簿!$C$4:$C$564),0),COLUMNS($A$5:J$5)),"")} | K13: =IFERROR(K12+I13,"") | L13: =IFERROR(L12+J13,"")
A14: {=IFERROR(INDEX(②金銭出納簿!$C$4:$M$564,MATCH(LARGE((②金銭出納簿!$G$4:$G$564=$A$1)*1/ROW(②金銭出納簿!$C$4:$C$564),ROWS($A$18:$A25)),1/ROW(②金銭出納簿!$C$4:$C$564),0),COLUMNS($A$5:A$5)),"")} | B14: {=IFERROR(INDEX(②金銭出納簿!$C$4:$M$564,MATCH(LARGE((②金銭出納簿!$G$4:$G$564=$A$1)*1/ROW(②金銭出納簿!$C$4:$C$564),ROWS($A$18:$A25)),1/ROW(②金銭出納簿!$C$4:$C$564),0),COLUMNS($A$5:B$5)),"")} | C14: {=IFERROR(INDEX(②金銭出納簿!$C$4:$M$564,MATCH(LARGE((②金銭出納簿!$G$4:$G$564=$A$1)*1/ROW(②金銭出納簿!$C$4:$C$564),ROWS($A$18:$A25)),1/ROW(②金銭出納簿!$C$4:$C$564),0),COLUMNS($A$5:C$5)),"")} | D14: {=IFERROR(INDEX(②金銭出納簿!$C$4:$M$564,MATCH(LARGE((②金銭出納簿!$G$4:$G$564=$A$1)*1/ROW(②金銭出納簿!$C$4:$C$564),ROWS($A$18:$A25)),1/ROW(②金銭出納簿!$C$4:$C$564),0),COLUMNS($A$5:D$5)),"")} | E14: {=IFERROR(INDEX(②金銭出納簿!$C$4:$M$564,MATCH(LARGE((②金銭出納簿!$G$4:$G$564=$A$1)*1/ROW(②金銭出納簿!$C$4:$C$564),ROWS($A$18:$A25)),1/ROW(②金銭出納簿!$C$4:$C$564),0),COLUMNS($A$5:E$5)),"")} | F14: {=IFERROR(INDEX(②金銭出納簿!$C$4:$M$564,MATCH(LARGE((②金銭出納簿!$G$4:$G$564=$A$1)*1/ROW(②金銭出納簿!$C$4:$C$564),ROWS($A$18:$A25)),1/ROW(②金銭出納簿!$C$4:$C$564),0),COLUMNS($A$5:F$5)),"")} | G14: {=IFERROR(INDEX(②金銭出納簿!$C$4:$M$564,MATCH(LARGE((②金銭出納簿!$G$4:$G$564=$A$1)*1/ROW(②金銭出納簿!$C$4:$C$564),ROWS($A$18:$A25)),1/ROW(②金銭出納簿!$C$4:$C$564),0),COLUMNS($A$5:G$5)),"")} | H14: {=IFERROR(INDEX(②金銭出納簿!$C$4:$M$564,MATCH(LARGE((②金銭出納簿!$G$4:$G$564=$A$1)*1/ROW(②金銭出納簿!$C$4:$C$564),ROWS($A$18:$A25)),1/ROW(②金銭出納簿!$C$4:$C$564),0),COLUMNS($A$5:H$5)),"")} | ... J14: {=IFERROR(INDEX(②金銭出納簿!$C$4:$M$564,MATCH(LARGE((②金銭出納簿!$G$4:$G$564=$A$1)*1/ROW(②金銭出納簿!$C$4:$C$564),ROWS($A$18:$A25)),1/ROW(②金銭出納簿!$C$4:$C$564),0),COLUMNS($A$5:J$5)),"")} | K14: =IFERROR(K13+I14,"") | L14: =IFERROR(L13+J14,"")
A15: {=IFERROR(INDEX(②金銭出納簿!$C$4:$M$564,MATCH(LARGE((②金銭出納簿!$G$4:$G$564=$A$1)*1/ROW(②金銭出納簿!$C$4:$C$564),ROWS($A$18:$A26)),1/ROW(②金銭出納簿!$C$4:$C$564),0),COLUMNS($A$5:A$5)),"")} | B15: {=IFERROR(INDEX(②金銭出納簿!$C$4:$M$564,MATCH(LARGE((②金銭出納簿!$G$4:$G$564=$A$1)*1/ROW(②金銭出納簿!$C$4:$C$564),ROWS($A$18:$A26)),1/ROW(②金銭出納簿!$C$4:$C$564),0),COLUMNS($A$5:B$5)),"")} | C15: {=IFERROR(INDEX(②金銭出納簿!$C$4:$M$564,MATCH(LARGE((②金銭出納簿!$G$4:$G$564=$A$1)*1/ROW(②金銭出納簿!$C$4:$C$564),ROWS($A$18:$A26)),1/ROW(②金銭出納簿!$C$4:$C$564),0),COLUMNS($A$5:C$5)),"")} | D15: {=IFERROR(INDEX(②金銭出納簿!$C$4:$M$564,MATCH(LARGE((②金銭出納簿!$G$4:$G$564=$A$1)*1/ROW(②金銭出納簿!$C$4:$C$564),ROWS($A$18:$A26)),1/ROW(②金銭出納簿!$C$4:$C$564),0),COLUMNS($A$5:D$5)),"")} | E15: {=IFERROR(INDEX(②金銭出納簿!$C$4:$M$564,MATCH(LARGE((②金銭出納簿!$G$4:$G$564=$A$1)*1/ROW(②金銭出納簿!$C$4:$C$564),ROWS($A$18:$A26)),1/ROW(②金銭出納簿!$C$4:$C$564),0),COLUMNS($A$5:E$5)),"")} | F15: {=IFERROR(INDEX(②金銭出納簿!$C$4:$M$564,MATCH(LARGE((②金銭出納簿!$G$4:$G$564=$A$1)*1/ROW(②金銭出納簿!$C$4:$C$564),ROWS($A$18:$A26)),1/ROW(②金銭出納簿!$C$4:$C$564),0),COLUMNS($A$5:F$5)),"")} | G15: {=IFERROR(INDEX(②金銭出納簿!$C$4:$M$564,MATCH(LARGE((②金銭出納簿!$G$4:$G$564=$A$1)*1/ROW(②金銭出納簿!$C$4:$C$564),ROWS($A$18:$A26)),1/ROW(②金銭出納簿!$C$4:$C$564),0),COLUMNS($A$5:G$5)),"")} | H15: {=IFERROR(INDEX(②金銭出納簿!$C$4:$M$564,MATCH(LARGE((②金銭出納簿!$G$4:$G$564=$A$1)*1/ROW(②金銭出納簿!$C$4:$C$564),ROWS($A$18:$A26)),1/ROW(②金銭出納簿!$C$4:$C$564),0),COLUMNS($A$5:H$5)),"")} | ... J15: {=IFERROR(INDEX(②金銭出納簿!$C$4:$M$564,MATCH(LARGE((②金銭出納簿!$G$4:$G$564=$A$1)*1/ROW(②金銭出納簿!$C$4:$C$564),ROWS($A$18:$A26)),1/ROW(②金銭出納簿!$C$4:$C$564),0),COLUMNS($A$5:J$5)),"")} | K15: =IFERROR(K14+I15,"") | L15: =IFERROR(L14+J15,"")
A16: {=IFERROR(INDEX(②金銭出納簿!$C$4:$M$564,MATCH(LARGE((②金銭出納簿!$G$4:$G$564=$A$1)*1/ROW(②金銭出納簿!$C$4:$C$564),ROWS($A$18:$A27)),1/ROW(②金銭出納簿!$C$4:$C$564),0),COLUMNS($A$5:A$5)),"")} | B16: {=IFERROR(INDEX(②金銭出納簿!$C$4:$M$564,MATCH(LARGE((②金銭出納簿!$G$4:$G$564=$A$1)*1/ROW(②金銭出納簿!$C$4:$C$564),ROWS($A$18:$A27)),1/ROW(②金銭出納簿!$C$4:$C$564),0),COLUMNS($A$5:B$5)),"")} | C16: {=IFERROR(INDEX(②金銭出納簿!$C$4:$M$564,MATCH(LARGE((②金銭出納簿!$G$4:$G$564=$A$1)*1/ROW(②金銭出納簿!$C$4:$C$564),ROWS($A$18:$A27)),1/ROW(②金銭出納簿!$C$4:$C$564),0),COLUMNS($A$5:C$5)),"")} | D16: {=IFERROR(INDEX(②金銭出納簿!$C$4:$M$564,MATCH(LARGE((②金銭出納簿!$G$4:$G$564=$A$1)*1/ROW(②金銭出納簿!$C$4:$C$564),ROWS($A$18:$A27)),1/ROW(②金銭出納簿!$C$4:$C$564),0),COLUMNS($A$5:D$5)),"")} | E16: {=IFERROR(INDEX(②金銭出納簿!$C$4:$M$564,MATCH(LARGE((②金銭出納簿!$G$4:$G$564=$A$1)*1/ROW(②金銭出納簿!$C$4:$C$564),ROWS($A$18:$A27)),1/ROW(②金銭出納簿!$C$4:$C$564),0),COLUMNS($A$5:E$5)),"")} | F16: {=IFERROR(INDEX(②金銭出納簿!$C$4:$M$564,MATCH(LARGE((②金銭出納簿!$G$4:$G$564=$A$1)*1/ROW(②金銭出納簿!$C$4:$C$564),ROWS($A$18:$A27)),1/ROW(②金銭出納簿!$C$4:$C$564),0),COLUMNS($A$5:F$5)),"")} | G16: {=IFERROR(INDEX(②金銭出納簿!$C$4:$M$564,MATCH(LARGE((②金銭出納簿!$G$4:$G$564=$A$1)*1/ROW(②金銭出納簿!$C$4:$C$564),ROWS($A$18:$A27)),1/ROW(②金銭出納簿!$C$4:$C$564),0),COLUMNS($A$5:G$5)),"")} | H16: {=IFERROR(INDEX(②金銭出納簿!$C$4:$M$564,MATCH(LARGE((②金銭出納簿!$G$4:$G$564=$A$1)*1/ROW(②金銭出納簿!$C$4:$C$564),ROWS($A$18:$A27)),1/ROW(②金銭出納簿!$C$4:$C$564),0),COLUMNS($A$5:H$5)),"")} | ... J16: {=IFERROR(INDEX(②金銭出納簿!$C$4:$M$564,MATCH(LARGE((②金銭出納簿!$G$4:$G$564=$A$1)*1/ROW(②金銭出納簿!$C$4:$C$564),ROWS($A$18:$A27)),1/ROW(②金銭出納簿!$C$4:$C$564),0),COLUMNS($A$5:J$5)),"")} | K16: =IFERROR(K15+I16,"") | L16: =IFERROR(L15+J16,"")
A17: {=IFERROR(INDEX(②金銭出納簿!$C$4:$M$564,MATCH(LARGE((②金銭出納簿!$G$4:$G$564=$A$1)*1/ROW(②金銭出納簿!$C$4:$C$564),ROWS($A$18:$A28)),1/ROW(②金銭出納簿!$C$4:$C$564),0),COLUMNS($A$5:A$5)),"")} | B17: {=IFERROR(INDEX(②金銭出納簿!$C$4:$M$564,MATCH(LARGE((②金銭出納簿!$G$4:$G$564=$A$1)*1/ROW(②金銭出納簿!$C$4:$C$564),ROWS($A$18:$A28)),1/ROW(②金銭出納簿!$C$4:$C$564),0),COLUMNS($A$5:B$5)),"")} | C17: {=IFERROR(INDEX(②金銭出納簿!$C$4:$M$564,MATCH(LARGE((②金銭出納簿!$G$4:$G$564=$A$1)*1/ROW(②金銭出納簿!$C$4:$C$564),ROWS($A$18:$A28)),1/ROW(②金銭出納簿!$C$4:$C$564),0),COLUMNS($A$5:C$5)),"")} | D17: {=IFERROR(INDEX(②金銭出納簿!$C$4:$M$564,MATCH(LARGE((②金銭出納簿!$G$4:$G$564=$A$1)*1/ROW(②金銭出納簿!$C$4:$C$564),ROWS($A$18:$A28)),1/ROW(②金銭出納簿!$C$4:$C$564),0),COLUMNS($A$5:D$5)),"")} | E17: {=IFERROR(INDEX(②金銭出納簿!$C$4:$M$564,MATCH(LARGE((②金銭出納簿!$G$4:$G$564=$A$1)*1/ROW(②金銭出納簿!$C$4:$C$564),ROWS($A$18:$A28)),1/ROW(②金銭出納簿!$C$4:$C$564),0),COLUMNS($A$5:E$5)),"")} | F17: {=IFERROR(INDEX(②金銭出納簿!$C$4:$M$564,MATCH(LARGE((②金銭出納簿!$G$4:$G$564=$A$1)*1/ROW(②金銭出納簿!$C$4:$C$564),ROWS($A$18:$A28)),1/ROW(②金銭出納簿!$C$4:$C$564),0),COLUMNS($A$5:F$5)),"")} | G17: {=IFERROR(INDEX(②金銭出納簿!$C$4:$M$564,MATCH(LARGE((②金銭出納簿!$G$4:$G$564=$A$1)*1/ROW(②金銭出納簿!$C$4:$C$564),ROWS($A$18:$A28)),1/ROW(②金銭出納簿!$C$4:$C$564),0),COLUMNS($A$5:G$5)),"")} | H17: {=IFERROR(INDEX(②金銭出納簿!$C$4:$M$564,MATCH(LARGE((②金銭出納簿!$G$4:$G$564=$A$1)*1/ROW(②金銭出納簿!$C$4:$C$564),ROWS($A$18:$A28)),1/ROW(②金銭出納簿!$C$4:$C$564),0),COLUMNS($A$5:H$5)),"")} | ... J17: {=IFERROR(INDEX(②金銭出納簿!$C$4:$M$564,MATCH(LARGE((②金銭出納簿!$G$4:$G$564=$A$1)*1/ROW(②金銭出納簿!$C$4:$C$564),ROWS($A$18:$A28)),1/ROW(②金銭出納簿!$C$4:$C$564),0),COLUMNS($A$5:J$5)),"")} | K17: =IFERROR(K16+I17,"") | L17: =IFERROR(L16+J17,"")
